BEGIN:VCALENDAR
VERSION:2.0
PRODID:-//Oradea - ECPv5.1.1//NONSGML v1.0//EN
CALSCALE:GREGORIAN
METHOD:PUBLISH
X-WR-CALNAME:Oradea
X-ORIGINAL-URL:https://ghidlocal.com/oradea
X-WR-CALDESC:Events for Oradea
BEGIN:VTIMEZONE
TZID:Europe/Bucharest
BEGIN:DAYLIGHT
TZOFFSETFROM:+0200
TZOFFSETTO:+0300
TZNAME:EEST
DTSTART:20180325T010000
END:DAYLIGHT
BEGIN:STANDARD
TZOFFSETFROM:+0300
TZOFFSETTO:+0200
TZNAME:EET
DTSTART:20181028T010000
END:STANDARD
END:VTIMEZONE
BEGIN:VEVENT
DTSTART;TZID=Europe/Bucharest:20181005T180000
DTEND;TZID=Europe/Bucharest:20181006T233000
DTSTAMP:20260425T002959
CREATED:20181004T111442Z
LAST-MODIFIED:20181004T111442Z
UID:24109-1538762400-1538868600@ghidlocal.com
SUMMARY:Drive-in Movie Night
DESCRIPTION:Drive-in Movie Night\nDupa cum ne-am obisnuit cu „Outdoor Movie Night”\, iata vine cu editie speciala de final de sezon\, „Drive-in”\, poate chiar primul de acest gen din Oradea si inprejurime\nVei avea ocazia sa vizionezi un film din propria masina\, daca detii un sistem audio performant reprezinta un avantaj\, deoarece vei putea auzii sunetul filmului in masina ta!\nProiectia filmului va incepe in jurul ori 20:00.\nPentru alte detalii despre film ramai conectat cu evenimentul!\nAcces: inainte de ora 16:00 10 lei/pers\ndupa ora 16:00 15/pers\nAccesul auto liber. \n
URL:https://ghidlocal.com/oradea/eveniment/drive-in-movie-night/2018-10-05/
LOCATION:ShauaLive\, Șauaieu
CATEGORIES:Auto-Moto,Film
ATTACH;FMTTYPE=image/jpeg:https://cdn.cluj.com/ghidlocalcom/sites/2/2018/10/Drive-in-Movie-Night.jpg
END:VEVENT
BEGIN:VEVENT
DTSTART;TZID=Europe/Bucharest:20181006T090000
DTEND;TZID=Europe/Bucharest:20181006T150000
DTSTAMP:20260425T002959
CREATED:20181004T112722Z
LAST-MODIFIED:20181004T112722Z
UID:24112-1538816400-1538838000@ghidlocal.com
SUMMARY:Ziua Părinților Adoptivi
DESCRIPTION:Ziua Părinților Adoptivi\nÎn data de 06.10.2018\, între orele 9.00 – 15.00\, va avea loc cea de-a VIII-a ediție a Zilei Părinților Adoptivi\, zi în care părinții adoptivi vor avea oportunitatea să participe la activitățile zilnice din Grădina Zoologică.\nProgramul va începe cu urmărirea comportamentului animalelor\, curățenie și adăpatul animalelor\, după care va continua cu accesul în bucătăria Zoo\, unde părinții adoptivi vor afla detalii despre dieta fiecărui animal. Ulterior\, vor putea intra și hrăni caii\, poneii\, suricatele\, lemurienii\, papagalii\, totul sub stricta supraveghere a angajaților Grădinii Zoologice.\nPe tot parcursul programului\, angajații Zoo Oradea vor oferi detalii despre animalele pe care le au în grijă. \n
URL:https://ghidlocal.com/oradea/eveniment/ziua-parintilor-adoptivi/
LOCATION:ZOOO
CATEGORIES:Activitati pentru copii
ATTACH;FMTTYPE=image/jpeg:https://cdn.cluj.com/ghidlocalcom/sites/2/2018/10/Ziua-P%C4%83rin%C8%9Bilor-Adoptivi.jpg
END:VEVENT
BEGIN:VEVENT
DTSTART;TZID=Europe/Bucharest:20181006T120000
DTEND;TZID=Europe/Bucharest:20181006T150000
DTSTAMP:20260425T002959
CREATED:20181004T115317Z
LAST-MODIFIED:20181004T115317Z
UID:24128-1538827200-1538838000@ghidlocal.com
SUMMARY:Închiderea sezonului moto
DESCRIPTION:Închiderea sezonului moto \nVă așteptăm pe platoul din Centrul Civic \, Sâmbătă 6 Octombrie pentru parada de închidere a sezonului moto in Oradea. Inainte de pornire\, vom putea vorbi cu cei de la Cardaccident Bike\, care vor fi prezenti\, pentru mai multe detalii despre cardurile de accident pentru motociclisti. La finalul paradei organizatorii v-au pregătit o mică surpriză la BMW Grup West Premium \n
URL:https://ghidlocal.com/oradea/eveniment/inchiderea-sezonului-moto/
LOCATION:Parcul 1 Decembrie\, Piata 1 Decembrie\, Oradea\, Romania
CATEGORIES:Auto-Moto
ATTACH;FMTTYPE=image/jpeg:https://cdn.cluj.com/ghidlocalcom/sites/2/2018/10/%C3%8Enchiderea-sezonului-moto.jpg
END:VEVENT
BEGIN:VEVENT
DTSTART;TZID=Europe/Bucharest:20181006T230000
DTEND;TZID=Europe/Bucharest:20181006T233000
DTSTAMP:20260425T002959
CREATED:20181005T121805Z
LAST-MODIFIED:20181005T121805Z
UID:24153-1538866800-1538868600@ghidlocal.com
SUMMARY:OPTICK [at] Intense Saturdays
DESCRIPTION:OPTICK [at] Intense Saturdays\n  \n* 06 octombrie / sambata / Intense club\n* Dress code : casual\n* Acces de la ora 23:00\n* Rezervari : 0736 222 222\n* Dress Code : casual\n* Acces : 30 lei\n**************************************************\nLine up :\nOPTICK\nVLADIMIR\nCHROM\n**************************************************\n* Acces interzis persoanelor sub 18 ani\n* Persoanele aflate pe guest list si rezervarile au prioritate la intrare\n* Nu toleram comportamentul inadecvat\n* Ne rezervam dreptul de a selecta clientela\n************************************************** \n
URL:https://ghidlocal.com/oradea/eveniment/optick-at-intense-saturdays/
LOCATION:Intense
ATTACH;FMTTYPE=image/jpeg:https://cdn.cluj.com/ghidlocalcom/sites/2/2018/10/OPTICK-at-Intense-Saturdays.jpg
END:VEVENT
END:VCALENDAR