BEGIN:VCALENDAR
VERSION:2.0
PRODID:-//Oradea - ECPv5.1.1//NONSGML v1.0//EN
CALSCALE:GREGORIAN
METHOD:PUBLISH
X-WR-CALNAME:Oradea
X-ORIGINAL-URL:https://ghidlocal.com/oradea
X-WR-CALDESC:Events for Oradea
BEGIN:VTIMEZONE
TZID:Europe/Bucharest
BEGIN:DAYLIGHT
TZOFFSETFROM:+0200
TZOFFSETTO:+0300
TZNAME:EEST
DTSTART:20180325T010000
END:DAYLIGHT
BEGIN:STANDARD
TZOFFSETFROM:+0300
TZOFFSETTO:+0200
TZNAME:EET
DTSTART:20181028T010000
END:STANDARD
END:VTIMEZONE
BEGIN:VEVENT
DTSTART;TZID=Europe/Bucharest:20181004T190000
DTEND;TZID=Europe/Bucharest:20181004T203000
DTSTAMP:20260424T212629
CREATED:20181003T070025Z
LAST-MODIFIED:20181003T070025Z
UID:24078-1538679600-1538685000@ghidlocal.com
SUMMARY:Ursul și Cerere în căsătorie
DESCRIPTION:Ursul și Cerere în căsătorie\n  \nDe cât timp au nevoie doi tineri pasionali pentru a se îndrăgosti unul de celălalt? \nSubintitulată «Farsă într-un act»\, «Ursul» dezvăluie în mod concentrat\, comico-ironic\, o parte esenţială a naturii umane\, sugerând cât de apropiate sunt uneori furia şi pasiunea. Conflictul între ofiţerul Smirnov şi moşieriţa Popova înregistrează o serie de treceri bruşte de la ceartă la preparativele unui duel între cei doi\, apoi renunţarea lui Smirnov de a se lupta cu moşieriţa de care se îndrăgosteşte subit. \nDistribuţia: \nElena Ivanovna Popova\, moşieriţă\, o văduvioară durdulie: Ioana Dragoş Gajdo\nGrigori Stepanovici Smirnov\, moşier\, încă tânăr: Şerban Borda\nLuka\, servitorul Elenei Ivanovna\, bătrân: George Voinese \n_____\nCerere în căsătorie” vine în continuarea piesei „Ursul”\, utilizând aceeaşi distribuţie şi elemente regizorale înrudite. Povestea însăşi se aşază firesc în continuarea celei începute în „Ursul”. Astfel\, dacă în piesa anterioară doi tineri trec pe nesimţite de la conflict şi ură la iubire pasională\, în „Cerere în căsătorie” lucrurile sunt duse şi mai departe. A. P. Cehov surprinde iniţiativa lăudabilă a lui Ivan Vasilievici Lomov\, care doreşte să se însoare cu fiica vecinului său. \nÎnsă\, departe de romantismul şi armonia care se presupune că ar trebui să guverneze un astfel de moment unic\, cei doi potenţiali miri se ceartă aprig din motive derizorii. Ciocnirea personalităţilor lor puternice\, crizele de ipohondrie ale peţitorului\, încurcătura în care se găseşte tatăl miresei şi încercările sale disperate de a aplana răbufnirile celor doi tineri dau naştere unui comic de situaţie savuros. \nDistribuția: \nNatalia Stepanovna: Ioana Dragoş-Gajdo\nStepan Stepanovici Ciubukov: George Voinese\nIvan Vasilievici Lomov: Şerban Borda \nfoto afis Sebi Tont \n
URL:https://ghidlocal.com/oradea/eveniment/ursul-si-cerere-in-casatorie-2/
LOCATION:Teatrul Arcadia
CATEGORIES:Teatru
ATTACH;FMTTYPE=image/jpeg:https://cdn.cluj.com/ghidlocalcom/sites/2/2018/09/Ursul-%C8%99i-Cerere-%C3%AEn-c%C4%83s%C4%83torie.jpg
END:VEVENT
BEGIN:VEVENT
DTSTART;TZID=Europe/Bucharest:20181004T190000
DTEND;TZID=Europe/Bucharest:20181004T203000
DTSTAMP:20260424T212629
CREATED:20181003T074823Z
LAST-MODIFIED:20181003T074927Z
UID:24093-1538679600-1538685000@ghidlocal.com
SUMMARY:Oradea: Stand-up comedy cu Radu Bucălae\, George Tănase & Geo
DESCRIPTION:Oradea: Stand-up comedy cu Radu Bucălae\, George Tănase & Geo\n  \nRadu Bucălae\, Tănase George și George Adrian ajung la Oradea!\n? Stand-up comedy cu Radu Bucălae\, George Tănase & Geo\n? Green Pub Oradea\n? Joi\, 11 Octombrie\n? 19:00\n? Bilete: https://bit.ly/2NdOq0F și la Green Pub (?Piața Unirii\, Nr. 2-4\, Oradea)\n? Informații: 0771 721 923 \n
URL:https://ghidlocal.com/oradea/eveniment/oradea-stand-up-comedy-cu-radu-bucalae-george-tanase-geo/
LOCATION:Green Pub Oradea\, Piața Unirii\, numărul 2 - 4\, Pasaj Vulturul Negru\, Oradea\, Bihor\, România
CATEGORIES:Divertisment
ATTACH;FMTTYPE=image/jpeg:https://cdn.cluj.com/ghidlocalcom/sites/2/2018/10/Oradea-Stand-up-comedy-cu-Radu-Buc%C4%83lae-George-T%C4%83nase-Geo.jpg
END:VEVENT
BEGIN:VEVENT
DTSTART;TZID=Europe/Bucharest:20181004T200000
DTEND;TZID=Europe/Bucharest:20181004T233000
DTSTAMP:20260424T212629
CREATED:20181003T064800Z
LAST-MODIFIED:20181003T064800Z
UID:24076-1538683200-1538695800@ghidlocal.com
SUMMARY:Karaoke Nights
DESCRIPTION:Karaoke Nights\nAtenție! Se cântă!!! \nÎn fiecare Joi\, ora 20:00\, te așteptăm sa fii starul serii!\nÎncântă-ne cu distracție si voie bună! \nP.S: Promoțiile sunt de nelipsit ! \nRezervări: 0359 467 166 \n
URL:https://ghidlocal.com/oradea/eveniment/karaoke-nights-2/
LOCATION:Black & White Oradea\, str. Motilor nr. 2\, 410089\, Oradea
CATEGORIES:Divertisment
ATTACH;FMTTYPE=image/jpeg:https://cdn.cluj.com/ghidlocalcom/sites/2/2018/10/Karaoke-Nights.jpg
END:VEVENT
BEGIN:VEVENT
DTSTART;TZID=Europe/Bucharest:20181004T200000
DTEND;TZID=Europe/Bucharest:20181004T220000
DTSTAMP:20260424T212629
CREATED:20181003T072529Z
LAST-MODIFIED:20181003T072529Z
UID:24083-1538683200-1538690400@ghidlocal.com
SUMMARY:Am Fost La Munte Și Mi-a Plăcut în Oradea
DESCRIPTION:Am Fost La Munte Și Mi-a Plăcut în Oradea\nAm Fost La Munte și Mi-a Plăcut vine pentru prima oară la Oradea. \nB Ă I E Ț I I aduc cu ei piese de pe toate materialele trupei deja lansate\, dar și piese în primă audiție. \nAm Fost La Munte și Mi-a Plăcut este o trupă de post-rock fondată în 2015\, inițial ca un one-man project al lui Vlad Enescu\, basistul trupei de progressive-metal\, Axial Lead. La aproximativ 6 luni de la lansarea primului EP „Susurul Râurilor Care Curg în Jos\, sau în Sus\, Depinde Cum Te Uiți”\, în luna iulie a anului 2016 s-a închegat un grup în toată regula și lui Vlad i s-au alăturat Matei Pușcaru la bass (:umbra\, NoruNegru)\, Stere Câmpean la tobe (Stema\, :umbra) și Mircea Becherescu la chitară (ex Aeon Blank & Sunet Fin). \nAșa că pe 04.10. B Ă E Ț I I vă fac program și vă așteaptă în club Moszkva la o porție de post-rock de foarte bună calitate. \nBiletele s-au pus în vânzare la bar în Moszkva şi costă 15 lei în avans (limitat la 100 de bilete) sau 20 de lei în ziua evenimentului la intrare. Biletele se găsesc și online pe iaBilet.ro https://www.iabilet.ro/bilete-am-fost-la-munte-si-mi-a-placut-in-oradea-35381/ \n
URL:https://ghidlocal.com/oradea/eveniment/am-fost-la-munte-si-mi-a-placut-in-oradea/
LOCATION:Moszkva Kávézó\, str. Moscovei no.8\, Oradea\, 410001\, RO
CATEGORIES:Concerte
ATTACH;FMTTYPE=image/png:https://cdn.cluj.com/ghidlocalcom/sites/2/2018/09/Am-Fost-La-Munte-%C8%99i-Mi-a-Pl%C4%83cut-vine-pentru-prima-oar%C4%83-la-Oradea.png
END:VEVENT
BEGIN:VEVENT
DTSTART;TZID=Europe/Bucharest:20181004T210000
DTEND;TZID=Europe/Bucharest:20181004T233000
DTSTAMP:20260424T212630
CREATED:20181003T071840Z
LAST-MODIFIED:20181003T071840Z
UID:24080-1538686800-1538695800@ghidlocal.com
SUMMARY:Trupa West LIVE in Columbus
DESCRIPTION:Trupa West LIVE in Columbus\n  \nColumbus cafe vă invită la un eveniment inedit cu muzica LIVE! Trupa West va cânta în fiecare Joi seara în Columbus începând cu ora 21:00. \nStilurile muzicale cantate de ei sunt Pop\, Rock\, Blues\, Smooth Jazz\, Disco\, Latino\, Dance\, Alternative\, R&B\, Rock&Roll\, World Music. \nVă așteptăm! Intrare Libera. \nPentru rezervări: 0359 800 001 \n
URL:https://ghidlocal.com/oradea/eveniment/trupa-west-live-in-columbus/
LOCATION:Columbus Cafe Oradea
CATEGORIES:Concerte
ATTACH;FMTTYPE=image/jpeg:https://cdn.cluj.com/ghidlocalcom/sites/2/2018/10/Trupa-West-LIVE-in-Columbus.jpg
END:VEVENT
END:VCALENDAR