BEGIN:VCALENDAR
VERSION:2.0
PRODID:-//Oradea - ECPv5.1.1//NONSGML v1.0//EN
CALSCALE:GREGORIAN
METHOD:PUBLISH
X-WR-CALNAME:Oradea
X-ORIGINAL-URL:https://ghidlocal.com/oradea
X-WR-CALDESC:Events for Oradea
BEGIN:VTIMEZONE
TZID:Europe/Bucharest
BEGIN:DAYLIGHT
TZOFFSETFROM:+0200
TZOFFSETTO:+0300
TZNAME:EEST
DTSTART:20180325T010000
END:DAYLIGHT
BEGIN:STANDARD
TZOFFSETFROM:+0300
TZOFFSETTO:+0200
TZNAME:EET
DTSTART:20181028T010000
END:STANDARD
END:VTIMEZONE
BEGIN:VEVENT
DTSTART;TZID=Europe/Bucharest:20180927T190000
DTEND;TZID=Europe/Bucharest:20180929T233000
DTSTAMP:20260424T142055
CREATED:20180925T073013Z
LAST-MODIFIED:20180925T073013Z
UID:23948-1538074800-1538263800@ghidlocal.com
SUMMARY:Oktoberfest
DESCRIPTION:Oktoberfest\n  \nMuzică LIVE alături de prietenii noștrii de la 12 Noaptea: Mihai Lipai și trupa: Tamás Paskuy chitara\, Semro Remus pian\, Chereji Alin-doru percutie\, Valer Florian bass.\n15 tipuri de bere artizanală si 15 de bere clasica susținute de mâncăruri delicioase. \nRezervări se pot face la numărul de telefon 0770 489 960.\nIntrarea este liberă. \n
URL:https://ghidlocal.com/oradea/eveniment/oktoberfest/2018-09-27/
LOCATION:Bavaria Restaurant&Pub
CATEGORIES:Concerte
ATTACH;FMTTYPE=image/jpeg:https://cdn.cluj.com/ghidlocalcom/sites/2/2018/09/Oktoberfest.jpg
END:VEVENT
BEGIN:VEVENT
DTSTART;TZID=Europe/Bucharest:20180928T090000
DTEND;TZID=Europe/Bucharest:20180929T170000
DTSTAMP:20260424T142055
CREATED:20180816T142258Z
LAST-MODIFIED:20180913T061357Z
UID:23309-1538125200-1538240400@ghidlocal.com
SUMMARY:Curs Public speaking skills
DESCRIPTION:Public speaking skills\nAbilitatea de a ține un discurs sau o prezentare în public este astăzi indispensabilă. \nDe fluența discursului nostru și de capacitatea acestuia de a convinge depind\, de multe ori\, reușitele noastre profesionale și personale. Ca observație generală însă\, putem spune că toți vorbitorii în public\, trainerii\, coach-ii\, antreprenorii care iși doresc să împartașească din experinețele lor\, cu toții sunt interesați de conținutul discursului lor. Prea puțini pun accent pe tehnica livrării. Paraverbal si nonverbal\, adică intonație și frazare\, ritm și volum\, gestionarea emoțiilor\, atitudine\, calibrare și raportare la public sau folosirea cu profesionalism a momentelor de tăcere. \nToate cele enumerate anterior fac subiectul cursului Public Speaking susținut de Mihaela Tatu. \nCui se adresează acest curs?\nAcest curs se adresează în deosebi persoanelor care:\n• Doresc să îți înlocuiască vechile obiceiuri de vorbire cu altele noi\, corecte;\n• Vor să își învingă teama\, naturală\, de a vorbi în public;\n• Doresc să afle toate elementele care alcătuiesc vorbirea corectă. \nÎNSCRIERI: office@corporactive.ro | 0749 206 119 \nCurricula cursului\nTehnica Prezentării\n• Fazele pregătirii unei prezentări;\n• Gestionarea și controlul emoțiilor;\n• Apariția și discursul în fața unei audiențe;\n• Dozarea efortului\, menținerea atenției active;\n• Punți emoționale cu auditoriul; publicul ca partener de scenă;\n• Exerciții pentru reglarea tonalității\, intonației\, claritatea vorbirii\, ritmul vorbirii;\n• Descoperirea și analizarea calităților naturale ale fiecărui participant. \nTehnica Vorbirii\n• Tipuri de respirație. Exerciții pentru controlul respirației;\n• Rostirea corectă. Exerciții pentru pronunția corectă a vocalelor și consoanelor;\n• Registrele vocii umane. Timbrul vocal;\n• Poziții corporale optime pentru o emisie vocală optimă;\n• Tehnici de încălzire ale aparatului fonorespirator înaintea susținerii unei prezentări;\n• Trucuri actoricești pentru depășirea unor neajunsuri care pot incomoda vorbitorul în timpul unei prezentări (gura uscată\, senzația de sufocare etc.) \nÎNSCRIERI: office@corporactive.ro | 0749 206 119 \nCompetențe profesionale dobândite\n• Înțelegerea principiilor de adaptare a informației în funcție de tipul și scopul prezentării;\n• Înțelegerea tipurilor de structurare a prezentării și stabilirea unghiului de abordare în funcție de public;\n• Dobândirea abilităților de project management în realizarea unei prezentări;\n• Dobândirea noțiunilor practice necesare unei prezentări ușor de receptat;\n• Conștientizarea și exersarea metodelor de îmbunătățire a comunicării verbale\, paraverbale și nonverbale;\n• Creșterea nivelului de încredere în propria persoană;\n• Depășirea barierelor auto-impuse în procesul de comunicare. \nÎNSCRIERI: office@corporactive.ro | 0749 206 119 \n
URL:https://ghidlocal.com/oradea/eveniment/public-speaking-skills/
LOCATION:Corporactive Consulting\, Olteniei\, nr. 67\, Oradea\, 410538\, RO
CATEGORIES:Business,Conferinte,Workshop
ATTACH;FMTTYPE=image/jpeg:https://cdn.cluj.com/ghidlocalcom/sites/2/2018/08/39393143_1657853914318518_8485373660423520256_o.jpg
END:VEVENT
BEGIN:VEVENT
DTSTART;TZID=Europe/Bucharest:20180928T100000
DTEND;TZID=Europe/Bucharest:20180930T220000
DTSTAMP:20260424T142055
CREATED:20180925T081047Z
LAST-MODIFIED:20180925T081047Z
UID:23961-1538128800-1538344800@ghidlocal.com
SUMMARY:Festivalul Mustului - Ediția a III a
DESCRIPTION:Festivalul Mustului – Ediția a III a\n  \nVa invităm în parcul „Nicolae Bălcescu” pentru a participa la a treia ediție a Festivalului Mustului.\nO manifestare gustoasă\, în care strugurii vor fi storși pe loc\, iar mustul oferit spre degustare și cumpărare.\nEvenimentul se desfășoară în perioada 28 – 30 Septembrie 2018\, accesul este liber\, iar programul este următorul: \nVineri 10:00 – 17:00 Muzica Ambientala\nVineri 17:00 – 18:15 Ansamblul DATINA HIDISELULUI – coord.Dana Pop\nVineri 18:15 – 20:00 Ansamblul NUNTASII BIHORULUI– coord.Florica Ruja\n– Vor canta artisti : Antonela Ferche Butiu\, Florica Ruja\, Mariana Militaru Blaj\, Ciprian Mocan\, Roxana Berinde\, Mihai Jula\, Teodora Sandru\, Alexandru Cartis\, Alexandra Durgheu\, Cristian Mihoc\n– Si copii : Bianca Risco\, Denisa Briscan\, Catalin Bulgaru\, Alexandra Bus\, Vanesa Cazacu\, Alex David si Sarah Cazacu\nVineri 20:00 – Din Maramures DANA TELEPTEAN cu formatia. \nSambata 10:00 – 16:00 Muzica Ambientala\nSambata 16:00 – 17:30 Trupa Karisma Vocal Band – coord.Oprescu Dana\nSambata 17:30 – 19:00 Trupa Vivere – coord. Valeria Miscutia\nSambata 19:00 – 19:45 Trupa de Dans Israelian OR NEURIM – coord. Chelu Alexandrina\nSambata 19:45 – 20:30 BRIGITTA MOHACSI \nDuminica 10:00 – 15:30 Muzica Ambientala\nDuminica 15:30 – 16:00 Surorile Ghib\nDuminica 16:00 – 17:30 Grupul Vocal al Palatului Copiilor – coord. Anamaria Gal\nDuminica 17:30 – 19:00 ANSAMBLUL BIHORU – coord. Ioan Silaghi\nDuminica 19:30 – CIPRIAN ZOPOTA cu formatia. \n
URL:https://ghidlocal.com/oradea/eveniment/festivalul-mustului-editia-a-iii-a/2018-09-28/
LOCATION:Restaurant La Moroșanu’ – Parcul Bălcescu
CATEGORIES:Festival
ATTACH;FMTTYPE=image/jpeg:https://cdn.cluj.com/ghidlocalcom/sites/2/2018/09/Festivalul-Mustului-Editia-a-III-a.jpg
END:VEVENT
BEGIN:VEVENT
DTSTART;TZID=Europe/Bucharest:20180929T100000
DTEND;TZID=Europe/Bucharest:20180929T180000
DTSTAMP:20260424T142055
CREATED:20180925T071630Z
LAST-MODIFIED:20180925T071630Z
UID:23939-1538215200-1538244000@ghidlocal.com
SUMMARY:Arts & Crafts: Handmade Fair
DESCRIPTION:Arts & Crafts: Handmade Fair\n  \n#newdate Ce poate fi mai frumos decât bucurându-ne de lucrurile mărunte? \nPe 29 Septembrie\, la Strings Café & Pub avem plăcerea de a va prezenta\, într-o prima ediție\, minunatele obiecte artizanale făcute cu pasiune și din inimă de către artiștii locali.\nTotodata\, la Strings Café & Pub veți putea regăsi în meniul nostru\, gusturile unice ale toamnei!\nVă așteptăm cu obiecte din suflet făurite\, cafele\, ceaiuri\, ciocolată caldă\, cu arome de scorțișoară\, portocale\, dovlecei și\, de ce nu?!\, nelipsitul vin fiert! \nYumm!! Noi abia așteptăm! Dar voi? \n
URL:https://ghidlocal.com/oradea/eveniment/arts-crafts-handmade-fair/
LOCATION:Strings Café & Pub
CATEGORIES:Targ
ATTACH;FMTTYPE=image/jpeg:https://cdn.cluj.com/ghidlocalcom/sites/2/2018/09/Arts-Crafts-Handmade-Fair.jpg
END:VEVENT
BEGIN:VEVENT
DTSTART;TZID=Europe/Bucharest:20180929T120000
DTEND;TZID=Europe/Bucharest:20180929T223000
DTSTAMP:20260424T142055
CREATED:20180912T064425Z
LAST-MODIFIED:20180912T064425Z
UID:23703-1538222400-1538260200@ghidlocal.com
SUMMARY:Apus de septembrie din Turnul Primariei Oradea
DESCRIPTION:Apus de septembrie din Turnul Primariei Oradea\n  \nLuna septembrie aduce pentru voi o sâmbătă cu vizită de seară în Turnul Primăriei\, 29 septembrie. Pentru ca serile de septembrie sunt mai răcoroase\, dar apusurile mai frumoase\, am modificat orele de program: 12:00 – 22:00.\nTe asteptăm in turn! \nTariful de vizitare:\n5 lei / persoană – cetăţeni români şi/sau străini;\n3 lei / persoană – elevi\, studenţi\, pensionari\, persoane cu handicap\, grupuri organizate mai mari de 10 persoane.\ngratuit – pentru copiii cu vârste de până la 7 ani. \n
URL:https://ghidlocal.com/oradea/eveniment/apus-de-septembrie/
LOCATION:Turnul Primăriei Oradea\, Strada Tudor Vladimirescu nr. 2\, 410100\, Oradea
CATEGORIES:Activitati pentru copii,Turism
ATTACH;FMTTYPE=image/jpeg:https://cdn.cluj.com/ghidlocalcom/sites/2/2018/09/Apus-de-septembrie-din-Turnul-Primariei-Oradea.jpg
END:VEVENT
BEGIN:VEVENT
DTSTART;TZID=Europe/Bucharest:20180929T203000
DTEND;TZID=Europe/Bucharest:20180929T220000
DTSTAMP:20260424T142055
CREATED:20180925T085935Z
LAST-MODIFIED:20180925T085935Z
UID:23977-1538253000-1538258400@ghidlocal.com
SUMMARY:Vizionare de film documentar: „Suntem evrei din Wrocław”
DESCRIPTION:Vizionare de film documentar: „Suntem evrei din Wrocław”\n  \n”Erau tineri și priveau cu speranță și încredere spre viitor. Anii de copilărie\, adolescența și-au petrecut în orașul lor natal îndrăgit\, Wrocław\, care pe atunci adăpostea cea de-a treia mare comunitate evreiască din Germania.” 14 povești cutremurătoare relatate într-un documentar de 108 minute\, regizat de Karin Kaper și Dirk Szuszies –\n„Suntem evrei din Wrocław” \nVă invităm să vizionați filmul documentar „Suntem evrei din Wrocław” și să vă întâlniți cu regizorii lui\, Karin Kaper și Dirk Szuszies. \nSâmbătă\, 29 septembrie 2018\, ora 20.30.\nSubtitrat în limba engleză.\nIntrarea este liberă. \nEveniment organizat de regizorii (Karin Kaper și Dirk Szuszies)\, respectiv de Colectivul de Limbă şi Literatură Germană (Departamentul de Limbă și Literatură) al Universității Creștine Partium\, în parteneriat cu Comunitatea Evreilor din Oradea și Primăria Municipiului Oradea prin Fundația de Protejare a Monumentelor Istorice din județul Bihor (Oradea Heritage). \n
URL:https://ghidlocal.com/oradea/eveniment/vizionare-de-film-documentar-suntem-evrei-din-wroclaw/
LOCATION:Sinagoga Neologa Sion
CATEGORIES:Film
ATTACH;FMTTYPE=image/jpeg:https://cdn.cluj.com/ghidlocalcom/sites/2/2018/09/Vizionare-de-film-documentar-%E2%80%9ESuntem-evrei-din-Wroc%C5%82aw%E2%80%9D.jpg
END:VEVENT
BEGIN:VEVENT
DTSTART;TZID=Europe/Bucharest:20180929T213000
DTEND;TZID=Europe/Bucharest:20180930T223000
DTSTAMP:20260424T142055
CREATED:20180925T090601Z
LAST-MODIFIED:20180925T090601Z
UID:23982-1538256600-1538346600@ghidlocal.com
SUMMARY:FITO 2018 | Spectacole în aer liber
DESCRIPTION:FITO 2018 | Spectacole în aer liber\n  \nProgramul spectacolelor din cadrul FITO care vor avea loc pe scena mobilă amplasată în Piața Regele Ferdinand I și în Piața Unirii! \n? Mai multe informații aici: https://fitoradea.ro/ \n? Sâmbătă\, 29 septembrie\, ora 21:30 – Piața Regele Ferdinand I (Scena Mobilă) | EUTOPIA\, de Yannis Margaritis după Aristofan\, regia Yannis Margaritis – Teatrul de Stat Constanța – INTRARE LIBERĂ ❗ \n? Duminică\, 30 septembrie\, ora 21:00 – Piața Regele Ferdinand I I CONCERT ÎN 2\, cu Ada Milea și Bobo Burlăcianu – INTRARE LIBERĂ ❗ \nFestivalul Internațional de Teatru Oradea (23-30 septembrie) este un eveniment organizat de Teatrul Regina Maria\, în parteneriat cu Consiliul Județean Bihor\, Primăria Municipiului Oradea\, Fundaţia Culturală FITO şi UNITER. \n
URL:https://ghidlocal.com/oradea/eveniment/fito-2018-spectacole-in-aer-liber-2/2018-09-29/
CATEGORIES:Teatru
ATTACH;FMTTYPE=image/jpeg:https://cdn.cluj.com/ghidlocalcom/sites/2/2018/09/FITO-2018-Spectacole-%C3%AEn-aer-liber.jpg
END:VEVENT
BEGIN:VEVENT
DTSTART;TZID=Europe/Bucharest:20180929T230000
DTEND;TZID=Europe/Bucharest:20180929T233000
DTSTAMP:20260424T142056
CREATED:20180925T082946Z
LAST-MODIFIED:20180925T082946Z
UID:23968-1538262000-1538263800@ghidlocal.com
SUMMARY:Tendix X Mentol
DESCRIPTION:Tendix X Mentol\n  \nJoin us Saturday 29.09.2018 to celebrate TENDIX \, our resident dj !\nWHY ? Because it’s his BIRTHDAY !\nAnd guess who will be our special guest…\nYES you were right ! DJ MENTOL ! \nSo don’t make any plans for saturday night and join us . \nFree entry for the ladies \, and 10 RON for the gents . \n#SambatalaGreen\n#joinUSorWatchUS \n
URL:https://ghidlocal.com/oradea/eveniment/tendix-x-mentol/
LOCATION:Green Pub Oradea\, Piața Unirii\, numărul 2 - 4\, Pasaj Vulturul Negru\, Oradea\, Bihor\, România
CATEGORIES:Petrecere
ATTACH;FMTTYPE=image/jpeg:https://cdn.cluj.com/ghidlocalcom/sites/2/2018/09/Tendix-X-Mentol.jpg
END:VEVENT
END:VCALENDAR