BEGIN:VCALENDAR
VERSION:2.0
PRODID:-//Oradea - ECPv5.1.1//NONSGML v1.0//EN
CALSCALE:GREGORIAN
METHOD:PUBLISH
X-WR-CALNAME:Oradea
X-ORIGINAL-URL:https://ghidlocal.com/oradea
X-WR-CALDESC:Events for Oradea
BEGIN:VTIMEZONE
TZID:Europe/Bucharest
BEGIN:DAYLIGHT
TZOFFSETFROM:+0200
TZOFFSETTO:+0300
TZNAME:EEST
DTSTART:20180325T010000
END:DAYLIGHT
BEGIN:STANDARD
TZOFFSETFROM:+0300
TZOFFSETTO:+0200
TZNAME:EET
DTSTART:20181028T010000
END:STANDARD
END:VTIMEZONE
BEGIN:VEVENT
DTSTART;TZID=Europe/Bucharest:20180927T190000
DTEND;TZID=Europe/Bucharest:20180929T233000
DTSTAMP:20260424T005359
CREATED:20180925T073013Z
LAST-MODIFIED:20180925T073013Z
UID:23948-1538074800-1538263800@ghidlocal.com
SUMMARY:Oktoberfest
DESCRIPTION:Oktoberfest\n  \nMuzică LIVE alături de prietenii noștrii de la 12 Noaptea: Mihai Lipai și trupa: Tamás Paskuy chitara\, Semro Remus pian\, Chereji Alin-doru percutie\, Valer Florian bass.\n15 tipuri de bere artizanală si 15 de bere clasica susținute de mâncăruri delicioase. \nRezervări se pot face la numărul de telefon 0770 489 960.\nIntrarea este liberă. \n
URL:https://ghidlocal.com/oradea/eveniment/oktoberfest/2018-09-27/
LOCATION:Bavaria Restaurant&Pub
CATEGORIES:Concerte
ATTACH;FMTTYPE=image/jpeg:https://cdn.cluj.com/ghidlocalcom/sites/2/2018/09/Oktoberfest.jpg
END:VEVENT
BEGIN:VEVENT
DTSTART;TZID=Europe/Bucharest:20180928T090000
DTEND;TZID=Europe/Bucharest:20180929T170000
DTSTAMP:20260424T005359
CREATED:20180816T142258Z
LAST-MODIFIED:20180913T061357Z
UID:23309-1538125200-1538240400@ghidlocal.com
SUMMARY:Curs Public speaking skills
DESCRIPTION:Public speaking skills\nAbilitatea de a ține un discurs sau o prezentare în public este astăzi indispensabilă. \nDe fluența discursului nostru și de capacitatea acestuia de a convinge depind\, de multe ori\, reușitele noastre profesionale și personale. Ca observație generală însă\, putem spune că toți vorbitorii în public\, trainerii\, coach-ii\, antreprenorii care iși doresc să împartașească din experinețele lor\, cu toții sunt interesați de conținutul discursului lor. Prea puțini pun accent pe tehnica livrării. Paraverbal si nonverbal\, adică intonație și frazare\, ritm și volum\, gestionarea emoțiilor\, atitudine\, calibrare și raportare la public sau folosirea cu profesionalism a momentelor de tăcere. \nToate cele enumerate anterior fac subiectul cursului Public Speaking susținut de Mihaela Tatu. \nCui se adresează acest curs?\nAcest curs se adresează în deosebi persoanelor care:\n• Doresc să îți înlocuiască vechile obiceiuri de vorbire cu altele noi\, corecte;\n• Vor să își învingă teama\, naturală\, de a vorbi în public;\n• Doresc să afle toate elementele care alcătuiesc vorbirea corectă. \nÎNSCRIERI: office@corporactive.ro | 0749 206 119 \nCurricula cursului\nTehnica Prezentării\n• Fazele pregătirii unei prezentări;\n• Gestionarea și controlul emoțiilor;\n• Apariția și discursul în fața unei audiențe;\n• Dozarea efortului\, menținerea atenției active;\n• Punți emoționale cu auditoriul; publicul ca partener de scenă;\n• Exerciții pentru reglarea tonalității\, intonației\, claritatea vorbirii\, ritmul vorbirii;\n• Descoperirea și analizarea calităților naturale ale fiecărui participant. \nTehnica Vorbirii\n• Tipuri de respirație. Exerciții pentru controlul respirației;\n• Rostirea corectă. Exerciții pentru pronunția corectă a vocalelor și consoanelor;\n• Registrele vocii umane. Timbrul vocal;\n• Poziții corporale optime pentru o emisie vocală optimă;\n• Tehnici de încălzire ale aparatului fonorespirator înaintea susținerii unei prezentări;\n• Trucuri actoricești pentru depășirea unor neajunsuri care pot incomoda vorbitorul în timpul unei prezentări (gura uscată\, senzația de sufocare etc.) \nÎNSCRIERI: office@corporactive.ro | 0749 206 119 \nCompetențe profesionale dobândite\n• Înțelegerea principiilor de adaptare a informației în funcție de tipul și scopul prezentării;\n• Înțelegerea tipurilor de structurare a prezentării și stabilirea unghiului de abordare în funcție de public;\n• Dobândirea abilităților de project management în realizarea unei prezentări;\n• Dobândirea noțiunilor practice necesare unei prezentări ușor de receptat;\n• Conștientizarea și exersarea metodelor de îmbunătățire a comunicării verbale\, paraverbale și nonverbale;\n• Creșterea nivelului de încredere în propria persoană;\n• Depășirea barierelor auto-impuse în procesul de comunicare. \nÎNSCRIERI: office@corporactive.ro | 0749 206 119 \n
URL:https://ghidlocal.com/oradea/eveniment/public-speaking-skills/
LOCATION:Corporactive Consulting\, Olteniei\, nr. 67\, Oradea\, 410538\, RO
CATEGORIES:Business,Conferinte,Workshop
ATTACH;FMTTYPE=image/jpeg:https://cdn.cluj.com/ghidlocalcom/sites/2/2018/08/39393143_1657853914318518_8485373660423520256_o.jpg
END:VEVENT
BEGIN:VEVENT
DTSTART;TZID=Europe/Bucharest:20180928T100000
DTEND;TZID=Europe/Bucharest:20180930T220000
DTSTAMP:20260424T005359
CREATED:20180925T081047Z
LAST-MODIFIED:20180925T081047Z
UID:23961-1538128800-1538344800@ghidlocal.com
SUMMARY:Festivalul Mustului - Ediția a III a
DESCRIPTION:Festivalul Mustului – Ediția a III a\n  \nVa invităm în parcul „Nicolae Bălcescu” pentru a participa la a treia ediție a Festivalului Mustului.\nO manifestare gustoasă\, în care strugurii vor fi storși pe loc\, iar mustul oferit spre degustare și cumpărare.\nEvenimentul se desfășoară în perioada 28 – 30 Septembrie 2018\, accesul este liber\, iar programul este următorul: \nVineri 10:00 – 17:00 Muzica Ambientala\nVineri 17:00 – 18:15 Ansamblul DATINA HIDISELULUI – coord.Dana Pop\nVineri 18:15 – 20:00 Ansamblul NUNTASII BIHORULUI– coord.Florica Ruja\n– Vor canta artisti : Antonela Ferche Butiu\, Florica Ruja\, Mariana Militaru Blaj\, Ciprian Mocan\, Roxana Berinde\, Mihai Jula\, Teodora Sandru\, Alexandru Cartis\, Alexandra Durgheu\, Cristian Mihoc\n– Si copii : Bianca Risco\, Denisa Briscan\, Catalin Bulgaru\, Alexandra Bus\, Vanesa Cazacu\, Alex David si Sarah Cazacu\nVineri 20:00 – Din Maramures DANA TELEPTEAN cu formatia. \nSambata 10:00 – 16:00 Muzica Ambientala\nSambata 16:00 – 17:30 Trupa Karisma Vocal Band – coord.Oprescu Dana\nSambata 17:30 – 19:00 Trupa Vivere – coord. Valeria Miscutia\nSambata 19:00 – 19:45 Trupa de Dans Israelian OR NEURIM – coord. Chelu Alexandrina\nSambata 19:45 – 20:30 BRIGITTA MOHACSI \nDuminica 10:00 – 15:30 Muzica Ambientala\nDuminica 15:30 – 16:00 Surorile Ghib\nDuminica 16:00 – 17:30 Grupul Vocal al Palatului Copiilor – coord. Anamaria Gal\nDuminica 17:30 – 19:00 ANSAMBLUL BIHORU – coord. Ioan Silaghi\nDuminica 19:30 – CIPRIAN ZOPOTA cu formatia. \n
URL:https://ghidlocal.com/oradea/eveniment/festivalul-mustului-editia-a-iii-a/2018-09-28/
LOCATION:Restaurant La Moroșanu’ – Parcul Bălcescu
CATEGORIES:Festival
ATTACH;FMTTYPE=image/jpeg:https://cdn.cluj.com/ghidlocalcom/sites/2/2018/09/Festivalul-Mustului-Editia-a-III-a.jpg
END:VEVENT
BEGIN:VEVENT
DTSTART;TZID=Europe/Bucharest:20180928T230000
DTEND;TZID=Europe/Bucharest:20180928T233000
DTSTAMP:20260424T005359
CREATED:20180925T075650Z
LAST-MODIFIED:20180925T075650Z
UID:23957-1538175600-1538177400@ghidlocal.com
SUMMARY:Pre Opening - Chapter 2 with Brigado Crew
DESCRIPTION:Pre Opening – Chapter 2 with Brigado Crew\n  \n* Asa cum e și denumit\, evenimentul precede deschiderea oficială a sezonului 2 Intense . Totodată sărbătorim și 6 ani de prezență pe piața din Oradea a partenerilor noștri ARED .\n* 28 septembrie / ora 23:00 / Intense club\n* Biletele se achiziționează la intrare\n* Dress code : casual\n* Acces de la ora 23:00\n* Rezervări : 0736 222 222\n**************************************************\nLine up :\nBRIGADO CREW (Diynamic \, Omnia ) Argentina\nHOUSEBOY\nVLADIMIR\n**************************************************\n* Acces interzis persoanelor sub 18 ani\n* Nu toleram comportamentul inadecvat\n* Ne rezervam dreptul de a selecta clientela\n************************************************** \n  \n  \n
URL:https://ghidlocal.com/oradea/eveniment/pre-opening-chapter-2-with-brigado-crew/
LOCATION:Intense
CATEGORIES:Petrecere
ATTACH;FMTTYPE=image/jpeg:https://cdn.cluj.com/ghidlocalcom/sites/2/2018/09/Pre-Opening-Chapter-2-with-Brigado-Crew.jpg
END:VEVENT
END:VCALENDAR