BEGIN:VCALENDAR
VERSION:2.0
PRODID:-//Oradea - ECPv5.1.1//NONSGML v1.0//EN
CALSCALE:GREGORIAN
METHOD:PUBLISH
X-WR-CALNAME:Oradea
X-ORIGINAL-URL:https://ghidlocal.com/oradea
X-WR-CALDESC:Events for Oradea
BEGIN:VTIMEZONE
TZID:Europe/Bucharest
BEGIN:DAYLIGHT
TZOFFSETFROM:+0200
TZOFFSETTO:+0300
TZNAME:EEST
DTSTART:20180325T010000
END:DAYLIGHT
BEGIN:STANDARD
TZOFFSETFROM:+0300
TZOFFSETTO:+0200
TZNAME:EET
DTSTART:20181028T010000
END:STANDARD
END:VTIMEZONE
BEGIN:VEVENT
DTSTART;TZID=Europe/Bucharest:20180926T163000
DTEND;TZID=Europe/Bucharest:20180926T193000
DTSTAMP:20260423T213702
CREATED:20180925T072401Z
LAST-MODIFIED:20180925T072401Z
UID:23940-1537979400-1537990200@ghidlocal.com
SUMMARY:Club Atletic Oradea vs Clubul Sportiv Oşorhei
DESCRIPTION:Club Atletic Oradea vs Clubul Sportiv Oşorhei\n  \nMeci in Cupa Romaniei! Etapa IV – a\nVă așteptăm la meciul din Cupa României Faza Județeană!\nClub Atletic Oradea – Clubul Sportiv Oşorhei\nMiecuri 28.03.2018 începând cu orele 16:30\nPreț bilet: 10 Ron\nBiletele se pot achiziționa la intrarea in stadion începând cu ora 15.\nIntrarea gratuită a membrilor sustinatori\, doamnelor si domnișoarelor.\n#ForzaCAO \n
URL:https://ghidlocal.com/oradea/eveniment/club-atletic-oradea-vs-clubul-sportiv-osorhei/
LOCATION:Stadionul Iuliu Bodola
CATEGORIES:Sport
ATTACH;FMTTYPE=image/jpeg:https://cdn.cluj.com/ghidlocalcom/sites/2/2018/09/Club-Atletic-Oradea-vs-Clubul-Sportiv-O%C5%9Forhei.jpg
END:VEVENT
END:VCALENDAR