BEGIN:VCALENDAR
VERSION:2.0
PRODID:-//Oradea - ECPv5.1.1//NONSGML v1.0//EN
CALSCALE:GREGORIAN
METHOD:PUBLISH
X-WR-CALNAME:Oradea
X-ORIGINAL-URL:https://ghidlocal.com/oradea
X-WR-CALDESC:Events for Oradea
BEGIN:VTIMEZONE
TZID:Europe/Bucharest
BEGIN:DAYLIGHT
TZOFFSETFROM:+0200
TZOFFSETTO:+0300
TZNAME:EEST
DTSTART:20180325T010000
END:DAYLIGHT
BEGIN:STANDARD
TZOFFSETFROM:+0300
TZOFFSETTO:+0200
TZNAME:EET
DTSTART:20181028T010000
END:STANDARD
END:VTIMEZONE
BEGIN:VEVENT
DTSTART;TZID=Europe/Bucharest:20180920T170000
DTEND;TZID=Europe/Bucharest:20180923T170000
DTSTAMP:20260423T144549
CREATED:20180917T082900Z
LAST-MODIFIED:20180917T082900Z
UID:23781-1537462800-1537722000@ghidlocal.com
SUMMARY:Școala de Toamnă „Știință. Cultură. Civilizație” - Oradea
DESCRIPTION:Școala de Toamnă „Știință. Cultură. Civilizație” – Oradea \nAsociația „Gheorghe Șincai” a studenților în Istorie\, împreună cu Asociația Geografică „Simion Mehedinți” – AGSM Oradea organizează în perioada 20-23 septembrie 2018\, prima ediție a Școlii de Toamnă „Știință. Cultură. Civilizație”.  \nActivitățile Școlii de Toamnă „Știință. Cultură. Civilizație” se vor desfășura pe două paliere și anume: o parte de prelegeri susținute de istorici și cercetători pe tematica Marii Uniri și o parte de sesiune de comunicări științifice\, unde studenții\, masterazii și doctoranzii își pot prezenta ultimele cercetări și abordări istoriografice.  \nNu se percepe taxă de participare! Organizatorii asigură cazarea în Căminele Universității din Oradea (3 persoane în camere\, grup sanitar propriu) și masa participanților pe toată perioada evenimentului.  \nMai multe informații despre eveniment poți afla aici: http://bit.ly/2K2u6xI \n
URL:https://ghidlocal.com/oradea/eveniment/scoala-de-toamna-stiinta-cultura-civilizatie-oradea/2018-09-20/
CATEGORIES:Conferinte
ATTACH;FMTTYPE=image/jpeg:https://cdn.cluj.com/ghidlocalcom/sites/2/2018/09/%C8%98coala-de-Toamn%C4%83-%E2%80%9E%C8%98tiin%C8%9B%C4%83.-Cultur%C4%83.-Civiliza%C8%9Bie%E2%80%9D-Oradea.jpg
END:VEVENT
BEGIN:VEVENT
DTSTART;VALUE=DATE:20180921
DTEND;VALUE=DATE:20180924
DTSTAMP:20260423T144549
CREATED:20180920T104455Z
LAST-MODIFIED:20180920T104455Z
UID:23857-1537488000-1537747199@ghidlocal.com
SUMMARY:Sărbătoarea Recoltei\, ediția 2018
DESCRIPTION:Sărbătoarea Recoltei\, ediția 2018\nBelșugul\, obiceiurile și aromele toamnei\, se întâlnesc în perioada 21-23 septembrie la Sarbatoarea Recoltei! ? \nHai să te bucuri de produse proaspete și sănătoase\, obținute de producători locali\, dar și de atracții pentru cei mici și concerte cu artiști în vogă. \nUite cu ce te așteptăm la Cetatea Oradea: \nPROGRAM \n?Vineri\, 21 septembrie \n10:00-20:00 Atracții pentru copii\n11:00-20:00 Târg de produse agroalimentare\n17:00 Vernisajul expoziției personale de picture naivă\, Artist plastic Mihai Dascălu (Corp B\, etaj 1\, Sala 12)\n18:00 Workshop‘’Oportunități privind colaborarea dintre producătorii agroalimentari locali și industria ospitalității: prezent și perspective’’ (Corp I\, etaj 1)\n20:00 Concert Ad Libitum Voices \n?Sâmbătă\, 22 septembrie \n10:00-20:00 Atracții pentru copii\n11:00-20:00 Târg de produse agroalimentare\n10:00 Workshop‘’Oportunități privind colaborarea dintre producătorii agroalimentari locali și industria ospitalității: prezent și perspective’’ (Corp I\, etaj 1)\n20:00 Concert Lidia Buble \n?Duminică\, 23 septembrie \n10:00-20:00 Atracții pentru copii\n11:00-20:00 Târg de produse agroalimentare\n15:00 Premierea Fermierilor\n19:00 Spectacol folcloric In Memoriam Florica Duma\, alături de Grigore Leșe\, Laura Lavric\, Angela Buciu\, Stana Stepânescu\, Corina Szatmari\, Otilia Haragoș\, Felicia Costin\, Cornelia Covaciu și Luminița Tomuța\, acompaniați de Orchestra Ansamblului Artistic Profesionist Crișana. \nIntrarea este liberă! \n
URL:https://ghidlocal.com/oradea/eveniment/sarbatoarea-recoltei-editia-2018/2018-09-21/
LOCATION:Cetatea Oradea/ Oradea Fortress\, Cetatea Oradea\, Oradea-Mare\, 410100\, RO
CATEGORIES:Festival
ATTACH;FMTTYPE=image/jpeg:https://cdn.cluj.com/ghidlocalcom/sites/2/2018/09/S%C4%83rb%C4%83toarea-Recoltei-edi%C8%9Bia-2018.jpg
END:VEVENT
BEGIN:VEVENT
DTSTART;TZID=Europe/Bucharest:20180921T090000
DTEND;TZID=Europe/Bucharest:20180922T170000
DTSTAMP:20260423T144549
CREATED:20180816T140830Z
LAST-MODIFIED:20180816T140830Z
UID:23303-1537520400-1537635600@ghidlocal.com
SUMMARY:Protecția datelor cu caracter personal
DESCRIPTION:Protecția datelor cu caracter personal\n  \nGeneral Data Protection Regulation este noul regulament privind protecția datelor cu caracter personal ce intră în vigoare la data de 25 Mai 2018\, regulament ce înlocuiește actuala lege privind procesarea datelor cu caracter personal. Noul regulament aduce clarificări în ceea ce privește datele cu caracter personal\, principiile de procesare și drepturile cetățenilor și ale rezidenților Uniunii Europene însă aduce și cerințe noi privind transparența și securitatea procesării datelor cu caracter personal. Amenzile pentru ne-conformitate vor fi mari\, și vor merge până la 20 mil EUR sau 4% din cifra de afaceri\, care este mai mare. Deși cerințele regulamentului par dificil de implementat\, există multe unelte\, șabloane și metodologii de abordare. Însă toate au în centrul lor nu tehnologia\, nu procesele\, nu legislația ci oamenii. De aceea este foarte important ca atât angajații cât și responsabilul organizației pentru respectarea prevederilor GDPR – așa numitul Data Protection Office (DPO) să fie train-uiți privind principiile de bază ale GDPR. \n
URL:https://ghidlocal.com/oradea/eveniment/protectia-datelor-cu-caracter-personal/
LOCATION:Corporactive Consulting\, Olteniei\, nr. 67\, Oradea\, 410538\, RO
CATEGORIES:Business,Conferinte,Workshop
ATTACH;FMTTYPE=image/jpeg:https://cdn.cluj.com/ghidlocalcom/sites/2/2018/08/Protec%C8%9Bia-datelor-cu-caracter-personal.jpg
END:VEVENT
BEGIN:VEVENT
DTSTART;TZID=Europe/Bucharest:20180921T090000
DTEND;TZID=Europe/Bucharest:20180922T170000
DTSTAMP:20260423T144549
CREATED:20180816T141202Z
LAST-MODIFIED:20180816T141248Z
UID:23305-1537520400-1537635600@ghidlocal.com
SUMMARY:Specialist în activitatea de coaching
DESCRIPTION:Specialist în activitatea de coaching\nCursul de specialist în activitatea de coaching asigură dobândirea competenţelor\, cunoştinţelor şi instrumentelor necesare în asistarea şi ghidarea clientului pentru valorificarea optimă a potenţialului său pe toate planurile vieţii sale. \nCui se adresează acest curs?\n• Lideri și manageri care vor să-și dezvolte stilul de conducere;\n• Specialiști HR\, consilieri\, traineri preocupati de dezvoltarea talentelor;\n• Întreprinzători\, agenți de vânzări\, consultanți\, profesioniști din alte domenii\, care doresc să-și sporească performanța prin folosirea tehnicilor de coaching;\n• Viitori specialiști în coaching;\n• Persoane interesate de creșterea personală și profesională și de sporirea capacității lor de relaționare și comunicare etc. \n
URL:https://ghidlocal.com/oradea/eveniment/specialist-in-activitatea-de-coaching/
CATEGORIES:Business,Conferinte,Workshop
ATTACH;FMTTYPE=image/jpeg:https://cdn.cluj.com/ghidlocalcom/sites/2/2018/08/Specialist-%C3%AEn-activitatea-de-coaching.jpg
END:VEVENT
BEGIN:VEVENT
DTSTART;TZID=Europe/Bucharest:20180921T090000
DTEND;TZID=Europe/Bucharest:20180922T170000
DTSTAMP:20260423T144549
CREATED:20180816T141726Z
LAST-MODIFIED:20180816T141726Z
UID:23307-1537520400-1537635600@ghidlocal.com
SUMMARY:Formator
DESCRIPTION:Formator\nCursul de Formator îşi propune dezvoltarea competenţelor specifice procesului de formare a adulţilor\, în vederea diseminării cunoştinţelor şi formării deprinderilor şi atitudinilor conforme cu specialitatea aleasă. \nCui se adresează acest curs?\n• Persoanelor care lucrează cu oamenii\, conduc ședințe\, moderează discuții\, activează în domeniul educației formale sau non-formale;\n• Profesioniștilor care dezvoltă activități de training\, prezentări de produse\, work-shop-uri;\n• Formatorilor cu experiență care doresc să obțină certificatul de formator sau pur și simplu sunt interesați de propria dezvoltare. \nCompetențe profesionale dobândite:\n• Pregătirea formării;\n• Realizarea activităţilor de formare;\n• Evaluarea paticipanţilor la formare;\n• Aplicarea metodelor şi tehnicilor speciale de formare;\n• Marketing-ul formării;\n• Proiectarea programelor de formare;\n• Organizarea programelor şi a stagiilor de formare;\n• Evaluarea\, revizuirea şi asigurarea calităţii programelor şi\na stagiilor de formare. \nDe ce să urmezi acest curs?\n• Vei descoperi stilurile de învățare și învățarea experiențială;\n• Vei dobândi abilitățile fundamentale ale unui facilitator de top;\n• Vei analiza nevoia de training;\n• Vei planifica sesiuni de formare;\n• Vei evalua sesiuni de instruire;\n• Vei descoperi marketing-ul formării;\n• Îți vei clarifica diferențele între: training\, coaching sau mentoring;\n• Vei beneficia de coordonarea unui trainer autorizat cu experiență în\nînvățarea experiențială. \n
URL:https://ghidlocal.com/oradea/eveniment/formator/
LOCATION:Corporactive Consulting\, Olteniei\, nr. 67\, Oradea\, 410538\, RO
CATEGORIES:Business,Conferinte,Workshop
ATTACH;FMTTYPE=image/jpeg:https://cdn.cluj.com/ghidlocalcom/sites/2/2018/08/Formator.jpg
END:VEVENT
BEGIN:VEVENT
DTSTART;TZID=Europe/Bucharest:20180921T170000
DTEND;TZID=Europe/Bucharest:20180923T190000
DTSTAMP:20260423T144549
CREATED:20180920T092250Z
LAST-MODIFIED:20180920T092250Z
UID:23836-1537549200-1537729200@ghidlocal.com
SUMMARY:Tiroliana 80m Parc Balcescu
DESCRIPTION:Tiroliana 80m Parc Balcescu\nAventura Bihor în parteneriat cu Restaurant La Moroșanu’ – Parcul Bălcescu – Parcul Bălcescu vă invită la #Tiroliană 80m lungime pentru toate varstele incepand cu 1 an.\nUnde? … în Parcul Bălcescu Oradea\nCand? … Vineri 21 sept intre orele 17:00 – 19:00\nSambata 22 sept intre orele 14:00 – 18:00\nDuminica 23 sept intre orele 12:00 – 15:00\nNe vedem la tirolianăăăă\, .. iuuuuuhuuuu\nPentru orice detalii si informatii ne puteti contacta la 0741900556 \n
URL:https://ghidlocal.com/oradea/eveniment/tiroliana-80m-parc-balcescu/2018-09-21/
LOCATION:Restaurant La Moroșanu’ – Parcul Bălcescu
CATEGORIES:Activitati pentru copii
ATTACH;FMTTYPE=image/jpeg:https://cdn.cluj.com/ghidlocalcom/sites/2/2018/09/Tiroliana-80m-Parc-Balcescu.jpg
END:VEVENT
BEGIN:VEVENT
DTSTART;TZID=Europe/Bucharest:20180922T110000
DTEND;TZID=Europe/Bucharest:20180922T120000
DTSTAMP:20260423T144549
CREATED:20180920T101109Z
LAST-MODIFIED:20180920T101109Z
UID:23846-1537614000-1537617600@ghidlocal.com
SUMMARY:Mic sau Mare?
DESCRIPTION:Mic sau Mare?\n  \nSâmbătă\, 22 septembrie\, de la ora 11:00\, la Sala Arcadia\nMIC SAU MARE?\, spectacol de teatru pentru copii cu vârsta între 0 și 3 ani\, regia Nagy Viktoria \nÎn lumea oamenilor mari sunt multe lucruri mărunte care pot părea uriașe unor bebeluși. \nObiecte de zi cu zi ce unora le par banale\, în universul copiilor ele pot deveni adevărate mistere ce așteaptă să fie descoperite. \n„MIC SAU MARE ?” le oferă celor mai mici spectatori ocazia de a pătrunde în lumea magică a teatrului\, pe înțelesul lor. Atmosfera familiară în care sunt primiți\, momentele artistice create special pentru ei și fundalul sonor atent selectat\, sunt elementele care îi așteaptă pe copiii curioși să facă primii pași în lumea teatrului de păpuși. \nTrupa Arcadia vă invită la primul ei spectacol de teatru pentru bebeluși cu vârsta între 0 și 3 anișori. \nCu: Andrei Fazecaș și Consuela Egyed\nRegia: Nagy Viktoria\nScenografia: Csuri Emese \n? Biletele s-au pus în vânzare la Agenţia de Bilete a Teatrului de marți până vineri în intervalul orar 12:00 – 18:00\, iar în weekend între orele 10:00 – 13:00. Puteţi achiziţiona bilete şi cu o oră înainte spectacol sau online pe www.biletmaster.ro. \nPentru informaţii suplimentare şi rezervări de bilete\, vă invităm să sunaţi la numărul de telefon: 0372/368.475. \n
URL:https://ghidlocal.com/oradea/eveniment/mic-sau-mare-2/
LOCATION:Teatrul Arcadia\, Vasile Alecsandri Nr.8\, Oradea\, 410072\, Romania
CATEGORIES:Activitati pentru copii,Teatru
ATTACH;FMTTYPE=image/jpeg:https://cdn.cluj.com/ghidlocalcom/sites/2/2018/09/Mic-sau-Mare.jpg
END:VEVENT
BEGIN:VEVENT
DTSTART;TZID=Europe/Bucharest:20180922T120000
DTEND;TZID=Europe/Bucharest:20180922T180000
DTSTAMP:20260423T144549
CREATED:20180917T081652Z
LAST-MODIFIED:20180917T081652Z
UID:23779-1537617600-1537639200@ghidlocal.com
SUMMARY:Autumn Fair by Moszkva
DESCRIPTION:Autumn Fair by Moszkva\n  \nMoszkva Fair\n#handmade #secondhand #flea #gitfs #diy #cookies #fair\n#autumn #moszkva\n22th september 12:00-18:00 \n
URL:https://ghidlocal.com/oradea/eveniment/autumn-fair-by-moszkva/
LOCATION:Moszkva Kávézó\, str. Moscovei no.8\, Oradea\, 410001\, RO
CATEGORIES:Degustare
ATTACH;FMTTYPE=image/jpeg:https://cdn.cluj.com/ghidlocalcom/sites/2/2018/09/Autumn-Fair-by-Moszkva.jpg
END:VEVENT
BEGIN:VEVENT
DTSTART;TZID=Europe/Bucharest:20180922T170000
DTEND;TZID=Europe/Bucharest:20180922T190000
DTSTAMP:20260423T144549
CREATED:20180917T081305Z
LAST-MODIFIED:20180917T081305Z
UID:23777-1537635600-1537642800@ghidlocal.com
SUMMARY:EduFest
DESCRIPTION:EduFest\n  \n\nEsti elev sau student?\nAi vrea să te implici într-un program de voluntariat în care să ai șansa să te dezvolți și să înveți? Să cunoști oameni faini\, să câștigi experiențe inedite?\nEsti dintr-o organizatie din Oradea si doriti să vă faceti cunoscute programele de voluntariat tinerilor din oraș? \nAtunci\, vino cu prietenii la ediția a 3-a EduFest\, by EduBiz\nCând? Sâmbătă\, 22 septembrie\, ora 17:00.\nUnde? Oradea\, Parcul 1 Decembrie\, lângă statuie \nDe ce EduFest?\nAi ocazia să te înscri în noile programe EduBiz;\nAi ocazia să descoperi noi oportunități de voluntariat;\nParticipi la cel mai tare Treasure Hunt;\nAi șansa să cunosti personalități și invitați de la care ai multe de învățat;\nAi parte de workshopuri faine de orientare profesională\, inteligentă emotională;\nParticipi la jocuri foarte faine de grup;\nAi parte de distracție si voie bună în Relaxe Zone;\nAi sansa să-ti faci noi prieteni la început de an scolar; \nEduFest se dorește a fi un spațiu comun de întâlnire și interacțiune între tineri\, elevi și studenți și organizațiile orădene\, cu scopul promovării ideii de voluntariat. \nPartener principal: Primaria Municipiului Oradea \n\n
URL:https://ghidlocal.com/oradea/eveniment/edufest/
LOCATION:Parcul 1 Decembrie\, Oradea\, RO
ATTACH;FMTTYPE=image/jpeg:https://cdn.cluj.com/ghidlocalcom/sites/2/2018/09/EduFest.jpg
ORGANIZER;CN="Edubiz":MAILTO:teodora@edubiz.ro
END:VEVENT
BEGIN:VEVENT
DTSTART;TZID=Europe/Bucharest:20180922T170000
DTEND;TZID=Europe/Bucharest:20180922T180000
DTSTAMP:20260423T144549
CREATED:20180920T085945Z
LAST-MODIFIED:20180920T085945Z
UID:23831-1537635600-1537639200@ghidlocal.com
SUMMARY:Ce le citim copiilor: Între cer și mare de Frații Fan
DESCRIPTION:Ce le citim copiilor: Între cer și mare de Frații Fan\n  \nLECTURĂ ȘI ATELIER DE STIMULARE A CREATIVITĂȚII CU PSIHOLOGUL IOANA-NICOLETA CIURTIN \nDupă o vacanță plină de peripeții\, întâmplări neașteptate și – bineînțeles – de lecturi fascinante\, reluăm ciclul de întâlniri bilunare de la Librăria Humanitas Oradea. Îi invit din nou pe cei mici într-o călătorie remarcabilă în lumea cărților. \nÎntâlnirea va cuprinde o lectură a cărții „Între cer și mare” de Frații Fan\, un volum exemplar despre orizontul neîngrădit al imaginației copiilor. Îl vom urma pe Finn în aventura sa de cunoaștere și explorare a tărâmului fantastic unde un pește auriu neobișnuit de înțelept îl ghidează. Având valențele unei autentice epopei antice\, experiența lui Finn îl duce dincolo de limita lumii cunoscute\, dincolo de dimensiunea ei materială\, arătându-i veșnicia iubirii pentru cei dragi\, indiferent unde s-ar afla aceștia.\nCitirea volumului va fi urmată de o sesiune de discuții structurate\, menite să îi ajute pe copii să înțeleagă modul în care legătura cu cei apropiați poate fi mereu ținută\, lăsând imaginația să ofere emoțiilor un support structural. Bineînțeles\, un mic atelier creativ va fi nelipsit! \nDespre cartea citită\, cei avizați susțin:\n• „Ilustrațiile minunate și pastelate ale cărții înfățișează o lume a magiei melancolice.” (The New York Times)\n• „O călătorie uimitoare\, de vis\, în inima unui copil.” (Kirkus Review)\n• „Tinerii cititori vor fi captivați.” (The Washington Post) \nEvenimentul va avea loc – alături de comunitatea „Ce le citim copiilor” – la Librăria Humanitas din Oradea\, Str. Republicii nr. 11\, sâmbătă\, 22 septembrie\, ora 17.00.\nSunt așteptați copiii cu vârste între 3 și 10 ani\, însoțiti de mămici și tătici (ori chiar de bunici).\nAccesul la eveniment este gratuit și se face – în limita locurilor disponibile – pe bază de înscriere la adresa ciurtin.ioana@gmail.com sau pe pagina de Facebook\nhttps://www.facebook.com/inavangarda/.\nHaideți să citim – și să creăm – împreună\, lasându-ne doar propria imaginație să ne ghideze! \n
URL:https://ghidlocal.com/oradea/eveniment/ce-le-citim-copiilor-intre-cer-si-mare-de-fratii-fan/
LOCATION:Librăria Humanitas Oradea
CATEGORIES:Activitati pentru copii
ATTACH;FMTTYPE=image/jpeg:https://cdn.cluj.com/ghidlocalcom/sites/2/2018/09/42092505_2257790201109457_6395773793477853184_n.jpg
END:VEVENT
BEGIN:VEVENT
DTSTART;TZID=Europe/Bucharest:20180922T190000
DTEND;TZID=Europe/Bucharest:20180922T210000
DTSTAMP:20260423T144549
CREATED:20180920T100425Z
LAST-MODIFIED:20180920T100425Z
UID:23844-1537642800-1537650000@ghidlocal.com
SUMMARY:CSM CSU Oradea - Karhu Basket. Basketball Champions League
DESCRIPTION:CSM CSU Oradea – Karhu Basket. Basketball Champions League\nEuropa\, Venim! \nLuptăm din nou pentru a atinge grupele Basketball Champions League\, iar dubla împotriva finlandezilor de la Karhu Basket este doar primul pas! Așteptăm un număr cât mai mare de Lei Roșii în tribune pentru a-i încuraja pe cei din teren! \nInformații despre bilete și acces: http://www.csmoradea.ro/informatii-comercializare-bilete-pentru-meciul-cu-karhu-basket-din-22-septembrie-2018/ \n
URL:https://ghidlocal.com/oradea/eveniment/csm-csu-oradea-karhu-basket-basketball-champions-league/
LOCATION:Arena „Antonio Alexe”\, Strada Cazaban\, Oradea\, Bihor\, România
CATEGORIES:Sport
ATTACH;FMTTYPE=image/jpeg:https://cdn.cluj.com/ghidlocalcom/sites/2/2018/09/CSM-CSU-Oradea-Karhu-Basket.-Basketball-Champions-League.jpg
ORGANIZER;CN="CSM%20Oradea":MAILTO:csmoradea2010@gmail.com
END:VEVENT
END:VCALENDAR