BEGIN:VCALENDAR
VERSION:2.0
PRODID:-//Oradea - ECPv5.1.1//NONSGML v1.0//EN
CALSCALE:GREGORIAN
METHOD:PUBLISH
X-WR-CALNAME:Oradea
X-ORIGINAL-URL:https://ghidlocal.com/oradea
X-WR-CALDESC:Events for Oradea
BEGIN:VTIMEZONE
TZID:Europe/Bucharest
BEGIN:DAYLIGHT
TZOFFSETFROM:+0200
TZOFFSETTO:+0300
TZNAME:EEST
DTSTART:20180325T010000
END:DAYLIGHT
BEGIN:STANDARD
TZOFFSETFROM:+0300
TZOFFSETTO:+0200
TZNAME:EET
DTSTART:20181028T010000
END:STANDARD
END:VTIMEZONE
BEGIN:VEVENT
DTSTART;TZID=Europe/Bucharest:20180914T180000
DTEND;TZID=Europe/Bucharest:20180916T230000
DTSTAMP:20260423T023256
CREATED:20180730T090941Z
LAST-MODIFIED:20180730T090941Z
UID:22855-1536948000-1537138800@ghidlocal.com
SUMMARY:ORA Jazz Festival 2018
DESCRIPTION:ORA Jazz Festival 2018\n  \nORA Jazz Festival este un festival internațional de jazz care dorește să transforme pentru trei zile Sinagoga Neologă Sion într-o scenă dedicată muzicii jazz și reprezentanților săi de elită. Muzicieni din Israel\, Germania\, Norvegia\, Franța\, Finlanda\, Cehia\, Canada\, Olanda\, China (Taiwan) și Austria vor prezenta cele mai noi proiecte ale lor în spațiul sinagogii. \n• Vineri\, 14 septembrie 2018\, 18:00\nAdam Ben Ezra (Israel)\nArne Jansen Trio Trio – Nine Firmaments (Germania)\nBansal Trio (Norvegia\, Cehia)\n• Sâmbătă\, 15 septembrie\, 18:00\nRenaud Garcia-Fons – Double Bass 1001’s voices (Franța)\nGrégory Privat Trio (Franța\, Canada)\nVerneri Pohjola & Mika Kallio Duo – Animal Image (Finlanda)\n• Duminică\, 16 septembrie 2018\, 18:00\nBugge Wesseltoft – Everybody Loves Angels (Norvegia)\nOmer Klein Trio – Sleepwalkers (Israel)\nradio.string.quartet – In Between Silence (Austria\, China-Taiwan\, Germania\, Olanda) \nFestivalul se va deschide vineri\, 14 septembrie\, cu recitalul lui Adam Ben Ezra. Contrabasistul israelian transformă fiecare concert într-un eveniment spectaculos: muzicii create la contrabas îi adaugă o combinație inteligentă de efecte și pedale\, iar rezultatul este un concert intens\, de fiecare dată unic.\nAl doilea concert al serii va aparține muzicienilor germani de la Arne JansenTrio. Liderul grupului\, chitaristul Arne Jansen este deținătorul unui prestigios premiu ECHO Jazz. La Oradea va prezenta albumul “Nine Firmaments”\, ce conține piese cu atmosferă mediteraneeană\, compuse într-o călătorie prin Sudul Europei.\nPrima zi de festival se va încheia cu Bansal Trio\, grupul violonistei norvegiene de origine indiană Harpreet Bansal. Trioul celebrează 10 ani de activitate în acest an. Muzica lor este o invitație într-o călătorie printre lumini și umbre\, seninătate\, agitație și spiritualitate în mijlocul automatismului vieții urbane. \nSâmbătă\, 15 septembrie\, va începe cu “Cele 1001 de voci ale contrabasului” – recitalul solo al renumitului contrabasist francez Renaud Garcia-Fons. Supranumit “Paganini al contrabasului”\, Renaud Garcia-Fons nu se consideră un contrabasist\, ci un artist al improvizației. Concertele lui sunt de fiecare dată evenimente remarcabile de creativitate și virtuozitate.\nVa urca apoi pe scenă Grégory Privat Trio. Nominalizat la Victoires du Jazz 2015 la categoria “Revelația anului în jazz”\, Grégory Privat și-a continuat an de an ascensiunea pe scena internațională de jazz. Pianistul\, originar din Insula Martinica\, a debutat la celebrul label ACT Music cu albumul “Family Tree”\, un tribut adus muzicii țării în care s-a născut. Alături de Chris Jennings la contrabas și Tilo Bertholo la baterie\, Grégory Privat va aduce în sinagoga orădeană sonorități caraibe\, sensibilitate muzicală și virtuozitate.\nSeara se va încheia cu duoul finlandez Verneri Pohjola & Mika Kallio. Trompetistul Verneri Pohjola\, o voce originală în spațiul jazzului nordic\, cântă în duo cu bateristul Mika Kallio din 2008. Anul acesta au înregistrat primul lor album\, Animal Image\, inspirați de filmul cu același nume al regizorului Perttu Saksa\, un documentar poetic despre relația oamenilor cu animalele și cu natura. Muzica se transformă în viziunea lor într-o punte emoțională ce leagă oamenii de animale. Concertul va fi însoțit de proiecția filmului. \nDuminică\, 16 septembrie\, festivalul este gazda unuia dintre cei mai inovatori pianiști ai jazzului mondial. Norvegianul Bugge Wesseltoft aduce pe scena orădeană ultimul său album solo “Everybody Loves Angels” (ACT Music\, 2017). Se spune despre Bugge Wesseltoft că este printre puținii pianiști care știu să facă tăcerea atât de sonoră. Albumul a fost înregistrat într-o catedrală din Lofoten\, în nordul Norvegiei. Suntem nerăbdători să aflăm ce sonorități va imagina “vrăjitorul” nordic al pianului într-un loc aflat în sud-estul Europei.\nAl doilea concert al zilei va fi susținut de Omer Klein Trio din Israel. Pianistul Omer Klein este un nume cu rezonanță în jazzul european\, cu precădere pe scena germană\, acolo unde concertează cel mai des. Este foarte apreciat pentru felul original în care îmbină ritmuri dintre cele mai diverse cu teme melodioase\, romantice. La ORA Jazz Festival ne va prezenta cel mai nou album al trioului – Sleepwalkers\, o viziune despre lumea în care trăim\, transpusă în compoziții inspirate și improvizații energice.\nradio.string.quartet va încheia prima ediție a festivalului cu un concert sperăm memorabil. Două viori\, o violă\, un violoncel și o voce vor încerca să cânte despre ceea ce există între calmul începutului și tăcerea sfârșitului. “In Between Silence” este un proiect în care patru muzicieni virtuozi și-au dorit să concentreze și să redea cântecul vieții așa cum este ea – plină de haos\, energie și frumusețe. \nO parte din echipa ORA Jazz Festival are în palmares organizarea a două mari festivaluri de jazz în zona de vest a țării\, Gărâna Jazz Festival și Timisoara Jazz Festival. Incluzând Oradea\, un oraș cu istorie și cultură bogate\, pe harta evenimentelor sale\, ORA Jazz Festival speră să aducă muzica jazz mai aproape de pasionați și să câștige public nou pentru unul dintre cele mai libere genuri muzicale. \nConcertele se vor desfășura în Sinagoga Neologă Sion\, Str. Independenței nr. 22\, Oradea\, începând cu ora 18:00.\nPrețul unui bilet pentru o zi este de 80 ron\, iar al abonamentului 210 ron.\nBiletele și abonamentele se pot achiziționa online de pe www.bilete.ro sau înaintea începerii primului concert al zilei\, de la intrare. \nOrganizator: Asociația Culturală Mono\nCo-organizator: Asociaţia pentru Promovarea Turismului din Oradea și Regiune (APTOR)\n
URL:https://ghidlocal.com/oradea/eveniment/ora-jazz-festival-2018/
LOCATION:Sinagoga ZION\, Pta Independentei\, Oradea\, 410475\, Romania
CATEGORIES:Concerte,Festival
ATTACH;FMTTYPE=image/jpeg:https://cdn.cluj.com/ghidlocalcom/sites/2/2018/07/ORA-Jazz-Festival-2018.jpg
END:VEVENT
BEGIN:VEVENT
DTSTART;TZID=Europe/Bucharest:20180915T090000
DTEND;TZID=Europe/Bucharest:20180915T200000
DTSTAMP:20260423T023256
CREATED:20180912T083455Z
LAST-MODIFIED:20180912T083455Z
UID:23735-1537002000-1537041600@ghidlocal.com
SUMMARY:Excursie de 1 zi: Descoperă Pădurea Craiului
DESCRIPTION:Excursie de 1 zi: Descoperă Pădurea Craiului\nTipul evenimentului: excursie cu autocar. \n********\nPornire:\n08:30 Băile Felix (stația de autobus de lângă Hotel Ami)\n08:45 Băile 1 Mai (stația de autobus de lângă Hotel Perla și Ceres)\n09:00 Oradea (centrul civic) \nObiective turistice ce urmează a fi vizitate:\n10:25 – 18:00\n– Biserica de lemn Gheghie / sau Biserica de lemn Valea Crișului\n– Peștera Unguru Mare\, Șuncuiuș (taxa de intrare: 12 lei)\n(Pauză de prânz\, Cabana Meziad\, Meziad – contracost -)\n– Biserica reformată gotică Remetea (sec. XV.)\n– Peștera Meziad (taxa de intrare 15 lei\, de la autocar se merge pe jos cca. 15 minute) \nSosire:\n19:20 în Băile Felix\n19:30 în Băile 1 Mai\n19:45 Oradea (centrul civic) \n*********\nTaxa de participare la eveniment este de 49 lei pentru adulți\, respectiv 29 lei pentru copiii sub 12 ani (sub 3 ani gratis). Aceasta include transportul cu autocarul și ghidajul. Taxa de participare nu include prânzul și intrările la obiectivele turistice. \nBiletele se pot achiziționa la sediul Agenției de Management al Destinației Bihor (AMD Bihor): str. Primăriei nr. 2\, et. 1\, ap. 6 – 7\, Oradea\, județul Bihor\, în zilele lucrătoare între orele 08:00 – 16:30 sau pe www.biletmaster.ro \nNumărul locurilor disponibile este limitat. Organizatorii își mențin dreptul de a modifica programul. \n*********\nContact:\n– amdbihor@gmail.com\n– 0723373179\, AMD Bihor (Rosmann Eddie) \nFotografia de copertă: Peștera Meziad\nCredits: Bauman Dieter-Gergő \nMagyar nyelven: https://www.facebook.com/events/300251597181219/ \n
URL:https://ghidlocal.com/oradea/eveniment/excursie-de-1-zi-descopera-padurea-craiului-4/
CATEGORIES:Turism
ATTACH;FMTTYPE=image/jpeg:https://cdn.cluj.com/ghidlocalcom/sites/2/2018/09/Excursie-de-1-Descoper%C4%83-P%C4%83durea-Craiului.jpg
ORGANIZER;CN="Agen%C8%9Bia%20de%20Management%20al%20Destina%C8%9Biei%20Bihor":MAILTO:destinatiabihor@gmail.com
END:VEVENT
BEGIN:VEVENT
DTSTART;TZID=Europe/Bucharest:20180915T100000
DTEND;TZID=Europe/Bucharest:20180915T190000
DTSTAMP:20260423T023256
CREATED:20180912T065920Z
LAST-MODIFIED:20180912T065920Z
UID:23705-1537005600-1537038000@ghidlocal.com
SUMMARY:Iubesc Sportul
DESCRIPTION:Iubesc Sportul\n  \nEveniment în aer liber.\nDragi orădeni\, Fit4u Fitness Center va pregătește o surpriza de proporții in data de 15 septembrie.\nUn eveniment în aer liber\, care va avea loc în parcul Muncitoresc\, de care se pot bucura toți orădenii cu mic cu mare\, în mod gratuit.\nDe dimineata pana seara se vor tine diferite tipuri de antrenamente sustinute de o armata de instructori.\nCalendarul evenimentului și mai multe detalii găsiți pe www.fit4u.ro și le veți găsi și aici la eveniment! \n
URL:https://ghidlocal.com/oradea/eveniment/iubesc-sportul/
LOCATION:Parcul I.C. Brătianu\, Oradea
CATEGORIES:Sport
ATTACH;FMTTYPE=image/jpeg:https://cdn.cluj.com/ghidlocalcom/sites/2/2018/09/Iubesc-Sportul.jpg
END:VEVENT
BEGIN:VEVENT
DTSTART;TZID=Europe/Bucharest:20180915T100000
DTEND;TZID=Europe/Bucharest:20180916T233000
DTSTAMP:20260423T023256
CREATED:20180912T071400Z
LAST-MODIFIED:20180912T071400Z
UID:23708-1537005600-1537140600@ghidlocal.com
SUMMARY:Zilele Culturii Maghiare 2018
DESCRIPTION:Zilele Culturii Maghiare 2018\n  \nÎn perioada 15-16 septembrie vă așteptăm la cea de-a doua ediție a evenimentului Zilele Culturii Maghiare. \nTradițiile locale maghiare și istoria comună sunt promovate în cadrul acestui eveniment dedicat celei mai numeroase comunități din Oradea. \nTimp de 2 zile\, în Cetatea Oradea/ Oradea Fortress ne vom bucura împreună de un târg de artizani și produse tradiționale maghiare\, muzică și dansuri cu specific maghiar\, și vom gusta preparate culinare delicioase. Nu am uitat nici de cei mici\, pe care îi așteptăm cu numeroase activități creative. \nAtmosfera de sărbătoare va fi asigurată de trupe și artiști consacrați precum: Rackajam\, Alma\, Ansamblul Artistic Profesionist Mureșul – Maros Művészegyüttes\, Hobo și Hooligans. \n  \nProgram: \nSâmbătă 15 septembrie\n10:00-22:00 Târgul meșterilor populari și al producătorilor din Valea Lerului\n10:00-19:00 Ateliere pentru copii\n10:00-16:00 Jocuri tradiționale de lemn\n14:00-15:00 Süsü\, Dragonul – Süsü\, a sárkány (Teatrul pentru copii Fogi – Fogi gyermekszínház) – scena teatrului de vară\n19:00-20:00 Opereta maghiară din Cluj – Kolozsvári Operettissimo együttes – scena mare\n21:00 Concert Hobo – scena mare \n  \nDuminică 16 septembrie\n10:00-22:00 Târgul meșterilor populari și al producătorilor din Valea Lerului\n10:00-18:00 Ateliere pentru copii\n10:00-11:00 Süsü\, Dragonul – Süsü\, a sárkány (Teatrul pentru copii Fogi – Fogi gyermekszínház) – scena teatrului de vară\n12:00-18:00 Jocuri tradiționale de lemn\n13:00-14:00 Spectacol Alma — scena teatrului de vară\n18:00-19:00 Ansamblul Artistic Profesionist Mureșul – scena teatrului de vară\n19:00-20:00 Concert Rackajam – scena mare\n20:00 Concert Hooligans – scena mare \nIntrarea este liberă!\n–––––––––\nEveniment organizat de Asociația pentru promovarea turismului din Oradea și regiune\, cu sprijinul Primăriei Oradea\, al Muzeului orașului Oradea – complex cultural și al Asociației Sfântul Ladislau.\nParteneri media: PluszFM Nagyvárad oldal\, Radio Transilvania.\nPrezentat de: Staropramen. \n
URL:https://ghidlocal.com/oradea/eveniment/zilele-culturii-maghiare-2018/2018-09-15/
LOCATION:Cetatea din Oradea\, Str. Griviței\, Oradea\, Bihor\, România
CATEGORIES:Festival
ATTACH;FMTTYPE=image/jpeg:https://cdn.cluj.com/ghidlocalcom/sites/2/2018/09/Zilele-Culturii-Maghiare-2018.jpg
END:VEVENT
BEGIN:VEVENT
DTSTART;TZID=Europe/Bucharest:20180915T180000
DTEND;TZID=Europe/Bucharest:20180915T190000
DTSTAMP:20260423T023257
CREATED:20180912T082644Z
LAST-MODIFIED:20180912T082644Z
UID:23731-1537034400-1537038000@ghidlocal.com
SUMMARY:Povești baroc: Vivaldi și Bach
DESCRIPTION:Povești baroc: Vivaldi și Bach\nEditura Nemi și Librăria Humanitas Oradea vă invită sâmbătă\, 15 septembrie\, de la ora 18.00\, la un atelier muzical cu scriitoarea Cristina Andone. \n„Poveștile din Pădurea Muzicală” reprezintă o serie de povești pentru copii scrise de Cristina Andone\, ale căror personaje principale sunt cei mai mari compozitori ai lumii. Cărțile îi vor „împrieteni” pe copii cu muzica clasică\, oferindu-le\, într-un mod accesibil\, informații esențiale pentru cultura lor generala. \n„Muzica nu va salva lumea. Dar o va face mult\, mult mai frumoasă.” (Cristina Andone) \nCategoria de vârstă 6+ \nParticiparea la atelier este gratuită și se face în baza unei rezervări la adresa de email ana.androne@nemira.ro \n
URL:https://ghidlocal.com/oradea/eveniment/povesti-baroc-vivaldi-si-bach/
LOCATION:Librăria Humanitas Oradea\, Republicii nr. 11\, Oradea-Mare\, oradeA\, Romania
CATEGORIES:Activitati pentru copii
ATTACH;FMTTYPE=image/jpeg:https://cdn.cluj.com/ghidlocalcom/sites/2/2018/09/Pove%C8%99ti-baroc-Vivaldi-%C8%99i-Bach.jpg
END:VEVENT
END:VCALENDAR