BEGIN:VCALENDAR
VERSION:2.0
PRODID:-//Oradea - ECPv5.1.1//NONSGML v1.0//EN
CALSCALE:GREGORIAN
METHOD:PUBLISH
X-WR-CALNAME:Oradea
X-ORIGINAL-URL:https://ghidlocal.com/oradea
X-WR-CALDESC:Events for Oradea
BEGIN:VTIMEZONE
TZID:Europe/Bucharest
BEGIN:DAYLIGHT
TZOFFSETFROM:+0200
TZOFFSETTO:+0300
TZNAME:EEST
DTSTART:20180325T010000
END:DAYLIGHT
BEGIN:STANDARD
TZOFFSETFROM:+0300
TZOFFSETTO:+0200
TZNAME:EET
DTSTART:20181028T010000
END:STANDARD
END:VTIMEZONE
BEGIN:VEVENT
DTSTART;TZID=Europe/Bucharest:20180914T100000
DTEND;TZID=Europe/Bucharest:20180914T160000
DTSTAMP:20260423T010108
CREATED:20180913T065925Z
LAST-MODIFIED:20180913T065925Z
UID:23745-1536919200-1536940800@ghidlocal.com
SUMMARY:Targul Locurilor de Munca si al Formarii Profesionale
DESCRIPTION:Targul Locurilor de Munca si al Formarii Profesionale\n  \nEveniment realizat în parteneriat instituțional cu AJOFM Bihor. Participa cei mai importanți angajatori din Oradea. \n
URL:https://ghidlocal.com/oradea/eveniment/targul-locurilor-de-munca-si-al-formarii-profesionale/
LOCATION:Lotus Center\, Strada Nufărului\, numărul 30\, Oradea\, Bihor\, România
CATEGORIES:Targ
ATTACH;FMTTYPE=image/jpeg:https://cdn.cluj.com/ghidlocalcom/sites/2/2018/09/Targul-Locurilor-de-Munca-si-al-Formarii-Profesionale.jpg
END:VEVENT
BEGIN:VEVENT
DTSTART;TZID=Europe/Bucharest:20180914T180000
DTEND;TZID=Europe/Bucharest:20180916T230000
DTSTAMP:20260423T010108
CREATED:20180730T090941Z
LAST-MODIFIED:20180730T090941Z
UID:22855-1536948000-1537138800@ghidlocal.com
SUMMARY:ORA Jazz Festival 2018
DESCRIPTION:ORA Jazz Festival 2018\n  \nORA Jazz Festival este un festival internațional de jazz care dorește să transforme pentru trei zile Sinagoga Neologă Sion într-o scenă dedicată muzicii jazz și reprezentanților săi de elită. Muzicieni din Israel\, Germania\, Norvegia\, Franța\, Finlanda\, Cehia\, Canada\, Olanda\, China (Taiwan) și Austria vor prezenta cele mai noi proiecte ale lor în spațiul sinagogii. \n• Vineri\, 14 septembrie 2018\, 18:00\nAdam Ben Ezra (Israel)\nArne Jansen Trio Trio – Nine Firmaments (Germania)\nBansal Trio (Norvegia\, Cehia)\n• Sâmbătă\, 15 septembrie\, 18:00\nRenaud Garcia-Fons – Double Bass 1001’s voices (Franța)\nGrégory Privat Trio (Franța\, Canada)\nVerneri Pohjola & Mika Kallio Duo – Animal Image (Finlanda)\n• Duminică\, 16 septembrie 2018\, 18:00\nBugge Wesseltoft – Everybody Loves Angels (Norvegia)\nOmer Klein Trio – Sleepwalkers (Israel)\nradio.string.quartet – In Between Silence (Austria\, China-Taiwan\, Germania\, Olanda) \nFestivalul se va deschide vineri\, 14 septembrie\, cu recitalul lui Adam Ben Ezra. Contrabasistul israelian transformă fiecare concert într-un eveniment spectaculos: muzicii create la contrabas îi adaugă o combinație inteligentă de efecte și pedale\, iar rezultatul este un concert intens\, de fiecare dată unic.\nAl doilea concert al serii va aparține muzicienilor germani de la Arne JansenTrio. Liderul grupului\, chitaristul Arne Jansen este deținătorul unui prestigios premiu ECHO Jazz. La Oradea va prezenta albumul “Nine Firmaments”\, ce conține piese cu atmosferă mediteraneeană\, compuse într-o călătorie prin Sudul Europei.\nPrima zi de festival se va încheia cu Bansal Trio\, grupul violonistei norvegiene de origine indiană Harpreet Bansal. Trioul celebrează 10 ani de activitate în acest an. Muzica lor este o invitație într-o călătorie printre lumini și umbre\, seninătate\, agitație și spiritualitate în mijlocul automatismului vieții urbane. \nSâmbătă\, 15 septembrie\, va începe cu “Cele 1001 de voci ale contrabasului” – recitalul solo al renumitului contrabasist francez Renaud Garcia-Fons. Supranumit “Paganini al contrabasului”\, Renaud Garcia-Fons nu se consideră un contrabasist\, ci un artist al improvizației. Concertele lui sunt de fiecare dată evenimente remarcabile de creativitate și virtuozitate.\nVa urca apoi pe scenă Grégory Privat Trio. Nominalizat la Victoires du Jazz 2015 la categoria “Revelația anului în jazz”\, Grégory Privat și-a continuat an de an ascensiunea pe scena internațională de jazz. Pianistul\, originar din Insula Martinica\, a debutat la celebrul label ACT Music cu albumul “Family Tree”\, un tribut adus muzicii țării în care s-a născut. Alături de Chris Jennings la contrabas și Tilo Bertholo la baterie\, Grégory Privat va aduce în sinagoga orădeană sonorități caraibe\, sensibilitate muzicală și virtuozitate.\nSeara se va încheia cu duoul finlandez Verneri Pohjola & Mika Kallio. Trompetistul Verneri Pohjola\, o voce originală în spațiul jazzului nordic\, cântă în duo cu bateristul Mika Kallio din 2008. Anul acesta au înregistrat primul lor album\, Animal Image\, inspirați de filmul cu același nume al regizorului Perttu Saksa\, un documentar poetic despre relația oamenilor cu animalele și cu natura. Muzica se transformă în viziunea lor într-o punte emoțională ce leagă oamenii de animale. Concertul va fi însoțit de proiecția filmului. \nDuminică\, 16 septembrie\, festivalul este gazda unuia dintre cei mai inovatori pianiști ai jazzului mondial. Norvegianul Bugge Wesseltoft aduce pe scena orădeană ultimul său album solo “Everybody Loves Angels” (ACT Music\, 2017). Se spune despre Bugge Wesseltoft că este printre puținii pianiști care știu să facă tăcerea atât de sonoră. Albumul a fost înregistrat într-o catedrală din Lofoten\, în nordul Norvegiei. Suntem nerăbdători să aflăm ce sonorități va imagina “vrăjitorul” nordic al pianului într-un loc aflat în sud-estul Europei.\nAl doilea concert al zilei va fi susținut de Omer Klein Trio din Israel. Pianistul Omer Klein este un nume cu rezonanță în jazzul european\, cu precădere pe scena germană\, acolo unde concertează cel mai des. Este foarte apreciat pentru felul original în care îmbină ritmuri dintre cele mai diverse cu teme melodioase\, romantice. La ORA Jazz Festival ne va prezenta cel mai nou album al trioului – Sleepwalkers\, o viziune despre lumea în care trăim\, transpusă în compoziții inspirate și improvizații energice.\nradio.string.quartet va încheia prima ediție a festivalului cu un concert sperăm memorabil. Două viori\, o violă\, un violoncel și o voce vor încerca să cânte despre ceea ce există între calmul începutului și tăcerea sfârșitului. “In Between Silence” este un proiect în care patru muzicieni virtuozi și-au dorit să concentreze și să redea cântecul vieții așa cum este ea – plină de haos\, energie și frumusețe. \nO parte din echipa ORA Jazz Festival are în palmares organizarea a două mari festivaluri de jazz în zona de vest a țării\, Gărâna Jazz Festival și Timisoara Jazz Festival. Incluzând Oradea\, un oraș cu istorie și cultură bogate\, pe harta evenimentelor sale\, ORA Jazz Festival speră să aducă muzica jazz mai aproape de pasionați și să câștige public nou pentru unul dintre cele mai libere genuri muzicale. \nConcertele se vor desfășura în Sinagoga Neologă Sion\, Str. Independenței nr. 22\, Oradea\, începând cu ora 18:00.\nPrețul unui bilet pentru o zi este de 80 ron\, iar al abonamentului 210 ron.\nBiletele și abonamentele se pot achiziționa online de pe www.bilete.ro sau înaintea începerii primului concert al zilei\, de la intrare. \nOrganizator: Asociația Culturală Mono\nCo-organizator: Asociaţia pentru Promovarea Turismului din Oradea și Regiune (APTOR)\n
URL:https://ghidlocal.com/oradea/eveniment/ora-jazz-festival-2018/
LOCATION:Sinagoga ZION\, Pta Independentei\, Oradea\, 410475\, Romania
CATEGORIES:Concerte,Festival
ATTACH;FMTTYPE=image/jpeg:https://cdn.cluj.com/ghidlocalcom/sites/2/2018/07/ORA-Jazz-Festival-2018.jpg
END:VEVENT
BEGIN:VEVENT
DTSTART;TZID=Europe/Bucharest:20180914T220000
DTEND;TZID=Europe/Bucharest:20180914T233000
DTSTAMP:20260423T010108
CREATED:20180912T081216Z
LAST-MODIFIED:20180912T081216Z
UID:23730-1536962400-1536967800@ghidlocal.com
SUMMARY:STEP UP Revolution Dance Party
DESCRIPTION:STEP UP Revolution Dance Party \n
URL:https://ghidlocal.com/oradea/eveniment/step-up-revolution-dance-party/
LOCATION:Latino Vibes Dance Academy
CATEGORIES:Petrecere
ATTACH;FMTTYPE=image/jpeg:https://cdn.cluj.com/ghidlocalcom/sites/2/2018/08/STEP-UP-Revolution-Dance-Party.jpg
ORGANIZER;CN="Latino%20Vibes%20Dance%20Academy":MAILTO:contact@latino-vibes.ro
END:VEVENT
BEGIN:VEVENT
DTSTART;TZID=Europe/Bucharest:20180914T220000
DTEND;TZID=Europe/Bucharest:20180914T233000
DTSTAMP:20260423T010108
CREATED:20180912T124624Z
LAST-MODIFIED:20180912T124624Z
UID:23741-1536962400-1536967800@ghidlocal.com
SUMMARY:Scene W/ Cipi Hampu Bross Vali Florea
DESCRIPTION:Scene W/ Cipi Hampu Bross Vali Florea\n  \nC I P I H A M P U\nB R O S S (CYCLIC)\nV A L I. F L O R E A\n______________________\nDress code: Dress to Impress!?\n________________________\nIn conformitate cu legea romana in vigoare\, Habit Club iși rezerva dreptul de a-si selecta clientela.\nAcces: 18+\n22:00 P.M.\n________________________\nPentru rezervari\, va rugam sa ne contactati la numarul:\n?0771/ 210 671.\n________________________\nPartener Oficial: ? BMW Grup West Premium – Oradea \n
URL:https://ghidlocal.com/oradea/eveniment/scene-w-cipi-hampu-bross-vali-florea/
LOCATION:Solay
CATEGORIES:Petrecere
ATTACH;FMTTYPE=image/jpeg:https://cdn.cluj.com/ghidlocalcom/sites/2/2018/09/Scene-W-Cipi-Hampu-Bross-Vali-Florea.jpg
END:VEVENT
BEGIN:VEVENT
DTSTART;TZID=Europe/Bucharest:20180914T230000
DTEND;TZID=Europe/Bucharest:20180914T233000
DTSTAMP:20260423T010108
CREATED:20180912T073059Z
LAST-MODIFIED:20180912T073059Z
UID:23712-1536966000-1536967800@ghidlocal.com
SUMMARY:Dinsubsol la CET 3: Mihigh and residents
DESCRIPTION:Dinsubsol la CET 3: Mihigh and residents\n  \nîAugust has passed\, and yet summer continues by force to grow days. They sprout secretly between the chapters of the year\, covertly included between its pages. Let’s say goodbye to summer in a good way. #dance \n[] Mihigh (Club Midi)\nRobinski / Tiberiu / Crisstia / Strigoi / Albui / Badinule / Chirila \n
URL:https://ghidlocal.com/oradea/eveniment/dinsubsol-la-cet-3-mihigh-and-residents/
LOCATION:Calea Borșului\, 410065 Oradea\, România
CATEGORIES:Petrecere
ATTACH;FMTTYPE=image/jpeg:https://cdn.cluj.com/ghidlocalcom/sites/2/2018/09/Dinsubsol-la-CET-3-Mihigh-and-residents.jpg
END:VEVENT
END:VCALENDAR