BEGIN:VCALENDAR
VERSION:2.0
PRODID:-//Oradea - ECPv5.1.1//NONSGML v1.0//EN
CALSCALE:GREGORIAN
METHOD:PUBLISH
X-WR-CALNAME:Oradea
X-ORIGINAL-URL:https://ghidlocal.com/oradea
X-WR-CALDESC:Events for Oradea
BEGIN:VTIMEZONE
TZID:Europe/Bucharest
BEGIN:DAYLIGHT
TZOFFSETFROM:+0200
TZOFFSETTO:+0300
TZNAME:EEST
DTSTART:20180325T010000
END:DAYLIGHT
BEGIN:STANDARD
TZOFFSETFROM:+0300
TZOFFSETTO:+0200
TZNAME:EET
DTSTART:20181028T010000
END:STANDARD
END:VTIMEZONE
BEGIN:VEVENT
DTSTART;TZID=Europe/Bucharest:20180729T070000
DTEND;TZID=Europe/Bucharest:20180909T190000
DTSTAMP:20260422T163547
CREATED:20180726T093101Z
LAST-MODIFIED:20180726T093101Z
UID:22777-1532847600-1536519600@ghidlocal.com
SUMMARY:NOU: Calator in Tara Beiusului
DESCRIPTION:NOU: Calator in Tara Beiusului\nPerioada:\n– duminica \nPlecare: dimineata ora 7:00 din parcarea Centrul Civic\, Oradea\, intoarcere seara. \nPret: 90 ron / pers \n(transport + ghidaj) \nObiective vizitați:\n– Pestera Meziad\n– Mina cu cristale de la Farcu\n– Delani \n-Stejarul Secular Remetea  \n– Păstrăvaria Hanul Bratcutei  \n  \n15 lei\, Pestera Meziad 15 lei \, pranz traditional Pastravaria Hanul Bratcutei. \nIMPORTANT:\nPretul este valabil pentru grupul minim de 18 persoane\, pentru grup mai mic se recalteaza calculele\, eventualele diferente vor fi anuntate si se vor plati cu 5 zile inainte de plecare. \nInformații și înscrieri la nr. de telefon:\n0744.352.355 Melinda sau 0787-372.848 Ioana \nstr. Crinului nr 5 \n
URL:https://ghidlocal.com/oradea/eveniment/nou-calator-in-tara-beiusului/2018-07-29/
LOCATION:Casa de Cultura a Sindicatelor Oradea\, Piata 1 Decembrie nr. 1\, 410068\, Oradea
CATEGORIES:Turism
ATTACH;FMTTYPE=image/jpeg:https://cdn.cluj.com/ghidlocalcom/sites/2/2018/07/Calator-in-Tara-Beiusului.jpg
END:VEVENT
BEGIN:VEVENT
DTSTART;TZID=Europe/Bucharest:20180907T143000
DTEND;TZID=Europe/Bucharest:20180909T220000
DTSTAMP:20260422T163547
CREATED:20180829T075246Z
LAST-MODIFIED:20180829T075246Z
UID:23529-1536330600-1536530400@ghidlocal.com
SUMMARY:TIFF Oradea\, ediția I
DESCRIPTION:TIFF Oradea\, ediția I \nCel mai mare festival de film din România ajunge la Oradea!  \nÎntre 7- 9 septembrie are loc prima ediție TIFF Oradea și promite iubitorilor de film un program încărcat de premiere și noutăți de toamnă\, cine-concerte și evenimente speciale.  \nOrădenii vor fi purtați în cele mai îndrăgite spații din oraș pentru numeroase proiecții în aer liber sau indoor – Piața Unirii\, Cetatea\, Universitatea Partium sunt câteva dintre principalele locații în care TIFF Oradea se va desfășura.  \nProgramul complet al primei ediții TIFF Oradea va fi anunțat în curând.  \n––––––––– \nTIFF Oradea (7 – 9 septembrie) este organizat de Asociația pentru Promovarea Filmului Românesc (APFR) și co-finanțat de Primăria Municipiului Oradea\, prin Consiliul Local Oradea. \nPrezentat de: Banca Transilvania\nParteneri media: Radio Europa FM\, Adevărul\, Dilema veche\, OK! Magazine\, Zile Si Nopti Oradea\, Cinemap\, Observator cultural\, Cinemagia\, AGERPRES\, LiterNet.ro\, Moviecore\, Radio Cluj\, PluszFM Nagyvárad oldal\, Bihor Online – Bihon.ro\, Bihari Napló\, Jurnalul Bihorean\, Bihoreanul\, eBihoreanul.\nPartener de comunicare: Manifest Advertising\nPartener monitorizare: mediaTRUST Romania. \n
URL:https://ghidlocal.com/oradea/eveniment/tiff-oradea-editia-i/
ATTACH;FMTTYPE=image/jpeg:https://cdn.cluj.com/ghidlocalcom/sites/2/2018/08/Nout%C4%83%C8%9Bi-%C8%99i-premiere-cinematografice-maghiare-la-prima-edi%C8%9Bie-TIFF-Oradea.jpg
END:VEVENT
BEGIN:VEVENT
DTSTART;TZID=Europe/Bucharest:20180909T090000
DTEND;TZID=Europe/Bucharest:20180909T210000
DTSTAMP:20260422T163547
CREATED:20180904T064337Z
LAST-MODIFIED:20180904T064337Z
UID:23592-1536483600-1536526800@ghidlocal.com
SUMMARY:Maratonul Cumpărăturilor
DESCRIPTION:Maratonul Cumpărăturilor\n  \nUltima lună de vară a sosit\, iar în curând vor începe pregătirile pentru noul an școlar! ?? \n#MaratonuluiCumpărăturilor transformă această perioadă într-o adevărată bucurie! Fă-ți cumpărăturile la Aushopping Oradea în perioada 13 august – 9 septembrie\, colecționează 5 #bucurii (stickere) și participă la tragerea la sorți pentru a câștiga premii speciale din oferta magazinelor centrului comercial! ?✨ \nIată care sunt magazinele participante: Aform\, Aromasque\, Contakt Express Logistik\, Direct Flores\, Probeauty\, Fan Gsm\, Flanco\, Lagos\, Carguard\, Emantes Group – Astop Broker\, Bijuteria Ameea\, Lingyong\, Mara Studio Beauty\, Mobiup \, Grill\,RobestShop\, Sara Travel\, Sensiblu\, Story Shop\, Select Gold\, Mobil Don \nAflă aici toate detaliile – http://bit.ly/2AYIbNz \n
URL:https://ghidlocal.com/oradea/eveniment/maratonul-cumparaturilor/
LOCATION:Aushopping Romania (Oradea)
CATEGORIES:Oferte
ATTACH;FMTTYPE=image/jpeg:https://cdn.cluj.com/ghidlocalcom/sites/2/2018/09/Maratonul-Cump%C4%83r%C4%83turilor.jpg
END:VEVENT
BEGIN:VEVENT
DTSTART;TZID=Europe/Bucharest:20180909T120000
DTEND;TZID=Europe/Bucharest:20180909T170000
DTSTAMP:20260422T163547
CREATED:20180904T091812Z
LAST-MODIFIED:20180904T091812Z
UID:23624-1536494400-1536512400@ghidlocal.com
SUMMARY:Oradea.Lansare carte “Anul devenirii tale”
DESCRIPTION:Oradea.Lansare carte “Anul devenirii tale”\n  \nDuminica\, 9 septembrie 2018\, ora 12.00\, va invitam la lansarea cărții  “Anul devenirii tale” in Oradea la Hotel Doubletree by Hilton.\nPentru orice informatii suplimentare\, va punem la dispozitie numarul organizatorui :\n0749 823 104‬ Mihaela Motas \nAnatol Basarab – psiholog și numerolog\nautorul cărților „Proprietarul Galaxiei”\, „Viața care ne trăiește” și „Numerologia în viața fiecăruia” \nAdriana Nicolae – psiholog și trainer\nautoarea cărții ”English for Tourism Professionals and Staff” (tradusă și în limba germană) \n„Anul devenirii tale” reflectă esenţa cunoașterii psihologice\, parapsihologice și numerologice a autorilor și abordează cele mai importante teme ce ţin de viaţa fizică\, afectivă și spirituală a oamenilor. \nInformaţii practice\, prezentate clar și concis în opt sinteze accesibile! \nTemele colecției \nRânduri despre Iubire\nRânduri despre Relații\nRânduri despre Familie\nRânduri despre Sănătate\nRânduri despre Rolurile noastre\nRânduri despre Jocurile din relații\nRânduri despre Lumea în care trăim\nRânduri despre Legile Universului \nDe ce sunt oamenii nefericiți\, neîmpliniți și suferă? Pentru că – undeva\, cumva\, în relație cu cineva – ei greșesc. Au o viziune falsă\, îngustă și incompletă asupra realității. \nCe este scris aici poate fi un ghid de orientare prin viață – tot ceea ce ai nevoie ca să înțelegi cum să te raportezi corect la realitate – sau încă un obiect din biblioteca ta.\nCartea aceasta poate fi pentru tine sămânța cunoașterii: după ce o vei fi citit\, este rândul tău. Dacă solul este roditor\, iar tu te vei îngriji să uzi semințele\, vei culege apoi și roadele. \nTu alegi ce sens îi oferi acestei cărți în viața ta. \nCe vei citi în această carte te va durea. Dar ceva deja te doare\, altfel nu ai vrea să vezi ce este scris aici. Dacă tot exiști pe acest pământ\, ce-ar fi să îți realizezi propriul proiect de viață și să îl trăiești așa cum ți l-ai propus? \n
URL:https://ghidlocal.com/oradea/eveniment/oradea-lansare-carte-anul-devenirii-tale/
LOCATION:Anatol Basarab
CATEGORIES:Business
ATTACH;FMTTYPE=image/jpeg:https://cdn.cluj.com/ghidlocalcom/sites/2/2018/09/Oradea.Lansare-carte-%E2%80%9CAnul-devenirii-tale%E2%80%9D.jpg
END:VEVENT
BEGIN:VEVENT
DTSTART;TZID=Europe/Bucharest:20180909T200000
DTEND;TZID=Europe/Bucharest:20180909T230000
DTSTAMP:20260422T163547
CREATED:20180904T082030Z
LAST-MODIFIED:20180904T082030Z
UID:23606-1536523200-1536534000@ghidlocal.com
SUMMARY:Movie night #4 - King Kong (1933)
DESCRIPTION:Movie night #4 – King Kong (1933)\n  \n„How would you like to star opposite the tallest\, darkest leading man in Hollywood?” Enticed by these words\, brunette leading lady Fay Wray dyed her hair blonde and accepted the role of Ann Darrow in King Kong – and stayed with the project even after learning that her „leading man” was a 50-foot ape. The film introduces us to flamboyant\, foolhardy documentary filmmaker Carl Denham (Robert Armstrong)\, who sails off to parts unknown to film his latest epic with leading lady Darrow in tow. Disembarking at Skull Island\, they stumble on a ceremony in which the native dancers circle around a terrified-looking young girl\, chanting\, „Kong! Kong!” The chief (Noble Johnson) and witch doctor (Steve Clemente) spot Denham and company and order them to leave. But upon seeing Ann\, the chief offers to buy the „golden woman” to serve as the „bride of Kong.” Denham refuses\, and he and the others beat a hasty retreat to their ship. Late that night\, a party of native warriors sneak on board the ship and kidnap Ann. They strap her to a huge sacrificial altar just outside the gate\, then summon Kong\, who winds up saving Ann instead of devouring her. Kong is eventually taken back to New York\, where he breaks loose on the night of his Broadway premiere\, thinking that his beloved Ann is being hurt by the reporters’ flash bulbs. Now at large in New York\, Kong searches high and low for Ann (in another long-censored scene\, he plucks a woman from her high-rise apartment\, then drops her to her death when he realizes she isn’t the girl he’s looking for). After proving his devotion by wrecking an elevated train\, Kong winds up at the top of the Empire State Building\, facing off against a fleet of World War I fighter planes. ~ Hal Erickson\, Rovi \n
URL:https://ghidlocal.com/oradea/eveniment/movie-night-4-king-kong-1933/
LOCATION:Strings Café & Pub\, pin Strings Café & Pub Traian Mosoiu\, nr. 5\, Oradea
CATEGORIES:Film
ATTACH;FMTTYPE=image/jpeg:https://cdn.cluj.com/ghidlocalcom/sites/2/2018/09/Movie-night-4-King-Kong-1933.jpg
END:VEVENT
BEGIN:VEVENT
DTSTART;TZID=Europe/Bucharest:20180909T210000
DTEND;TZID=Europe/Bucharest:20180909T223000
DTSTAMP:20260422T163547
CREATED:20180904T084400Z
LAST-MODIFIED:20180904T084400Z
UID:23612-1536526800-1536532200@ghidlocal.com
SUMMARY:Cine-concert Studentul din Praga/Irina Margareta Nistor&CelloFun
DESCRIPTION:Cine-concert Studentul din Praga/Irina Margareta Nistor&CelloFun\n  \nCine-concert STUDENTUL DIN PRAGA – Irina Margareta Nistor & CelloFun\nProiecție de film mut cu sound-design live şi pasaje din Alfred de Musset \nCelloFun (Bucureşti/Cluj-Napoca/Bruxelles):\nAttila Szabó J – violoncel\, electronice\nAlexandra Andrieș – voce\, electronice\, percuţie\nMaria Petrescu – oboi\nRadu Rădescu – percuţie\, concept & texte\nInvitat:\nIrina Margareta Nistor (The Voice of the Movies) – lectură\, traducere live \n„Der Student von Prag” (Germania\, 1913\, restaurat 2013\, durată: 80 min.)\nregia: Paul Wegener și Stellan Rye\, scenariul: Hanns Heinz Ewers \n„Studentul din Praga”\, cunoscut şi sub numele de „Târg cu Satana”\, este un horror german de pionierat\, realizat în anul 1913\, în Germania celui de-al Doilea Imperiu\, la scurt timp înaintea declanșării Primului Război Mondial. Scenariul se bazează pe trei surse literare: povestirea „William Wilson” de Edgar Allan Poe\, poezia „Nuit de décembre” de Alfred de Musset şi piesa „Faust” de Johann Wolfgang von Goethe. Filmul a avut\, tot în perioada Marelui Mut\, un remake german (1926)\, în regia lui Henrik Galeen\, sub acelaşi titlu\, cu versiunea engleză „The Man Who Cheated Life”. Alte remake-uri sonore au fost produse în 1935 şi 2004. \nVersiunea iniţială este considerată drept un cumul de premiere: primul film independent\, primul film de autor\, primul film de artă şi primul film horror din istoria cinematografului. Din punct de vedere estetic\, este o ilustrare a mitului faustic\, printr-o tentativă de a (re)compensa cu mijloace expresioniste elemente ale psihologiei freudiene într-un registru fantastic. Scenaristul H.H. Ewers a văzut în cinematografie vehiculul perfect pentru a crea o atmosferă macabră și stranie. Filmul poate fi etichetat ca fiind avant-la-lettre şi pe plan tehnic\, aducând inovaţii în maniera de filmare. Tema Dopplegänger (a dedublării sau a sosiei) este exploatată în mod strălucit prin utilizarea – revoluţionară\, la acea vreme – a procedeului dublei expuneri. \nÎn lucrarea sa\, „Movies and the Modern Psyché”\, Sharon Packer afirmă că filmul „realizează o punte între supranatural şi psihologic\, prin conectarea sufletului cu eul intangibil”\, creând „o metaforă despre frământările societăţii de la începutul secolului al XX-lea\, în încercările sale de a reconcilia ideile spirituale străvechi cu progresele în domeniul ştiinţei\, tehnologiei şi psihologiei”. Odată cu acest film\, cinematograful german evoluează într-un produs de export\, deschizând seria filmelor expresioniste care au făcut cu adevărat istorie: „Cabinetul doctorului Caligari” (1920)\, în regia lui Robert Wiene\, „Golem” (1920)\, în regia lui Paul Wegener şi Carl Boese\, „Moartea obosită” (1921)\, în regia lui Fritz Lang\, sau „Nosferatu” (1921)\, în regia lui Friedrich Wilhelm Murnau. \nSinopsis. Balduin (Paul Wegener) este un student falit din Praga secolului al XIX-lea. El o salvează de la înec pe frumoasa contesă Margit von Schwarzenberg (Greta Berger) şi devine obsedat de imaginea acesteia. Dată fiind sărăcia în care trăieşte Balduin\, dragostea lui pare irealizabilă. Părintele Scapinelli (John Gottowt) îi propune acestuia un târg\, prin care tânărul ar putea obţine 100.000 de florini de aur\, în schimbul cărora preotul ar primi permisiunea de a-și alege un singur obiect din camera sărac mobilată a tânărului\, inclusiv reflexia lui din oglindă. \nRescoring. Formaţia CelloFun este specializată în prezentarea peliculelor de referinţă din epoca filmului mut\, înveşmântate sonor prin mijloace de expresie moderne. Abordarea sonoră electronică urmăreşte să atingă noi zone de explorare a unor filme revoluţionare în epocă\, dar concepute cu mult înainte de era digitală\, iar inserţiile literare sunt menite a genera insolite asocieri de idei\, stări şi sensuri între imaginea în mişcare şi text. Coloana sonoră originală construită pentru acest tip de proiect hibrid constă dintr-o mixtură de sonorităţi contemporane\, ritmuri insolite\, citări şi referinţe la teme arhetipale\, sunet sintetizat\, instrumente acustice şi voce\, cu modulaţii electronice şi procesare live. Pe lângă improvizaţie\, atmosfera filmului este completată cu efecte sonore în timp real (live foley) şi scurte fragmente de lectură extrase din poezia „Noaptea de decembrie” de Alfred de Musset. Nostalgicii filmelor pe casete video vor avea o surpriză de proporţii: traducerea în limba română a cartoanelor originale ale filmului (în limba germană\, cu subtitrare în limba franceză)\, este realizată\, pe viu\, de inconfundabila „Voce a Filmelor”\, Irina Margareta Nistor. \nCelloFun este o formulă electro-acustică născută în decembrie 2016\, la Cluj-Napoca\, ca ansamblu creat special pentru „silent movies rescoring” (re-construcţia coloanei sonore a filmelor mute)\, făcând apel la o mixtură de foley\, efecte electronice în timp real şi improvizaţie live. Primul proiect al formației este un portret al regizorului german de avangardă Hans Richter\, cuprinzând scurt-metrajele sale experimentale din perioada 1921-1931. Formația a participat cu proiecte de film şi muzică la TIFF Cluj\, Luna Plină Biertan\, Festivalul Internaţional de Psihanaliză şi Film București\, Festivalul de Film şi Istorii Râşnov\, Bookfest\, Mediaş 500\, Icon Arts Transilvania şi Orgelsommer Mediaş\, dar şi la proiecţii în spaţii neconvenţionale. În 2018\, formaţia a participat la Festivalul Internaţional de Teatru Sibiu cu proiecţia filmului „Femeia în Lună” (Germania\, 1929\, regia Fritz Lang). Implicaţi şi în alte proiecte comune\, cei patru membri ai formaţiei vin cu un background artistic divers\, dar sunt legaţi prin aceeaşi viziune asupra libertăţii de expresie\, pasiunea pentru film şi\, nu în ultimul rând\, colaborarea constantă în proiecte cu binecunoscutul critic de film Irina Margareta Nistor. \n
URL:https://ghidlocal.com/oradea/eveniment/cine-concert-studentul-din-praga-irina-margareta-nistorcellofun/
LOCATION:Sinagoga ZION\, Pta Independentei\, Oradea\, 410475\, Romania
CATEGORIES:Concerte,Film
ATTACH;FMTTYPE=image/jpeg:https://cdn.cluj.com/ghidlocalcom/sites/2/2018/09/Cine-concert-Studentul-din-Praga-Irina-Margareta-NistorCelloFun.jpg
END:VEVENT
END:VCALENDAR