BEGIN:VCALENDAR
VERSION:2.0
PRODID:-//Oradea - ECPv5.1.1//NONSGML v1.0//EN
CALSCALE:GREGORIAN
METHOD:PUBLISH
X-WR-CALNAME:Oradea
X-ORIGINAL-URL:https://ghidlocal.com/oradea
X-WR-CALDESC:Events for Oradea
BEGIN:VTIMEZONE
TZID:Europe/Bucharest
BEGIN:DAYLIGHT
TZOFFSETFROM:+0200
TZOFFSETTO:+0300
TZNAME:EEST
DTSTART:20180325T010000
END:DAYLIGHT
BEGIN:STANDARD
TZOFFSETFROM:+0300
TZOFFSETTO:+0200
TZNAME:EET
DTSTART:20181028T010000
END:STANDARD
END:VTIMEZONE
BEGIN:VEVENT
DTSTART;TZID=Europe/Bucharest:20180729T070000
DTEND;TZID=Europe/Bucharest:20180909T190000
DTSTAMP:20260422T145900
CREATED:20180726T093101Z
LAST-MODIFIED:20180726T093101Z
UID:22777-1532847600-1536519600@ghidlocal.com
SUMMARY:NOU: Calator in Tara Beiusului
DESCRIPTION:NOU: Calator in Tara Beiusului\nPerioada:\n– duminica \nPlecare: dimineata ora 7:00 din parcarea Centrul Civic\, Oradea\, intoarcere seara. \nPret: 90 ron / pers \n(transport + ghidaj) \nObiective vizitați:\n– Pestera Meziad\n– Mina cu cristale de la Farcu\n– Delani \n-Stejarul Secular Remetea  \n– Păstrăvaria Hanul Bratcutei  \n  \n15 lei\, Pestera Meziad 15 lei \, pranz traditional Pastravaria Hanul Bratcutei. \nIMPORTANT:\nPretul este valabil pentru grupul minim de 18 persoane\, pentru grup mai mic se recalteaza calculele\, eventualele diferente vor fi anuntate si se vor plati cu 5 zile inainte de plecare. \nInformații și înscrieri la nr. de telefon:\n0744.352.355 Melinda sau 0787-372.848 Ioana \nstr. Crinului nr 5 \n
URL:https://ghidlocal.com/oradea/eveniment/nou-calator-in-tara-beiusului/2018-07-29/
LOCATION:Casa de Cultura a Sindicatelor Oradea\, Piata 1 Decembrie nr. 1\, 410068\, Oradea
CATEGORIES:Turism
ATTACH;FMTTYPE=image/jpeg:https://cdn.cluj.com/ghidlocalcom/sites/2/2018/07/Calator-in-Tara-Beiusului.jpg
END:VEVENT
BEGIN:VEVENT
DTSTART;TZID=Europe/Bucharest:20180906T180000
DTEND;TZID=Europe/Bucharest:20180908T200000
DTSTAMP:20260422T145900
CREATED:20180904T081421Z
LAST-MODIFIED:20180904T081421Z
UID:23602-1536256800-1536436800@ghidlocal.com
SUMMARY:Sună clopoțelul la distracție la Lotus Center!
DESCRIPTION:Sună clopoțelul la distracție la Lotus Center!\n  \nÎncepe școala\, iar la Lotus Center „Sună clopoțelul la distracție!” pentru cei mici!?❤ \n?⏰Pentru perioada 6-8 septembrie orarul este deja pregătit\, iar băncuțele sunt aranjate în zona Pellini Top-Violet: \n✏În 6 septembrie\, începând cu ora 18:00\, ne vom delecta cu “Kids Fashion Show”\, o prezentare de modă pentru copii în cadrul căreia veți putea vedea cele mai noi colecții vestimentare pentru cei mici\, precum și noile tendințe în materie de accesorii pentru școală.\n✏În după-amiaza de 7 septembrie\, tot de la ora 18:00\, îi invităm pe cei mici la atelierul de dezvoltare social-emoțională “Cu emoțiile în ghiozdan“ împreună cu psiholog Ramona Popa. Atelierul se adresează copiilor cu vârsta cuprinsă între 7-12 ani. Înscrierile se fac la: 0728 992 490. Locurile sunt limitate.\n✏În 8 septembrie\, Lotus Center se transformă într-un tărâm al poveștilor și vă așteaptă la spectacolul de teatru „Jack și Vrejul de Fasole”\, care va avea loc începând cu ora 18:00. \nVă așteptăm în toate cele trei zile cu voie bună\, premii și muuulte surprize\, pentru un nou an școlar vesel și rodnic.?? \n
URL:https://ghidlocal.com/oradea/eveniment/suna-clopotelul-la-distractie-la-lotus-center/
LOCATION:Lotus Center\, Strada Nufărului\, numărul 30\, Oradea\, Bihor\, România
CATEGORIES:Activitati pentru copii
ATTACH;FMTTYPE=image/jpeg:https://cdn.cluj.com/ghidlocalcom/sites/2/2018/09/Sun%C4%83-clopo%C8%9Belul-la-distrac%C8%9Bie-la-Lotus-Center.jpg
END:VEVENT
BEGIN:VEVENT
DTSTART;TZID=Europe/Bucharest:20180907T090000
DTEND;TZID=Europe/Bucharest:20180908T170000
DTSTAMP:20260422T145900
CREATED:20180816T140412Z
LAST-MODIFIED:20180816T140412Z
UID:23301-1536310800-1536426000@ghidlocal.com
SUMMARY:Leadership pentru management de nivel mediu
DESCRIPTION:Leadership pentru management de nivel mediu\n  \nSubiecte abordate:\nManagement sau Leadership\, stabilirea și cascadarea obiectivelor\, abilități de comunicare\, relații interpersonale\, delegare\, coordonare și control\, relații pozitive cu angajații\, gestionarea comportamentelor deranjante\, gestionarea plângerilor din partea angajaților\, gestionarea managerilor ierarhic superiori\, planificarea succesiunii pentru posturi cheie\, simulări situaționale și evaluare. \nBeneficii:\nAtingerea obiectivelor organizaționale\, dezvoltarea carierei\, reducerea fluctuației de personal\, responsabilitate crescută\, îmbunătățirea relațiilor supervizor-angajat. \nCursul se adresează:\nManagerilor de subdepartamente și compartimente\, manageri de proiect\, supervizori de producție\, Scrum Masters\, ingineri de proces și calitate. \nDurata cursului\n2 zile \nActe necesare\n• Copie CI;\n• CV. \n
URL:https://ghidlocal.com/oradea/eveniment/leadership-pentru-management-de-nivel-mediu/
LOCATION:Corporactive Consulting\, Olteniei\, nr. 67\, Oradea\, 410538\, RO
CATEGORIES:Business,Conferinte,Workshop
ATTACH;FMTTYPE=image/jpeg:https://cdn.cluj.com/ghidlocalcom/sites/2/2018/08/Leadership-pentru-management-de-nivel-mediu.jpg
END:VEVENT
BEGIN:VEVENT
DTSTART;TZID=Europe/Bucharest:20180907T143000
DTEND;TZID=Europe/Bucharest:20180909T220000
DTSTAMP:20260422T145900
CREATED:20180829T075246Z
LAST-MODIFIED:20180829T075246Z
UID:23529-1536330600-1536530400@ghidlocal.com
SUMMARY:TIFF Oradea\, ediția I
DESCRIPTION:TIFF Oradea\, ediția I \nCel mai mare festival de film din România ajunge la Oradea!  \nÎntre 7- 9 septembrie are loc prima ediție TIFF Oradea și promite iubitorilor de film un program încărcat de premiere și noutăți de toamnă\, cine-concerte și evenimente speciale.  \nOrădenii vor fi purtați în cele mai îndrăgite spații din oraș pentru numeroase proiecții în aer liber sau indoor – Piața Unirii\, Cetatea\, Universitatea Partium sunt câteva dintre principalele locații în care TIFF Oradea se va desfășura.  \nProgramul complet al primei ediții TIFF Oradea va fi anunțat în curând.  \n––––––––– \nTIFF Oradea (7 – 9 septembrie) este organizat de Asociația pentru Promovarea Filmului Românesc (APFR) și co-finanțat de Primăria Municipiului Oradea\, prin Consiliul Local Oradea. \nPrezentat de: Banca Transilvania\nParteneri media: Radio Europa FM\, Adevărul\, Dilema veche\, OK! Magazine\, Zile Si Nopti Oradea\, Cinemap\, Observator cultural\, Cinemagia\, AGERPRES\, LiterNet.ro\, Moviecore\, Radio Cluj\, PluszFM Nagyvárad oldal\, Bihor Online – Bihon.ro\, Bihari Napló\, Jurnalul Bihorean\, Bihoreanul\, eBihoreanul.\nPartener de comunicare: Manifest Advertising\nPartener monitorizare: mediaTRUST Romania. \n
URL:https://ghidlocal.com/oradea/eveniment/tiff-oradea-editia-i/
ATTACH;FMTTYPE=image/jpeg:https://cdn.cluj.com/ghidlocalcom/sites/2/2018/08/Nout%C4%83%C8%9Bi-%C8%99i-premiere-cinematografice-maghiare-la-prima-edi%C8%9Bie-TIFF-Oradea.jpg
END:VEVENT
BEGIN:VEVENT
DTSTART;TZID=Europe/Bucharest:20180908T090000
DTEND;TZID=Europe/Bucharest:20180908T200000
DTSTAMP:20260422T145900
CREATED:20180904T070514Z
LAST-MODIFIED:20180904T070514Z
UID:23601-1536397200-1536436800@ghidlocal.com
SUMMARY:Excursie de 1 zi: Descoperă Valea Ierului și a Barcăului
DESCRIPTION:Excursie de 1 zi: Descoperă Valea Ierului și a Barcăului\n  \nVă invităm să descoperiți Valea Ierului și a Barcăului\, zone deosebit de frumoase a județului Bihor\, cu multe obiective turistice unice! \nTipul evenimentului: excursie cu autocar. \n********\nPornire:\n09:00 Oradea (centrul civic) \nObiective turistice ce urmează a fi vizitate:\n10:25 – 18:00\n– Sălard\, Biserica Reformată\n– Sântimreu\, vizită la Crama și podgoria Ur\n– Biserica de lemn Margine (sec. XVIII)\n– Pauză de prânz: Restaurant Bello\, Marghita.\n– Casa Muzeu Galoșpetreu\n– Conacul Komáromi (sec. XVII)\, Otomani\n– Diosig\, Castelul Zichy\, (sec. XVIII) – degustare de vin contracost:\na) Degustarea a 5 soiuri de vin – 20 lei\nb) Un pahar de vin (150 ml) – 5 lei\,\nc) limonadă (300 ml) – 5 lei. \nSosire:\n19:15 Oradea (centrul civic)\n19:30 în Băile 1 Mai\n19:40 în Băile Felix \n*********\nTaxa de participare la eveniment este de 49 lei pentru adulți\, respectiv 29 lei pentru copiii sub 12 ani (sub 3 ani gratis). Aceasta include transportul cu autocarul/microbuzul\, ghidajul și intrările la obiectivele turistice. Taxa de participare nu include degustarea de vin și prânzul. \nBiletele se pot achiziționa la sediul Agenției de Management al Destinației Bihor (AMD Bihor): str. Primăriei nr. 2\, et. 1\, ap. 6 – 7\, Oradea\, județul Bihor\, în zilele lucrătoare între orele 08:00 – 16:30.\nsau ONLINE pe www.biletmaster.ro\, sau pe următorul link: http://bit.ly/VALEAIERULUI \nNumărul locurilor disponibile este limitat. Organizatorii își mențin dreptul de a modifica programul. \n*********\nContact:\n– amdbihor@gmail.com\n– 0723373179\, AMD Bihor (Rosmann Eddie) \nFotografia de copertă: Ottományi Kiállítóház – Casa de Expoziții Otomani\nCredits: Bauman Dieter-Gergő \nMagyar nyelven: https://bit.ly/2lO9VtV \n
URL:https://ghidlocal.com/oradea/eveniment/excursie-de-1-zi-descopera-valea-ierului-si-a-barcaului-3/
CATEGORIES:Turism
ATTACH;FMTTYPE=image/jpeg:https://cdn.cluj.com/ghidlocalcom/sites/2/2018/07/Excursie-de-1-zi.jpg
END:VEVENT
BEGIN:VEVENT
DTSTART;TZID=Europe/Bucharest:20180908T190000
DTEND;TZID=Europe/Bucharest:20180908T203000
DTSTAMP:20260422T145900
CREATED:20180904T090428Z
LAST-MODIFIED:20180904T090428Z
UID:23619-1536433200-1536438600@ghidlocal.com
SUMMARY:Variațiuni enigmatice
DESCRIPTION:Variațiuni enigmatice\nVARIAȚIUNI ENIGMATICE\, de Éric-Emmanuel Schmitt\, traducerea: Nicolae Weisz\, regia Elvira Rîmbu \n? Biletele s-au pus în vânzare la Agenţia de Bilete a Teatrului de marți până vineri în intervalul orar 12:00 – 18:00\, iar în weekend între orele 10:00 – 13:00. Puteţi achiziţiona bilete şi cu o oră înainte spectacol sau online pe www.biletmaster.ro. \nPentru informaţii suplimentare şi rezervări de bilete\, vă invităm să sunaţi la numărul de telefon: 0372/368.475. \nSINOPSIS:\nO întâlnire profesională dintre doi bărbați inteligenți\, scriitorul Abel Znorko (Sebastian Lupu)\, laureat al Premiului Nobel pentru Literatură și jurnalistul Erik Larsen (Petre Ghimbăşan)\, se transformă brusc într-o partidă antrenantă de șah verbal. Personalități puternice și dominante\, ambii bărbați își joacă partida\, alternând polul de putere în funcție de mutarea pe care celălalt o face\, întrevederea intrând astfel într-un labirint sinuos\, animat cu rafinament de o desăvârșită știință a suspansului. \nSpectacolul este regizat de Elvira Rîmbu\, actriță a Teatrului Regina Maria\, care a semnat și direcția de scenă a producției „O poveste foarte simplă”; pe scenă se întâlnesc doi actori remarcabili\, care au format mereu un duo puternic și efervescent\, reușind să surprindă prin nuanțele fine și ingenioase cu care își construiesc fiecare personaj; scenografia\, complexă și complementară\, este creată de Oana Cernea\, ecuație artistică care nu poate să ducă decât la nașterea unui spectacol surprinzător și inedit. \nDistribuția:\nAbel Znorko – Sebastian Lupu\nErik Larsen – Petre Ghimbășan \nRegia artistică: Elvira Rîmbu\nScenografia: Oana Cernea\nTraducere: Nicolae Weisz \n
URL:https://ghidlocal.com/oradea/eveniment/variatiuni-enigmatice-2/
CATEGORIES:Teatru
ATTACH;FMTTYPE=image/jpeg:https://cdn.cluj.com/ghidlocalcom/sites/2/2018/09/Varia%C8%9Biuni-enigmatice.jpg
END:VEVENT
BEGIN:VEVENT
DTSTART;TZID=Europe/Bucharest:20180908T200000
DTEND;TZID=Europe/Bucharest:20180908T220000
DTSTAMP:20260422T145900
CREATED:20180816T070047Z
LAST-MODIFIED:20180816T070047Z
UID:23256-1536436800-1536444000@ghidlocal.com
SUMMARY:Fraţii JDiERI în Cetatea Oradea
DESCRIPTION:Fraţii JDiERI în Cetatea Oradea \nUită ce a fost imortalizat în cronici de marii scribi ai vremurilor apuse!\nNe îndreptăm privirea mai departe în timp\, unde istoria se împletește cu fantezia și vom străbate meleaguri de neimaginat.\nPe 8 septembrie\, de la ora 20:00 Fratii Jdieri vor cuceri împreună cu voi Cetatea Oradea într-un concert cum nu s-a mai văzut prin acest ţinut.\nAșa că scutură pletele\, curăţă ghetele și hai la una dintre cele mai tari experienţe! \nIntrarea este liberă\, avem locuri pentru toţi doritorii \nComponenţa trupei Fraţii JDiERI:\nArtylerian – voce; chitară\nNiguel Elsinore – chitară\nSfântu – bass\nPDV (Stăpânul Cinelelor) – tobe\nJejet Sprinten – chitară \n
URL:https://ghidlocal.com/oradea/eveniment/fratii-jdieri-in-cetatea-oradea/
LOCATION:Cetatea Oradea/ Oradea Fortress\, Cetatea Oradea\, Oradea-Mare\, 410100\, Romania
CATEGORIES:Concerte
ATTACH;FMTTYPE=image/jpeg:https://cdn.cluj.com/ghidlocalcom/sites/2/2018/08/Fra%C5%A3ii-JDiERI-%C3%AEn-Cetatea-Oradea.jpg
END:VEVENT
BEGIN:VEVENT
DTSTART;TZID=Europe/Bucharest:20180908T220000
DTEND;TZID=Europe/Bucharest:20180908T233000
DTSTAMP:20260422T145900
CREATED:20180904T092536Z
LAST-MODIFIED:20180904T092536Z
UID:23628-1536444000-1536449400@ghidlocal.com
SUMMARY:NewMoon Shadows vol. 2.
DESCRIPTION:NewMoon Shadows vol. 2. \nw/\n+ DJIIN [HU]\nhttps://www.mixcloud.com/robert-feat-bori/ \n+ BOOMLIN [Oradea] \n\n+ A_p_e_P [Cluj] \n\n+ APOLLO [Oradea] \n\n+ EJN TAR [Oradea] \n\nDeco:\nNemeth Attila Levente Visual Arts\nhttps://www.facebook.com/nemethattilaleventeGraphics/ \nVisuals by Tarka \nLogin: 15 lei \n
URL:https://ghidlocal.com/oradea/eveniment/newmoon-shadows-vol-2/
LOCATION:apple room\, Moscovei nr. 8\, Oradea\, Romania
CATEGORIES:Tehnologie
ATTACH;FMTTYPE=image/jpeg:https://cdn.cluj.com/ghidlocalcom/sites/2/2018/09/NewMoon-Shadows-vol.-2..jpg
END:VEVENT
BEGIN:VEVENT
DTSTART;TZID=Europe/Bucharest:20180908T230000
DTEND;TZID=Europe/Bucharest:20180908T233000
DTSTAMP:20260422T145900
CREATED:20180904T102424Z
LAST-MODIFIED:20180904T134807Z
UID:23654-1536447600-1536449400@ghidlocal.com
SUMMARY:90's Party by Old Bones Society: Rewind the 90's
DESCRIPTION:90’s Party by Old Bones Society: Rewind the 90’s \nCum ar fi să poţi călători în timp? ? \nS-au scris cărţi despre acest subiect\, s-au făcut filme…\nNoi te vom ajuta să depășești limitele temporale\, cel puţin muzical\, printr-o petrecere ca-n anii 90 cu piese ca „Rythm of the night”\, „Be my lover” și „What is love”\, fără a uita de clasicele hituri românești „Lasă-mă papa la mare” sau „Moșule ce tânăr ești”.  \nNe vom aminti de artiști ca Backstreet Boys\, Dr. Alban\, Take That\, Valahia\, Genius\, N&D.  \nVă recomandăm să vă pregătiţi garderoba potrivită și freza specifică anilor 90.  \nO petrecere de Old Bones Society împreună cu The PIPE.\nÎncepem de la ora 23:00\nIntrare: 30 lei (include 2 băuturi la alegere) \n
URL:https://ghidlocal.com/oradea/eveniment/90s-party-by-old-bones-society-rewind-the-90s/
LOCATION:The Pipe\, Strada Vasile Alecsandri\, numărul 15\, Oradea\, Bihor\, România
CATEGORIES:Petrecere
ATTACH;FMTTYPE=image/jpeg:https://cdn.cluj.com/ghidlocalcom/sites/2/2018/09/90s-Party-by-Old-Bones-Society-Rewind-the-90s.jpg
END:VEVENT
END:VCALENDAR