BEGIN:VCALENDAR
VERSION:2.0
PRODID:-//Oradea - ECPv5.1.1//NONSGML v1.0//EN
CALSCALE:GREGORIAN
METHOD:PUBLISH
X-WR-CALNAME:Oradea
X-ORIGINAL-URL:https://ghidlocal.com/oradea
X-WR-CALDESC:Events for Oradea
BEGIN:VTIMEZONE
TZID:Europe/Bucharest
BEGIN:DAYLIGHT
TZOFFSETFROM:+0200
TZOFFSETTO:+0300
TZNAME:EEST
DTSTART:20180325T010000
END:DAYLIGHT
BEGIN:STANDARD
TZOFFSETFROM:+0300
TZOFFSETTO:+0200
TZNAME:EET
DTSTART:20181028T010000
END:STANDARD
END:VTIMEZONE
BEGIN:VEVENT
DTSTART;TZID=Europe/Bucharest:20180729T070000
DTEND;TZID=Europe/Bucharest:20180909T190000
DTSTAMP:20260422T131655
CREATED:20180726T093101Z
LAST-MODIFIED:20180726T093101Z
UID:22777-1532847600-1536519600@ghidlocal.com
SUMMARY:NOU: Calator in Tara Beiusului
DESCRIPTION:NOU: Calator in Tara Beiusului\nPerioada:\n– duminica \nPlecare: dimineata ora 7:00 din parcarea Centrul Civic\, Oradea\, intoarcere seara. \nPret: 90 ron / pers \n(transport + ghidaj) \nObiective vizitați:\n– Pestera Meziad\n– Mina cu cristale de la Farcu\n– Delani \n-Stejarul Secular Remetea  \n– Păstrăvaria Hanul Bratcutei  \n  \n15 lei\, Pestera Meziad 15 lei \, pranz traditional Pastravaria Hanul Bratcutei. \nIMPORTANT:\nPretul este valabil pentru grupul minim de 18 persoane\, pentru grup mai mic se recalteaza calculele\, eventualele diferente vor fi anuntate si se vor plati cu 5 zile inainte de plecare. \nInformații și înscrieri la nr. de telefon:\n0744.352.355 Melinda sau 0787-372.848 Ioana \nstr. Crinului nr 5 \n
URL:https://ghidlocal.com/oradea/eveniment/nou-calator-in-tara-beiusului/2018-07-29/
LOCATION:Casa de Cultura a Sindicatelor Oradea\, Piata 1 Decembrie nr. 1\, 410068\, Oradea
CATEGORIES:Turism
ATTACH;FMTTYPE=image/jpeg:https://cdn.cluj.com/ghidlocalcom/sites/2/2018/07/Calator-in-Tara-Beiusului.jpg
END:VEVENT
BEGIN:VEVENT
DTSTART;TZID=Europe/Bucharest:20180906T180000
DTEND;TZID=Europe/Bucharest:20180908T200000
DTSTAMP:20260422T131655
CREATED:20180904T081421Z
LAST-MODIFIED:20180904T081421Z
UID:23602-1536256800-1536436800@ghidlocal.com
SUMMARY:Sună clopoțelul la distracție la Lotus Center!
DESCRIPTION:Sună clopoțelul la distracție la Lotus Center!\n  \nÎncepe școala\, iar la Lotus Center „Sună clopoțelul la distracție!” pentru cei mici!?❤ \n?⏰Pentru perioada 6-8 septembrie orarul este deja pregătit\, iar băncuțele sunt aranjate în zona Pellini Top-Violet: \n✏În 6 septembrie\, începând cu ora 18:00\, ne vom delecta cu “Kids Fashion Show”\, o prezentare de modă pentru copii în cadrul căreia veți putea vedea cele mai noi colecții vestimentare pentru cei mici\, precum și noile tendințe în materie de accesorii pentru școală.\n✏În după-amiaza de 7 septembrie\, tot de la ora 18:00\, îi invităm pe cei mici la atelierul de dezvoltare social-emoțională “Cu emoțiile în ghiozdan“ împreună cu psiholog Ramona Popa. Atelierul se adresează copiilor cu vârsta cuprinsă între 7-12 ani. Înscrierile se fac la: 0728 992 490. Locurile sunt limitate.\n✏În 8 septembrie\, Lotus Center se transformă într-un tărâm al poveștilor și vă așteaptă la spectacolul de teatru „Jack și Vrejul de Fasole”\, care va avea loc începând cu ora 18:00. \nVă așteptăm în toate cele trei zile cu voie bună\, premii și muuulte surprize\, pentru un nou an școlar vesel și rodnic.?? \n
URL:https://ghidlocal.com/oradea/eveniment/suna-clopotelul-la-distractie-la-lotus-center/
LOCATION:Lotus Center\, Strada Nufărului\, numărul 30\, Oradea\, Bihor\, România
CATEGORIES:Activitati pentru copii
ATTACH;FMTTYPE=image/jpeg:https://cdn.cluj.com/ghidlocalcom/sites/2/2018/09/Sun%C4%83-clopo%C8%9Belul-la-distrac%C8%9Bie-la-Lotus-Center.jpg
END:VEVENT
BEGIN:VEVENT
DTSTART;TZID=Europe/Bucharest:20180907T090000
DTEND;TZID=Europe/Bucharest:20180908T170000
DTSTAMP:20260422T131655
CREATED:20180816T140412Z
LAST-MODIFIED:20180816T140412Z
UID:23301-1536310800-1536426000@ghidlocal.com
SUMMARY:Leadership pentru management de nivel mediu
DESCRIPTION:Leadership pentru management de nivel mediu\n  \nSubiecte abordate:\nManagement sau Leadership\, stabilirea și cascadarea obiectivelor\, abilități de comunicare\, relații interpersonale\, delegare\, coordonare și control\, relații pozitive cu angajații\, gestionarea comportamentelor deranjante\, gestionarea plângerilor din partea angajaților\, gestionarea managerilor ierarhic superiori\, planificarea succesiunii pentru posturi cheie\, simulări situaționale și evaluare. \nBeneficii:\nAtingerea obiectivelor organizaționale\, dezvoltarea carierei\, reducerea fluctuației de personal\, responsabilitate crescută\, îmbunătățirea relațiilor supervizor-angajat. \nCursul se adresează:\nManagerilor de subdepartamente și compartimente\, manageri de proiect\, supervizori de producție\, Scrum Masters\, ingineri de proces și calitate. \nDurata cursului\n2 zile \nActe necesare\n• Copie CI;\n• CV. \n
URL:https://ghidlocal.com/oradea/eveniment/leadership-pentru-management-de-nivel-mediu/
LOCATION:Corporactive Consulting\, Olteniei\, nr. 67\, Oradea\, 410538\, RO
CATEGORIES:Business,Conferinte,Workshop
ATTACH;FMTTYPE=image/jpeg:https://cdn.cluj.com/ghidlocalcom/sites/2/2018/08/Leadership-pentru-management-de-nivel-mediu.jpg
END:VEVENT
BEGIN:VEVENT
DTSTART;TZID=Europe/Bucharest:20180907T143000
DTEND;TZID=Europe/Bucharest:20180909T220000
DTSTAMP:20260422T131655
CREATED:20180829T075246Z
LAST-MODIFIED:20180829T075246Z
UID:23529-1536330600-1536530400@ghidlocal.com
SUMMARY:TIFF Oradea\, ediția I
DESCRIPTION:TIFF Oradea\, ediția I \nCel mai mare festival de film din România ajunge la Oradea!  \nÎntre 7- 9 septembrie are loc prima ediție TIFF Oradea și promite iubitorilor de film un program încărcat de premiere și noutăți de toamnă\, cine-concerte și evenimente speciale.  \nOrădenii vor fi purtați în cele mai îndrăgite spații din oraș pentru numeroase proiecții în aer liber sau indoor – Piața Unirii\, Cetatea\, Universitatea Partium sunt câteva dintre principalele locații în care TIFF Oradea se va desfășura.  \nProgramul complet al primei ediții TIFF Oradea va fi anunțat în curând.  \n––––––––– \nTIFF Oradea (7 – 9 septembrie) este organizat de Asociația pentru Promovarea Filmului Românesc (APFR) și co-finanțat de Primăria Municipiului Oradea\, prin Consiliul Local Oradea. \nPrezentat de: Banca Transilvania\nParteneri media: Radio Europa FM\, Adevărul\, Dilema veche\, OK! Magazine\, Zile Si Nopti Oradea\, Cinemap\, Observator cultural\, Cinemagia\, AGERPRES\, LiterNet.ro\, Moviecore\, Radio Cluj\, PluszFM Nagyvárad oldal\, Bihor Online – Bihon.ro\, Bihari Napló\, Jurnalul Bihorean\, Bihoreanul\, eBihoreanul.\nPartener de comunicare: Manifest Advertising\nPartener monitorizare: mediaTRUST Romania. \n
URL:https://ghidlocal.com/oradea/eveniment/tiff-oradea-editia-i/
ATTACH;FMTTYPE=image/jpeg:https://cdn.cluj.com/ghidlocalcom/sites/2/2018/08/Nout%C4%83%C8%9Bi-%C8%99i-premiere-cinematografice-maghiare-la-prima-edi%C8%9Bie-TIFF-Oradea.jpg
END:VEVENT
BEGIN:VEVENT
DTSTART;TZID=Europe/Bucharest:20180907T173000
DTEND;TZID=Europe/Bucharest:20180907T203000
DTSTAMP:20260422T131655
CREATED:20180904T094129Z
LAST-MODIFIED:20180904T094129Z
UID:23638-1536341400-1536352200@ghidlocal.com
SUMMARY:Ludwig\, 1972. Prima parte
DESCRIPTION:Ludwig\, 1972. Prima parte\n  \nFilm istoric apărut în 1972\, în regia lui Luchino Visconti. Face parte din Trilogia Germana a lui Visconti: La Caduta degli dei (1969)\, Morte a Venezia (1971) si Ludwig (1972).\nEvocare istorică a lui Ludwig\, rege al Bavariei\, de la încoronarea sa în 1864\, până la moartea sa în 1886\, ca un erou romantic. Fan al lui Richard Wagner\, trădat de el\, în iubirea cu verișoara sa Elisabeta a Austriei\, abandonat de către ei\, chinuit de homosexualitatea sa\, el va aluneca puțin câte puțin spre nebunie. \nRegia: Luchino Visconti\nScenariul: Luchino Visconti\, Enrico Medioli\, Suso Cecchi d’Amico\nDistribuția: Helmut Berger (Regele Ludwig al II-lea al Bavariei)\, Trevor Howard (Richard Wagner)\, Silvana Mangano (Cosima Von Buelow)\, Sonia Petrovna\, Romy Schneider\, Gert Fröbe\, John Moulder-Brown (Printul Otto)\, Marc Porel..\nDurata: 235 minute \n
URL:https://ghidlocal.com/oradea/eveniment/ludwig-1972-prima-parte/
LOCATION:pin Cineclub Marienbad\, Str. Armatei Romane 1/A\, 41007 Oradea
CATEGORIES:Film
ATTACH;FMTTYPE=image/jpeg:https://cdn.cluj.com/ghidlocalcom/sites/2/2018/09/Ludwig-1972.-Prima-parte.jpg
ORGANIZER;CN="Cineclub%20Marienbad":MAILTO: cineclubmarienbad@yahoo.ro
END:VEVENT
BEGIN:VEVENT
DTSTART;TZID=Europe/Bucharest:20180907T220000
DTEND;TZID=Europe/Bucharest:20180907T233000
DTSTAMP:20260422T131655
CREATED:20180904T064912Z
LAST-MODIFIED:20180904T064912Z
UID:23594-1536357600-1536363000@ghidlocal.com
SUMMARY:HIGH on HEELS w/ ANDRE RIZO
DESCRIPTION:HIGH on HEELS w/ ANDRE RIZO  \nANDRE RIZO\nYANIS\nVALI FLOREA\nGABRIEL M\n______________________\nDress code: Dress to Impress!?\n________________________\nIn conformitate cu legea romana in vigoare\, Habit Club iși rezerva dreptul de a-si selecta clientela.\nAcces: 18+\n22:00 P.M.\n________________________\nPentru rezervari\, va rugam sa ne contactati la numarul:\n?0771/ 210 671.\n________________________\nPartener Oficial: ? BMW Grup West Premium – Oradea \n
URL:https://ghidlocal.com/oradea/eveniment/high-on-heels-w-andre-rizo/
LOCATION:Solay
CATEGORIES:Petrecere
ATTACH;FMTTYPE=image/jpeg:https://cdn.cluj.com/ghidlocalcom/sites/2/2018/09/HIGH-on-HEELS-w-ANDRE-RIZO.jpg
END:VEVENT
END:VCALENDAR