BEGIN:VCALENDAR
VERSION:2.0
PRODID:-//Oradea - ECPv5.1.1//NONSGML v1.0//EN
CALSCALE:GREGORIAN
METHOD:PUBLISH
X-WR-CALNAME:Oradea
X-ORIGINAL-URL:https://ghidlocal.com/oradea
X-WR-CALDESC:Events for Oradea
BEGIN:VTIMEZONE
TZID:Europe/Bucharest
BEGIN:DAYLIGHT
TZOFFSETFROM:+0200
TZOFFSETTO:+0300
TZNAME:EEST
DTSTART:20180325T010000
END:DAYLIGHT
BEGIN:STANDARD
TZOFFSETFROM:+0300
TZOFFSETTO:+0200
TZNAME:EET
DTSTART:20181028T010000
END:STANDARD
END:VTIMEZONE
BEGIN:VEVENT
DTSTART;TZID=Europe/Bucharest:20180729T070000
DTEND;TZID=Europe/Bucharest:20180909T190000
DTSTAMP:20260422T083736
CREATED:20180726T093101Z
LAST-MODIFIED:20180726T093101Z
UID:22777-1532847600-1536519600@ghidlocal.com
SUMMARY:NOU: Calator in Tara Beiusului
DESCRIPTION:NOU: Calator in Tara Beiusului\nPerioada:\n– duminica \nPlecare: dimineata ora 7:00 din parcarea Centrul Civic\, Oradea\, intoarcere seara. \nPret: 90 ron / pers \n(transport + ghidaj) \nObiective vizitați:\n– Pestera Meziad\n– Mina cu cristale de la Farcu\n– Delani \n-Stejarul Secular Remetea  \n– Păstrăvaria Hanul Bratcutei  \n  \n15 lei\, Pestera Meziad 15 lei \, pranz traditional Pastravaria Hanul Bratcutei. \nIMPORTANT:\nPretul este valabil pentru grupul minim de 18 persoane\, pentru grup mai mic se recalteaza calculele\, eventualele diferente vor fi anuntate si se vor plati cu 5 zile inainte de plecare. \nInformații și înscrieri la nr. de telefon:\n0744.352.355 Melinda sau 0787-372.848 Ioana \nstr. Crinului nr 5 \n
URL:https://ghidlocal.com/oradea/eveniment/nou-calator-in-tara-beiusului/2018-07-29/
LOCATION:Casa de Cultura a Sindicatelor Oradea\, Piata 1 Decembrie nr. 1\, 410068\, Oradea
CATEGORIES:Turism
ATTACH;FMTTYPE=image/jpeg:https://cdn.cluj.com/ghidlocalcom/sites/2/2018/07/Calator-in-Tara-Beiusului.jpg
END:VEVENT
BEGIN:VEVENT
DTSTART;TZID=Europe/Bucharest:20180904T080000
DTEND;TZID=Europe/Bucharest:20180904T170000
DTSTAMP:20260422T083736
CREATED:20180904T094838Z
LAST-MODIFIED:20180904T094838Z
UID:23644-1536048000-1536080400@ghidlocal.com
SUMMARY:Karaoke Night
DESCRIPTION:Karaoke Night \n?? ? Karaoke Night ? pe fiecare joi seară de la ora ? 20:00!\nLasă-te condus de muzică! \n
URL:https://ghidlocal.com/oradea/eveniment/karaoke-night-7/
LOCATION:Gekko Pub\, Strada Tudor Vladimirescu 40\, Oradea\, 410203\, Romania
CATEGORIES:Petrecere
ATTACH;FMTTYPE=image/jpeg:https://cdn.cluj.com/ghidlocalcom/sites/2/2018/09/Karaoke-Night.jpg
END:VEVENT
BEGIN:VEVENT
DTSTART;TZID=Europe/Bucharest:20180904T100000
DTEND;TZID=Europe/Bucharest:20180904T180000
DTSTAMP:20260422T083736
CREATED:20180903T102207Z
LAST-MODIFIED:20180903T102231Z
UID:23584-1536055200-1536084000@ghidlocal.com
SUMMARY:Targ de haine
DESCRIPTION:Targ de haine \nTârgul de haine este organizat cu scopul strângerii de fonduri pentru Asociația Agape.  \nVom scoate la vânzare haine pentru copii și adulți\, noi și second hand\, import SUA și UK\, produse Bath and Body Works și produse hand made realizate de Beauty from Ashes Boutique. \nTârgul se va desfășura în perioada 1-4 septembrie 2018 după următorul program:\nMarți(3-4 septembrie): 10:00-18:00 \n
URL:https://ghidlocal.com/oradea/eveniment/targ-de-haine/
LOCATION:Asociatia Agape Boutique
CATEGORIES:Targ
ATTACH;FMTTYPE=image/jpeg:https://cdn.cluj.com/ghidlocalcom/sites/2/2018/09/Targ-de-haine.jpg
END:VEVENT
BEGIN:VEVENT
DTSTART;TZID=Europe/Bucharest:20180904T180000
DTEND;TZID=Europe/Bucharest:20180904T210000
DTSTAMP:20260422T083736
CREATED:20180903T101805Z
LAST-MODIFIED:20180903T101805Z
UID:23580-1536084000-1536094800@ghidlocal.com
SUMMARY:Oradea - Sesiune de informare Transilvania START UP
DESCRIPTION:Oradea – Sesiune de informare Transilvania START UP \nAi o idee de afacere în mediul urban\, dar nu știi exact de unde să începi și poate îți lipsesc și vreo 33.000 de euro? Noi te putem ajuta! Echipa proiectului Transilvania START UP vine în fața voastră pentru a vă explica care este punctul de plecare prin care vă puteți transforma în afaceri de succes ideile la care visați.  \nVă așteptăm\, așadar în data de 4 septembrie 2018\, începând cu ora 18.00\, la un eveniment de informare special dedicat viitorilor antreprenori din județul Bihor\, la Hotelul Continental Forum\, sala Paladium.  \nVom discuta despre:\n→ Proiectul Transilvania START UP și de ce reprezintă o oportunitate pentru voi;\n→ Condițiile de eligibilitate ale proiectului și ale Programului România Start-up Plus;\n→ Cum vă puteți înscrie în program pentru a beneficiar a cursuri și consultanță gratuite;\n→ Care sunt criteriile de selecție a planurilor de afaceri ce urmează a fi finanțate cu 33.000 de euro;\n→ Idei de afaceri și cheltuieli eligibile pentru acestea;\n→ Sesiune de întrebări și răspunsuri \nDacă doriți să aflați mai multe informații despre proiectul nostru înainte de a ne întâlni\, vă rugăm să accesați pagina proiectului: www.TransilvaniaStartUP.ro și să urmăriți pagina noastră Transilvania START UP. \nParticiparea la evenimentul de informare este gratuită dar condiționată de completarea formularului de înscriere\, locurile fiind limitate: http://bit.ly/oradea_4septembrie  \n––––––––––––––––– \n„TRANSILVANIA START UP – dezvoltare antreprenorială\, consiliere\, mentorat”\, cod SMIS 104902\, POCU/82/3/7/104902\, este implementat în Regiunea de Nord-Vest de SC Relians Corp S.R.L. în parteneriat cu Asociația Centrul Startup Transilvania\, Universitatea Babeș Bolyai și Asociația Centrul Regional FORMATEST. \n
URL:https://ghidlocal.com/oradea/eveniment/oradea-sesiune-de-informare-transilvania-start-up/
LOCATION:Continental Forum Oradea
ATTACH;FMTTYPE=image/jpeg:https://cdn.cluj.com/ghidlocalcom/sites/2/2018/09/Oradea-Sesiune-de-informare-Transilvania-START-UP.jpg
END:VEVENT
BEGIN:VEVENT
DTSTART;TZID=Europe/Bucharest:20180904T190000
DTEND;TZID=Europe/Bucharest:20180904T193000
DTSTAMP:20260422T083736
CREATED:20180903T102622Z
LAST-MODIFIED:20180903T102622Z
UID:23588-1536087600-1536089400@ghidlocal.com
SUMMARY:Unboxing Live DJI Mavic 2
DESCRIPTION:Unboxing Live DJI Mavic 2 \nPrimul Unboxing Live pentru Mavic 2 Pro si Mavic 2 Zoom in Romania. Va invitam pe toti la sediul nostru din Oradea\, pentru a vedea si a incerca cele doua noi drone de la DJI. #Mavic2 #DJI #djishoporadea #djiromania #nakedpixel #amasingvisuals #drona #unboxing \n
URL:https://ghidlocal.com/oradea/eveniment/unboxing-live-dji-mavic-2/
LOCATION:Dronshop.ro
ATTACH;FMTTYPE=image/jpeg:https://cdn.cluj.com/ghidlocalcom/sites/2/2018/09/Unboxing-Live-DJI-Mavic-2.jpg
END:VEVENT
END:VCALENDAR