BEGIN:VCALENDAR
VERSION:2.0
PRODID:-//Oradea - ECPv5.1.1//NONSGML v1.0//EN
CALSCALE:GREGORIAN
METHOD:PUBLISH
X-WR-CALNAME:Oradea
X-ORIGINAL-URL:https://ghidlocal.com/oradea
X-WR-CALDESC:Events for Oradea
BEGIN:VTIMEZONE
TZID:Europe/Bucharest
BEGIN:DAYLIGHT
TZOFFSETFROM:+0200
TZOFFSETTO:+0300
TZNAME:EEST
DTSTART:20180325T010000
END:DAYLIGHT
BEGIN:STANDARD
TZOFFSETFROM:+0300
TZOFFSETTO:+0200
TZNAME:EET
DTSTART:20181028T010000
END:STANDARD
END:VTIMEZONE
BEGIN:VEVENT
DTSTART;TZID=Europe/Bucharest:20180729T070000
DTEND;TZID=Europe/Bucharest:20180909T190000
DTSTAMP:20260422T034513
CREATED:20180726T093101Z
LAST-MODIFIED:20180726T093101Z
UID:22777-1532847600-1536519600@ghidlocal.com
SUMMARY:NOU: Calator in Tara Beiusului
DESCRIPTION:NOU: Calator in Tara Beiusului\nPerioada:\n– duminica \nPlecare: dimineata ora 7:00 din parcarea Centrul Civic\, Oradea\, intoarcere seara. \nPret: 90 ron / pers \n(transport + ghidaj) \nObiective vizitați:\n– Pestera Meziad\n– Mina cu cristale de la Farcu\n– Delani \n-Stejarul Secular Remetea  \n– Păstrăvaria Hanul Bratcutei  \n  \n15 lei\, Pestera Meziad 15 lei \, pranz traditional Pastravaria Hanul Bratcutei. \nIMPORTANT:\nPretul este valabil pentru grupul minim de 18 persoane\, pentru grup mai mic se recalteaza calculele\, eventualele diferente vor fi anuntate si se vor plati cu 5 zile inainte de plecare. \nInformații și înscrieri la nr. de telefon:\n0744.352.355 Melinda sau 0787-372.848 Ioana \nstr. Crinului nr 5 \n
URL:https://ghidlocal.com/oradea/eveniment/nou-calator-in-tara-beiusului/2018-07-29/
LOCATION:Casa de Cultura a Sindicatelor Oradea\, Piata 1 Decembrie nr. 1\, 410068\, Oradea
CATEGORIES:Turism
ATTACH;FMTTYPE=image/jpeg:https://cdn.cluj.com/ghidlocalcom/sites/2/2018/07/Calator-in-Tara-Beiusului.jpg
END:VEVENT
BEGIN:VEVENT
DTSTART;TZID=Europe/Bucharest:20180828T100000
DTEND;TZID=Europe/Bucharest:20180901T200000
DTSTAMP:20260422T034513
CREATED:20180827T115641Z
LAST-MODIFIED:20180827T115641Z
UID:23488-1535450400-1535832000@ghidlocal.com
SUMMARY:Oradea Junior Trophy 2018
DESCRIPTION:Oradea Junior Trophy 2018 \nTurneu international de tenis\, organizat de CSM Oradea\, face parte din calendarul Federatiei Romane de Tenis și este un eveniment din categoria 3 International TEJT \n
URL:https://ghidlocal.com/oradea/eveniment/oradea-junior-trophy-2018/2018-08-28/
LOCATION:Arena Antonio Alexe
CATEGORIES:Sport
ATTACH;FMTTYPE=image/jpeg:https://cdn.cluj.com/ghidlocalcom/sites/2/2018/08/Oradea-Junior-Trophy-2018.jpg
END:VEVENT
BEGIN:VEVENT
DTSTART;TZID=Europe/Bucharest:20180831T140000
DTEND;TZID=Europe/Bucharest:20180902T233000
DTSTAMP:20260422T034513
CREATED:20180827T090947Z
LAST-MODIFIED:20180827T091257Z
UID:23452-1535724000-1535931000@ghidlocal.com
SUMMARY:Mr. Bean Coffee la The Big Picnic
DESCRIPTION:Mr. Bean Coffee la The Big Picnic \nHei\, împachetează\, ieșim la The Big Picnic! Notează te rog:  \nPătură – ✅\nTelefon cu baterie încărcată pentru poze – ✅\nAuzi\, o cafea ducem și noi?  \nAaa\, nu! \nȘi asta pentru ca\, pe lângă vremea bună și atmosfera relaxantă\, la The Big Picnic te întâlnești și cu #BEANmobilul. Caută #paharulnegru în weekend-ul 31 August – 2 Septembrie în Parcul 1 Decembrie la cel mai mare picnic al anului.  \n
URL:https://ghidlocal.com/oradea/eveniment/mr-bean-coffee-la-the-big-picnic/2018-08-31/
LOCATION:Parcul 1 Decembrie\, Oradea\, RO
CATEGORIES:Festival
ATTACH;FMTTYPE=image/jpeg:https://cdn.cluj.com/ghidlocalcom/sites/2/2018/08/Mr.-Bean-Coffee-la-The-Big-Picnic.jpg
END:VEVENT
BEGIN:VEVENT
DTSTART;TZID=Europe/Bucharest:20180831T150000
DTEND;TZID=Europe/Bucharest:20180902T233000
DTSTAMP:20260422T034513
CREATED:20180827T094954Z
LAST-MODIFIED:20180827T094954Z
UID:23469-1535727600-1535931000@ghidlocal.com
SUMMARY:Caravana Racilor La ORADEA
DESCRIPTION:Caravana Racilor La ORADEA \nCaravana Racilor in premiera la Oradea!!!\nNe vedem in Parcul 1 Decembrie la The Big Picnic 2018 !!!!???????\n31 august-02 septembrie\nVom găti pentru dumneavoastra o gama larga de preparate din raci si fructe de mare #caravanaracilor #seafood\n#chefstefanmailat\nSee you soon Oradea ??❤ \n
URL:https://ghidlocal.com/oradea/eveniment/caravana-racilor-la-oradea/2018-08-31/
LOCATION:Parcul 1 Decembrie\, Piata 1 Decembrie\, Oradea\, Romania
ATTACH;FMTTYPE=image/jpeg:https://cdn.cluj.com/ghidlocalcom/sites/2/2018/08/Caravana-Racilor-La-ORADEA.jpg
END:VEVENT
BEGIN:VEVENT
DTSTART;TZID=Europe/Bucharest:20180831T220000
DTEND;TZID=Europe/Bucharest:20180901T220000
DTSTAMP:20260422T034513
CREATED:20180829T064850Z
LAST-MODIFIED:20180829T064850Z
UID:23511-1535752800-1535839200@ghidlocal.com
SUMMARY:Movie Night By The Forest
DESCRIPTION:Movie Night By The Forest \nStai prea relaxat\, nu te-au trecut demult fiorii\, esti pregatit pentru senzatii tari?  \nAccepta provocarea! \nIn acest weekend ia-ti prietenii si hai la un film HORROR LA PADURE!  \nDupa activitatile relaxante de peste zi de la ShauaLive\, urmeaza suspansul noptii\, intrand in atmosfera filmului Horror in cel mai potrivit mediu\, la padure. \nPentru confortul personal\, recomandam sa veniti pregatiti cu imbracaminte adecvata pentru racoarea noptii! \n
URL:https://ghidlocal.com/oradea/eveniment/movie-night-by-the-forest/
LOCATION:ShauaLive\, Șauaieu
ATTACH;FMTTYPE=image/jpeg:https://cdn.cluj.com/ghidlocalcom/sites/2/2018/08/Movie-Night-By-The-Forest.jpg
END:VEVENT
BEGIN:VEVENT
DTSTART;TZID=Europe/Bucharest:20180901T080000
DTEND;TZID=Europe/Bucharest:20180901T170000
DTSTAMP:20260422T034513
CREATED:20180827T104757Z
LAST-MODIFIED:20180827T104757Z
UID:23477-1535788800-1535821200@ghidlocal.com
SUMMARY:Together For Fitness Oradea
DESCRIPTION:Together For Fitness Oradea \nIubitorii de sport din Oradea sunt provocați la un antrenament in aer liber.\nHaltere\nGimnastică\nAtletism  \nEveniment organizat de Power Box cu sprijinul Primăriei Oradea\, Mens Mentis Group – Fitness Shop. \nInvitați speciali:\nCampionul la Haltere GABRIEL SINCRAIAN\nSportivi din mai multe orașe \n
URL:https://ghidlocal.com/oradea/eveniment/together-for-fitness-oradea/
LOCATION:Power Box
CATEGORIES:Sport
ATTACH;FMTTYPE=image/jpeg:https://cdn.cluj.com/ghidlocalcom/sites/2/2018/08/Together-For-Fitness-Oradea.jpg
END:VEVENT
BEGIN:VEVENT
DTSTART;TZID=Europe/Bucharest:20180901T090000
DTEND;TZID=Europe/Bucharest:20180901T200000
DTSTAMP:20260422T034513
CREATED:20180827T085110Z
LAST-MODIFIED:20180827T085110Z
UID:23446-1535792400-1535832000@ghidlocal.com
SUMMARY:Excursie de 1 zi: Descoperă Pădurea Craiului
DESCRIPTION:Excursie de 1 zi: Descoperă Pădurea Craiului\n  \nTipul evenimentului: excursie cu autocar. \n********\nPornire:\n08:30 Băile Felix (stația de autobus de lângă Hotel Ami)\n08:45 Băile 1 Mai (stația de autobus de lângă Hotel Perla și Ceres)\n09:00 Oradea (centrul civic) \nObiective turistice ce urmează a fi vizitate:\n10:25 – 18:00\n– Biserica de lemn Gheghie / sau Biserica de lemn Valea Crișului\n– Peștera Unguru Mare\, Șuncuiuș (taxa de intrare: 6 lei)\n(Pauză de prânz\, Restaurant Lesyana\, Gheghie – contracost -)\n– Biserica reformată gotică Remetea (sec. XV.)\n– Peștera Meziad (taxa de intrare 15 lei\, de la autocar se merge pe jos cca. 15 minute) \nSosire:\n19:20 în Băile Felix\n19:30 în Băile 1 Mai\n19:45 Oradea (centrul civic) \n*********\nTaxa de participare la eveniment este de 49 lei pentru adulți\, respectiv 29 lei pentru copiii sub 12 ani (sub 3 ani gratis). Aceasta include transportul cu autocarul și ghidajul. Taxa de participare nu include prânzul și intrările la obiectivele turistice. \nBiletele se pot achiziționa la sediul Agenției de Management al Destinației Bihor (AMD Bihor): str. Primăriei nr. 2\, et. 1\, ap. 6 – 7\, Oradea\, județul Bihor\, în zilele lucrătoare între orele 08:00 – 16:30. \nNumărul locurilor disponibile este limitat. Organizatorii își mențin dreptul de a modifica programul. \n*********\nContact:\n– amdbihor@gmail.com\n– 0723373179\, AMD Bihor (Rosmann Eddie) \nFotografia de copertă: Peștera Unguru Mare\nCredits: The Brothers M \n
URL:https://ghidlocal.com/oradea/eveniment/excursie-de-1-zi-descopera-padurea-craiului-3/
CATEGORIES:Turism
ATTACH;FMTTYPE=image/jpeg:https://cdn.cluj.com/ghidlocalcom/sites/2/2018/08/Excursie-de-1-zi-Descoper%C4%83-P%C4%83durea-Craiului-1.jpg
ORGANIZER;CN="Agen%C8%9Bia%20de%20Management%20al%20Destina%C8%9Biei%20Bihor":MAILTO:destinatiabihor@gmail.com
END:VEVENT
BEGIN:VEVENT
DTSTART;TZID=Europe/Bucharest:20180901T090000
DTEND;TZID=Europe/Bucharest:20180903T233000
DTSTAMP:20260422T034513
CREATED:20180827T100430Z
LAST-MODIFIED:20180827T100430Z
UID:23474-1535792400-1536017400@ghidlocal.com
SUMMARY:Un Weekend cu Dynamic Studio!
DESCRIPTION:Un Weekend cu Dynamic Studio! \nDeoarece mizăm pe ideea că suntem #oaltfeldesaladesport\, noi\, Dynamic Studio\, ne-am hotărât să ne cunoaștem și mai bine clienții și prietenii noștri! \nAlătură-te echipei noastre si haide să facem ceva frumos\, în stil Dynamic Studio! \nVom reveni cu mai multe informații pe parcurs!  \nPână atunci\, ține minte aceste detalii: \n–Data:1-3 septembrie\n–Locația: Casa Bucătarului (Bălnaca) \n
URL:https://ghidlocal.com/oradea/eveniment/un-weekend-cu-dynamic-studio/
LOCATION:Dynamic Studio\, Alexandru Vaida Voievod 18\, 410088\, Oradea
CATEGORIES:Sport
ATTACH;FMTTYPE=image/jpeg:https://cdn.cluj.com/ghidlocalcom/sites/2/2018/08/Un-Weekend-cu-Dynamic-Studio-1.jpg
END:VEVENT
BEGIN:VEVENT
DTSTART;TZID=Europe/Bucharest:20180901T090000
DTEND;TZID=Europe/Bucharest:20180901T170000
DTSTAMP:20260422T034513
CREATED:20180829T073513Z
LAST-MODIFIED:20180829T073513Z
UID:23522-1535792400-1535821200@ghidlocal.com
SUMMARY:TIBFR 'Maria' 2018 IWBT 'Maria'
DESCRIPTION:TIBFR ‘Maria’ 2018 IWBT ‘Maria’ \nTurneul International de Baschet in Fotoliu Rulant ‘Maria’\n[Cel mai important eveniment de baschet adaptat din Romania]\nInternational Wheelchair Basketball Tournament ‘Maria’\n[The most impotant wheelchair basketball event in Romania] \n
URL:https://ghidlocal.com/oradea/eveniment/tibfr-maria-2018-iwbt-maria/
LOCATION:Universitatea din Oradea\, Strada Universităţii\, numărul 1\, Oradea\, Bihor\, 410087\, România
CATEGORIES:Sport
ATTACH;FMTTYPE=image/jpeg:https://cdn.cluj.com/ghidlocalcom/sites/2/2018/08/TIBFR-Maria-2018-IWBT-Maria.jpg
END:VEVENT
BEGIN:VEVENT
DTSTART;TZID=Europe/Bucharest:20180901T190000
DTEND;TZID=Europe/Bucharest:20180902T213000
DTSTAMP:20260422T034513
CREATED:20180827T093253Z
LAST-MODIFIED:20180827T093253Z
UID:23462-1535828400-1535923800@ghidlocal.com
SUMMARY:Scripcarul pe acoperiș
DESCRIPTION:Scripcarul pe acoperiș\n  \n? Biletele s-au pus în vânzare la Agenţia de Bilete a Teatrului de marți până vineri în intervalul orar 12:00 – 18:00\, iar în weekend între orele 10:00 – 13:00. Puteţi achiziţiona bilete şi cu o oră înainte spectacol sau online pe www.biletmaster.ro. \nPentru informaţii suplimentare şi rezervări de bilete\, vă invităm să sunaţi la numărul de telefon: 0372/368.475. \nSINOPSIS:\nPlasat pe la începuturile secolului XX într-o perioadă de suferinţă a comunităţii evreieşti din Rusia Imperială\, pogromul ameninţă să destabilizeze valorile culturale şi religioase iudaice. Viaţa lipsită de pretenţii a unui sătean evreu\, capul unei familii simple din Anatevka\, stă din acest motiv într-un echilibru la fel de precar ca al unui scripcar pe acoperiş\, străduindu-se să păstreze echilibrul vital dar şi armonia. Istoria se face simţită în cele mai adânci unghere ale acestui sătuc neplasat într-o geografie reală\, dar care spune cu sensibilitate şi umor\, din păcate o poveste a cărui realism ne cutremură şi astăzi. \nDISTRIBUȚIA: \nTevye: Richard Balint;\nGolde: Ioana Dragoş Gajdo;\nTzeitel: Angela Tanko/Mihaela Gherdan;\nHodel: Adela Lazăr\nHava: Georgia Căprărin;\nShprintze: Anca Sigmirean;\nBielke: Carina Bunea;\nYente: Elvira Rîmbu;\nLazăr Wolf: Daniel Vulcu;\nMotel: Pavel Sîrghi;\nPercik: Răzvan Vicoveanu;\nFyedka: Ciprian Ciuciu;\nPoliţistul: Sorin Ionescu;\nAvram: George Voinese;\nMordcha: Alexandru Rusu;\nNahum: Andrei Fazecaş;\nMendel: Florian Silaghi;\nRabbi: Emil Sauciuc;\nFruma Sara: Gabriela Codrea;\nBunica Tzeitel: Corina Cernea;\nSasha: Andrian Locovei;\nShandel: Mirela Niţă-Lupu;\nYussel: Igor Lungu \nSĂTENI\, RUŞI\, EVREI: Zentania Lupșe\, Anda Tămăşanu\, Denisa Vlad\, Lucia Rogoz\, Andrada Ciocan\, Ecaterina Hannel\, Georgeta Fazecaş\, Amalia Dan\, Mariana Negrean\, Daliana Negrean\, Roxana Selegean\, Eugen Neag\, Florin Adameţ\, Dumitru Cora\, Vasile Mircea Dărăban\, Ciprian Dinicu\, Cosmin Cioara\, Cristian Seghedi\, Daniel Sandro\, Liviu Moldovan\, George Ștreng\, Nicolae Segărceanu\, Ciutak Miklos\, Radu Sfăt. \nOrchestră: \nDirijor orchestră: ÁRI NAGY SÁNDOR \nNicolae Levi – vioară; Ion Pîntea – clarinet; Marian Boboia – acordeon; Ilie Pop – trombon; Iosif Vasile Trendler– tobe; Andrei Seidler – percuţie; Florian Chelu – bas; Petru Boroș – contrabas. \nRegia artistică: Korcsmáros György\nDecoruri: Vioara Bara\nCostume: Amalia Judea\nCoregrafia: András Loránt\nAsistent maestru coregraf: Daniel Titi Sandro\nAsistent regie: Meleg Vilmos\nDirijor cor: Iloc Ovidiu\nConducerea muzicală: Áry Nagy Sándor \n
URL:https://ghidlocal.com/oradea/eveniment/scripcarul-pe-acoperis-3/2018-09-01/
LOCATION:Teatrul Regina Maria\, Piaţa Regele Ferdinand\, nr. 6\, Oradea\, 410021\, RO
CATEGORIES:Teatru
ATTACH;FMTTYPE=image/jpeg:https://cdn.cluj.com/ghidlocalcom/sites/2/2018/08/Scripcarul-pe-acoperi%C8%99.jpg
END:VEVENT
BEGIN:VEVENT
DTSTART;TZID=Europe/Bucharest:20180901T203000
DTEND;TZID=Europe/Bucharest:20180901T220000
DTSTAMP:20260422T034513
CREATED:20180827T105351Z
LAST-MODIFIED:20180827T105351Z
UID:23481-1535833800-1535839200@ghidlocal.com
SUMMARY:Moonlight Breakfast la The Big Picnic 2018
DESCRIPTION:Moonlight Breakfast la The Big Picnic 2018\n  \nCristina\, Bazooka și Adiță sunt Moonlight Breakfast și îi ascultăm live la Picnic in The Park 2018. Nu-jazz\, retro\, soul\, urban – sunt câteva dintre cuvintele care apar în descrierea genului muzical pe care-l interpretează cu atâta pasiune. Sunt atât de iubiți în țară\, încât renumele lor a trecut de multă vreme granițele. Moonlight Breakfast a ajuns să aibă până acum 400 de concerte în zece țări și patru continente\, iar de fiecare dată nu uită ce este cel mai important într-un act artistic: să fie sinceri prin tot ce exprimă pe scenă. \n
URL:https://ghidlocal.com/oradea/eveniment/moonlight-breakfast-la-the-big-picnic-2018/
LOCATION:Parcul 1 Decembrie\, Piata 1 Decembrie\, Oradea\, Romania
CATEGORIES:Concerte
ATTACH;FMTTYPE=image/jpeg:https://cdn.cluj.com/ghidlocalcom/sites/2/2018/08/Moonlight-Breakfast-la-The-Big-Picnic-2018.jpg
END:VEVENT
BEGIN:VEVENT
DTSTART;TZID=Europe/Bucharest:20180901T233000
DTEND;TZID=Europe/Bucharest:20180903T170000
DTSTAMP:20260422T034513
CREATED:20180725T080210Z
LAST-MODIFIED:20180829T083617Z
UID:22681-1535844600-1535994000@ghidlocal.com
SUMMARY:Dynamic Studio
DESCRIPTION:Dynamic Studio\nDeoarece mizăm pe ideea că suntem #oaltfeldesaladesport\, noi\, Dynamic Studio\, ne-am hotărât să ne cunoaștem și mai bine clienții și prietenii noștri! \nAlătură-te echipei noastre si haide să facem ceva frumos\, în stil Dynamic Studio! \nVom reveni cu mai multe informații pe parcurs! \nPână atunci\, ține minte aceste detalii: \n–Data:1-3 septembrie\n–Locația: Casa Bucătarului (Bălnaca) \n#dinamicii #thefuncrew #thehealthycrew #thefitcrew \n
URL:https://ghidlocal.com/oradea/eveniment/dynamic-studio/
LOCATION:Dynamic Studio\, Alexandru Vaida Voievod 18\, 410088\, Oradea
CATEGORIES:Sport
ATTACH;FMTTYPE=image/jpeg:https://cdn.cluj.com/ghidlocalcom/sites/2/2018/08/Un-Weekend-cu-Dynamic-Studio-1.jpg
END:VEVENT
END:VCALENDAR