BEGIN:VCALENDAR
VERSION:2.0
PRODID:-//Oradea - ECPv5.1.1//NONSGML v1.0//EN
CALSCALE:GREGORIAN
METHOD:PUBLISH
X-WR-CALNAME:Oradea
X-ORIGINAL-URL:https://ghidlocal.com/oradea
X-WR-CALDESC:Events for Oradea
BEGIN:VTIMEZONE
TZID:Europe/Bucharest
BEGIN:DAYLIGHT
TZOFFSETFROM:+0200
TZOFFSETTO:+0300
TZNAME:EEST
DTSTART:20180325T010000
END:DAYLIGHT
BEGIN:STANDARD
TZOFFSETFROM:+0300
TZOFFSETTO:+0200
TZNAME:EET
DTSTART:20181028T010000
END:STANDARD
END:VTIMEZONE
BEGIN:VEVENT
DTSTART;TZID=Europe/Bucharest:20180625T080000
DTEND;TZID=Europe/Bucharest:20180831T170000
DTSTAMP:20260422T015328
CREATED:20180625T082657Z
LAST-MODIFIED:20180625T082657Z
UID:22503-1529913600-1535734800@ghidlocal.com
SUMMARY:ISO Summer School 2018!
DESCRIPTION:ISO Summer School 2018!\nWe are happy to announce the launch of ISO Summer School 2018! \nWe welcome any children ages 2-8! \nWe’ll have fun in various activities: English\, Art\, Ukulele\, Painting\, Robotics\, Lego\, Chess\, Football\, Basketball\, Swimming and some exciting Trips! 🙂 \nISO Summer School 2018 takes place every week\, from Monday to Friday\, between June 25th and August 31st.\nKids can be enrolled by a weekly subscription. You can choose from Half Day (100 EUR) or Full Day (150 EUR) plans. \n\n			\n				\n			\n		\n\nThe fee covers all the Lessons\, Trips\, Activities and Lunch. \nIf you want to register for more weeks\, we have some discounts for you:\n2 Weeks – 5% off\,\n3 Weeks – 10% off\n4+ Weeks – 15% off \nMany thanks to our awesome Partners: Mini Chic Kids Club\, Fast Track Kids and AB Music Academy. \nWe are here to answer you any question or request regarding our Summer School! 🙂 \nUPDATE! We want to thank all of you who decided to join ISO Summer School 2018. We can’t wait to meet you all\, starting June 25th!? \nFor those of you who didn’t register yet\, you have the opportunity to do so\, by June 15th. After that we accept registrations based only on space availability\, but would not open new groups. It will be a memorable Summer for your kid! \n
URL:https://ghidlocal.com/oradea/eveniment/iso-summer-school-2018/
CATEGORIES:Activitati pentru copii
ATTACH;FMTTYPE=image/jpeg:https://cdn.cluj.com/ghidlocalcom/sites/2/2018/06/iso-2018.jpg
END:VEVENT
BEGIN:VEVENT
DTSTART;TZID=Europe/Bucharest:20180729T070000
DTEND;TZID=Europe/Bucharest:20180909T190000
DTSTAMP:20260422T015328
CREATED:20180726T093101Z
LAST-MODIFIED:20180726T093101Z
UID:22777-1532847600-1536519600@ghidlocal.com
SUMMARY:NOU: Calator in Tara Beiusului
DESCRIPTION:NOU: Calator in Tara Beiusului\nPerioada:\n– duminica \nPlecare: dimineata ora 7:00 din parcarea Centrul Civic\, Oradea\, intoarcere seara. \nPret: 90 ron / pers \n(transport + ghidaj) \nObiective vizitați:\n– Pestera Meziad\n– Mina cu cristale de la Farcu\n– Delani \n-Stejarul Secular Remetea  \n– Păstrăvaria Hanul Bratcutei  \n  \n15 lei\, Pestera Meziad 15 lei \, pranz traditional Pastravaria Hanul Bratcutei. \nIMPORTANT:\nPretul este valabil pentru grupul minim de 18 persoane\, pentru grup mai mic se recalteaza calculele\, eventualele diferente vor fi anuntate si se vor plati cu 5 zile inainte de plecare. \nInformații și înscrieri la nr. de telefon:\n0744.352.355 Melinda sau 0787-372.848 Ioana \nstr. Crinului nr 5 \n
URL:https://ghidlocal.com/oradea/eveniment/nou-calator-in-tara-beiusului/2018-07-29/
LOCATION:Casa de Cultura a Sindicatelor Oradea\, Piata 1 Decembrie nr. 1\, 410068\, Oradea
CATEGORIES:Turism
ATTACH;FMTTYPE=image/jpeg:https://cdn.cluj.com/ghidlocalcom/sites/2/2018/07/Calator-in-Tara-Beiusului.jpg
END:VEVENT
BEGIN:VEVENT
DTSTART;TZID=Europe/Bucharest:20180807T160000
DTEND;TZID=Europe/Bucharest:20180831T170000
DTSTAMP:20260422T015328
CREATED:20180806T132813Z
LAST-MODIFIED:20180806T132839Z
UID:23004-1533657600-1535734800@ghidlocal.com
SUMMARY:Aritmetică mentală japoneză - Soroban
DESCRIPTION:Aritmetică mentală japoneză – Soroban \nCursul de Aritmetică mentală japoneză se adresează copiilor cu vârste cuprinse între 5 și 12 ani\, cu scopul de a le dezvolta și îmbunătăți procesul gândirii\, memoria\, atenția\, viteza de procesare\, gândirea laterală și capacitatea de a folosi cât mai mult ambele emisfere cerebrale.\nScopul principal al sorobanului (abacul chinezesc) este acela de a învăța copilul să calculeze rapid mental operații aritmetice și de a dezvolta anumite funcții neuropsihice care îl vor ajuta pe copil în dezvoltarea sa armonioasă. \nCursul se desfasoara pe grupe de varsta\, o data pe saptamana de intre orele 16.00 si 18.00. Grupele de lucru sunt constituite astfel: \n4-5 ani\n5-7 ani\n7-9 ani\n9-10 ani\n11-12 ani \nInformatii si inscrieri la 0728284706 \n
URL:https://ghidlocal.com/oradea/eveniment/aritmetica-mentala-japoneza-soroban/
LOCATION:Agora International School – Scoala Internationala Agora
CATEGORIES:Educatie
ATTACH;FMTTYPE=image/jpeg:https://cdn.cluj.com/ghidlocalcom/sites/2/2018/08/Aritmetic%C4%83-mental%C4%83-japonez%C4%83-Soroban.jpg
END:VEVENT
BEGIN:VEVENT
DTSTART;TZID=Europe/Bucharest:20180828T100000
DTEND;TZID=Europe/Bucharest:20180901T200000
DTSTAMP:20260422T015328
CREATED:20180827T115641Z
LAST-MODIFIED:20180827T115641Z
UID:23488-1535450400-1535832000@ghidlocal.com
SUMMARY:Oradea Junior Trophy 2018
DESCRIPTION:Oradea Junior Trophy 2018 \nTurneu international de tenis\, organizat de CSM Oradea\, face parte din calendarul Federatiei Romane de Tenis și este un eveniment din categoria 3 International TEJT \n
URL:https://ghidlocal.com/oradea/eveniment/oradea-junior-trophy-2018/2018-08-28/
LOCATION:Arena Antonio Alexe
CATEGORIES:Sport
ATTACH;FMTTYPE=image/jpeg:https://cdn.cluj.com/ghidlocalcom/sites/2/2018/08/Oradea-Junior-Trophy-2018.jpg
END:VEVENT
BEGIN:VEVENT
DTSTART;TZID=Europe/Bucharest:20180831T110000
DTEND;TZID=Europe/Bucharest:20180831T230000
DTSTAMP:20260422T015328
CREATED:20180829T084420Z
LAST-MODIFIED:20180829T084420Z
UID:23532-1535713200-1535756400@ghidlocal.com
SUMMARY:The BIG Picnic 2018
DESCRIPTION:The BIG Picnic 2018 \n…e despre veri cu miros de iarbă\, petrecute #împreună\, prieteni și muzică pentru trup și suflet\, dans și joacă\, pentru că – nu-i așa? – #toțisuntemcopii.  \nThe Big Picnic e locul unde îți amintești de vacanța la bunici\, cu copacii ei umbroși din grădină\, visând la stări de briză din hamac.\nTrei zile și trei nopți\, mai ceva ca-n poveste\, însuflețim Parcul 1 Decembrie din Oradea\, cu concerte\, filme pentru fete și băieți\, bunici și nepoți. Adăugăm dimineți energizante cu clase de yoga și ateliere de nutriție\, și după-amieze creative cu teatru și fotografie. Iar seara…We own the stage\, căci se anunță 12 concerte!  \nȘtim ce-o să faci vara aceasta. ? Ne vedem între 31 august – 2 septembrie în Parcul 1 Decembrie\, la #thebigpicnic2018. \nEvenimentul este susținut de Primaria Municipiului Oradea și Visit Oradea. BIG thanks for that! \nDog friendly\nKid friendly\nFree access\nFood Trucks\nChill Zone\nWorkshops\nConcerts \n
URL:https://ghidlocal.com/oradea/eveniment/the-big-picnic-2018/
LOCATION:Parcul 1 Decembrie\, Oradea\, RO
CATEGORIES:Festival
ATTACH;FMTTYPE=image/jpeg:https://cdn.cluj.com/ghidlocalcom/sites/2/2018/08/The-BIG-Picnic-2018.jpg
END:VEVENT
BEGIN:VEVENT
DTSTART;TZID=Europe/Bucharest:20180831T140000
DTEND;TZID=Europe/Bucharest:20180902T233000
DTSTAMP:20260422T015328
CREATED:20180827T090947Z
LAST-MODIFIED:20180827T091257Z
UID:23452-1535724000-1535931000@ghidlocal.com
SUMMARY:Mr. Bean Coffee la The Big Picnic
DESCRIPTION:Mr. Bean Coffee la The Big Picnic \nHei\, împachetează\, ieșim la The Big Picnic! Notează te rog:  \nPătură – ✅\nTelefon cu baterie încărcată pentru poze – ✅\nAuzi\, o cafea ducem și noi?  \nAaa\, nu! \nȘi asta pentru ca\, pe lângă vremea bună și atmosfera relaxantă\, la The Big Picnic te întâlnești și cu #BEANmobilul. Caută #paharulnegru în weekend-ul 31 August – 2 Septembrie în Parcul 1 Decembrie la cel mai mare picnic al anului.  \n
URL:https://ghidlocal.com/oradea/eveniment/mr-bean-coffee-la-the-big-picnic/2018-08-31/
LOCATION:Parcul 1 Decembrie\, Oradea\, RO
CATEGORIES:Festival
ATTACH;FMTTYPE=image/jpeg:https://cdn.cluj.com/ghidlocalcom/sites/2/2018/08/Mr.-Bean-Coffee-la-The-Big-Picnic.jpg
END:VEVENT
BEGIN:VEVENT
DTSTART;TZID=Europe/Bucharest:20180831T150000
DTEND;TZID=Europe/Bucharest:20180902T233000
DTSTAMP:20260422T015328
CREATED:20180827T094954Z
LAST-MODIFIED:20180827T094954Z
UID:23469-1535727600-1535931000@ghidlocal.com
SUMMARY:Caravana Racilor La ORADEA
DESCRIPTION:Caravana Racilor La ORADEA \nCaravana Racilor in premiera la Oradea!!!\nNe vedem in Parcul 1 Decembrie la The Big Picnic 2018 !!!!???????\n31 august-02 septembrie\nVom găti pentru dumneavoastra o gama larga de preparate din raci si fructe de mare #caravanaracilor #seafood\n#chefstefanmailat\nSee you soon Oradea ??❤ \n
URL:https://ghidlocal.com/oradea/eveniment/caravana-racilor-la-oradea/2018-08-31/
LOCATION:Parcul 1 Decembrie\, Piata 1 Decembrie\, Oradea\, Romania
ATTACH;FMTTYPE=image/jpeg:https://cdn.cluj.com/ghidlocalcom/sites/2/2018/08/Caravana-Racilor-La-ORADEA.jpg
END:VEVENT
BEGIN:VEVENT
DTSTART;TZID=Europe/Bucharest:20180831T170000
DTEND;TZID=Europe/Bucharest:20180831T233000
DTSTAMP:20260422T015328
CREATED:20180827T091730Z
LAST-MODIFIED:20180827T091825Z
UID:23454-1535734800-1535758200@ghidlocal.com
SUMMARY:Tech Odyssey: Terrace Session Vol. 02
DESCRIPTION:Tech Odyssey: Terrace Session Vol. 02 \nTech Odyssey: Terrace Session Vol. 02\nLocation: Str. Cuza Voda\, Nr. 37\, Ponce De Leon\nStarting – 17:00 \nLINE-UP: \nKASHLINSKI [APPLE ROOM RECORDS/TECH ODYSSEY/HIGH SOUNDS] \nhttps://www.facebook.com/Kashlinski/ \n\n\nWRUCE BAYNE [APPLE ROOM RECORDS/TECH ODYSSEY] \nhttps://www.facebook.com/WruceBayne24/ \n\nhtts://www.mixcloud.com/romocea-razvan \nOVEXX [APPLE ROOM RECORDS/TECH OYDSSEY] \nhttps://www.facebook.com/ODOvexx/ \n\nSYCOH [TECH ODYSSEY] \nLOGIN: 15 RON \n
URL:https://ghidlocal.com/oradea/eveniment/tech-odyssey-terrace-session-vol-02/
LOCATION:Restaurant Ponce de Leon
CATEGORIES:Petrecere
ATTACH;FMTTYPE=image/jpeg:https://cdn.cluj.com/ghidlocalcom/sites/2/2018/08/Tech-Odysse-Terrace-Session-Vol.-02.jpg
END:VEVENT
BEGIN:VEVENT
DTSTART;TZID=Europe/Bucharest:20180831T190000
DTEND;TZID=Europe/Bucharest:20180831T210000
DTSTAMP:20260422T015328
CREATED:20180827T083202Z
LAST-MODIFIED:20180827T083202Z
UID:23442-1535742000-1535749200@ghidlocal.com
SUMMARY:Impro Patzan Show la Origins
DESCRIPTION:Impro Patzan Show la Origins \nPatzanii vin din nou la Origins\, vă așteptăm vineri\, 31 august\, să vă depășiți Doza Zilnică Recomandată de umor și voie bună. Că tot veni vorba de recomandări – vă sugerăm să faceți rezervări la numărul 0740 038 569 și să ajungeți ceva mai devreme de startul evenimentului. Hai\, gata cu vorba\, ne vedem vineri! \n
URL:https://ghidlocal.com/oradea/eveniment/impro-patzan-show-la-origins/
LOCATION:Origins Cafe
CATEGORIES:Divertisment
ATTACH;FMTTYPE=image/jpeg:https://cdn.cluj.com/ghidlocalcom/sites/2/2018/08/Impro-Patzan-Show-la-Origins.jpg
END:VEVENT
BEGIN:VEVENT
DTSTART;TZID=Europe/Bucharest:20180831T220000
DTEND;TZID=Europe/Bucharest:20180901T220000
DTSTAMP:20260422T015328
CREATED:20180829T064850Z
LAST-MODIFIED:20180829T064850Z
UID:23511-1535752800-1535839200@ghidlocal.com
SUMMARY:Movie Night By The Forest
DESCRIPTION:Movie Night By The Forest \nStai prea relaxat\, nu te-au trecut demult fiorii\, esti pregatit pentru senzatii tari?  \nAccepta provocarea! \nIn acest weekend ia-ti prietenii si hai la un film HORROR LA PADURE!  \nDupa activitatile relaxante de peste zi de la ShauaLive\, urmeaza suspansul noptii\, intrand in atmosfera filmului Horror in cel mai potrivit mediu\, la padure. \nPentru confortul personal\, recomandam sa veniti pregatiti cu imbracaminte adecvata pentru racoarea noptii! \n
URL:https://ghidlocal.com/oradea/eveniment/movie-night-by-the-forest/
LOCATION:ShauaLive\, Șauaieu
ATTACH;FMTTYPE=image/jpeg:https://cdn.cluj.com/ghidlocalcom/sites/2/2018/08/Movie-Night-By-The-Forest.jpg
END:VEVENT
BEGIN:VEVENT
DTSTART;TZID=Europe/Bucharest:20180831T230000
DTEND;TZID=Europe/Bucharest:20180831T233000
DTSTAMP:20260422T015328
CREATED:20180829T073903Z
LAST-MODIFIED:20180829T073903Z
UID:23525-1535756400-1535758200@ghidlocal.com
SUMMARY:Selected Summer Beats [at] Lords
DESCRIPTION:Selected Summer Beats [at] Lords \nBefore it’s gone\, we celebrate summer with the best music in town!\nSelected SUMMER Music by Vick Selecta \n[S01E18] \n
URL:https://ghidlocal.com/oradea/eveniment/selected-summer-beats-at-lords-3/
LOCATION:Lords Oradea\, Piata Unirii 2-4\, Oradea\, 410072\, RO
CATEGORIES:Petrecere
ATTACH;FMTTYPE=image/jpeg:https://cdn.cluj.com/ghidlocalcom/sites/2/2018/08/Selected-Summer-Beats-at-Lords-1.jpg
END:VEVENT
END:VCALENDAR