BEGIN:VCALENDAR
VERSION:2.0
PRODID:-//Oradea - ECPv5.1.1//NONSGML v1.0//EN
CALSCALE:GREGORIAN
METHOD:PUBLISH
X-WR-CALNAME:Oradea
X-ORIGINAL-URL:https://ghidlocal.com/oradea
X-WR-CALDESC:Events for Oradea
BEGIN:VTIMEZONE
TZID:Europe/Bucharest
BEGIN:DAYLIGHT
TZOFFSETFROM:+0200
TZOFFSETTO:+0300
TZNAME:EEST
DTSTART:20180325T010000
END:DAYLIGHT
BEGIN:STANDARD
TZOFFSETFROM:+0300
TZOFFSETTO:+0200
TZNAME:EET
DTSTART:20181028T010000
END:STANDARD
END:VTIMEZONE
BEGIN:VEVENT
DTSTART;TZID=Europe/Bucharest:20180625T080000
DTEND;TZID=Europe/Bucharest:20180831T170000
DTSTAMP:20260421T230728
CREATED:20180625T082657Z
LAST-MODIFIED:20180625T082657Z
UID:22503-1529913600-1535734800@ghidlocal.com
SUMMARY:ISO Summer School 2018!
DESCRIPTION:ISO Summer School 2018!\nWe are happy to announce the launch of ISO Summer School 2018! \nWe welcome any children ages 2-8! \nWe’ll have fun in various activities: English\, Art\, Ukulele\, Painting\, Robotics\, Lego\, Chess\, Football\, Basketball\, Swimming and some exciting Trips! 🙂 \nISO Summer School 2018 takes place every week\, from Monday to Friday\, between June 25th and August 31st.\nKids can be enrolled by a weekly subscription. You can choose from Half Day (100 EUR) or Full Day (150 EUR) plans. \n\n			\n				\n			\n		\n\nThe fee covers all the Lessons\, Trips\, Activities and Lunch. \nIf you want to register for more weeks\, we have some discounts for you:\n2 Weeks – 5% off\,\n3 Weeks – 10% off\n4+ Weeks – 15% off \nMany thanks to our awesome Partners: Mini Chic Kids Club\, Fast Track Kids and AB Music Academy. \nWe are here to answer you any question or request regarding our Summer School! 🙂 \nUPDATE! We want to thank all of you who decided to join ISO Summer School 2018. We can’t wait to meet you all\, starting June 25th!? \nFor those of you who didn’t register yet\, you have the opportunity to do so\, by June 15th. After that we accept registrations based only on space availability\, but would not open new groups. It will be a memorable Summer for your kid! \n
URL:https://ghidlocal.com/oradea/eveniment/iso-summer-school-2018/
CATEGORIES:Activitati pentru copii
ATTACH;FMTTYPE=image/jpeg:https://cdn.cluj.com/ghidlocalcom/sites/2/2018/06/iso-2018.jpg
END:VEVENT
BEGIN:VEVENT
DTSTART;TZID=Europe/Bucharest:20180729T070000
DTEND;TZID=Europe/Bucharest:20180909T190000
DTSTAMP:20260421T230728
CREATED:20180726T093101Z
LAST-MODIFIED:20180726T093101Z
UID:22777-1532847600-1536519600@ghidlocal.com
SUMMARY:NOU: Calator in Tara Beiusului
DESCRIPTION:NOU: Calator in Tara Beiusului\nPerioada:\n– duminica \nPlecare: dimineata ora 7:00 din parcarea Centrul Civic\, Oradea\, intoarcere seara. \nPret: 90 ron / pers \n(transport + ghidaj) \nObiective vizitați:\n– Pestera Meziad\n– Mina cu cristale de la Farcu\n– Delani \n-Stejarul Secular Remetea  \n– Păstrăvaria Hanul Bratcutei  \n  \n15 lei\, Pestera Meziad 15 lei \, pranz traditional Pastravaria Hanul Bratcutei. \nIMPORTANT:\nPretul este valabil pentru grupul minim de 18 persoane\, pentru grup mai mic se recalteaza calculele\, eventualele diferente vor fi anuntate si se vor plati cu 5 zile inainte de plecare. \nInformații și înscrieri la nr. de telefon:\n0744.352.355 Melinda sau 0787-372.848 Ioana \nstr. Crinului nr 5 \n
URL:https://ghidlocal.com/oradea/eveniment/nou-calator-in-tara-beiusului/2018-07-29/
LOCATION:Casa de Cultura a Sindicatelor Oradea\, Piata 1 Decembrie nr. 1\, 410068\, Oradea
CATEGORIES:Turism
ATTACH;FMTTYPE=image/jpeg:https://cdn.cluj.com/ghidlocalcom/sites/2/2018/07/Calator-in-Tara-Beiusului.jpg
END:VEVENT
BEGIN:VEVENT
DTSTART;TZID=Europe/Bucharest:20180807T160000
DTEND;TZID=Europe/Bucharest:20180831T170000
DTSTAMP:20260421T230728
CREATED:20180806T132813Z
LAST-MODIFIED:20180806T132839Z
UID:23004-1533657600-1535734800@ghidlocal.com
SUMMARY:Aritmetică mentală japoneză - Soroban
DESCRIPTION:Aritmetică mentală japoneză – Soroban \nCursul de Aritmetică mentală japoneză se adresează copiilor cu vârste cuprinse între 5 și 12 ani\, cu scopul de a le dezvolta și îmbunătăți procesul gândirii\, memoria\, atenția\, viteza de procesare\, gândirea laterală și capacitatea de a folosi cât mai mult ambele emisfere cerebrale.\nScopul principal al sorobanului (abacul chinezesc) este acela de a învăța copilul să calculeze rapid mental operații aritmetice și de a dezvolta anumite funcții neuropsihice care îl vor ajuta pe copil în dezvoltarea sa armonioasă. \nCursul se desfasoara pe grupe de varsta\, o data pe saptamana de intre orele 16.00 si 18.00. Grupele de lucru sunt constituite astfel: \n4-5 ani\n5-7 ani\n7-9 ani\n9-10 ani\n11-12 ani \nInformatii si inscrieri la 0728284706 \n
URL:https://ghidlocal.com/oradea/eveniment/aritmetica-mentala-japoneza-soroban/
LOCATION:Agora International School – Scoala Internationala Agora
CATEGORIES:Educatie
ATTACH;FMTTYPE=image/jpeg:https://cdn.cluj.com/ghidlocalcom/sites/2/2018/08/Aritmetic%C4%83-mental%C4%83-japonez%C4%83-Soroban.jpg
END:VEVENT
BEGIN:VEVENT
DTSTART;TZID=Europe/Bucharest:20180807T190000
DTEND;TZID=Europe/Bucharest:20180830T200000
DTSTAMP:20260421T230728
CREATED:20180806T133600Z
LAST-MODIFIED:20180806T133624Z
UID:23009-1533668400-1535659200@ghidlocal.com
SUMMARY:Intermediari - Salsa\, Bachata & Kizomba
DESCRIPTION:Intermediari – Salsa\, Bachata & Kizomba\nMarti\, 7 august\, va astept incepand cu ora 19:00 la cursurile de vara pentru Intermediari\, unde ne vom racori si ne vom distra impreuna ! \nSalsa: Din 07 august Marti si Joi ora 19:00 – 19:50\nBachata: Din 07 august Marti si Joi ora 20:00 – 20:50\nKizomba: Din 07 august Marti si Joi ora 21:00 – 21:50 \nPret: 60ron/curs (8 sedinte) – valabil doar luna august\n*Pachet 3 cursuri 150ron \nInscrieri si informatii:\n*mesaj privat\nsau\n*telefonic 0748238386 Marius Iacob \n
URL:https://ghidlocal.com/oradea/eveniment/intermediari-salsa-bachata-kizomba/2018-08-07/
LOCATION:Latino Vibes Dance Academy
ATTACH;FMTTYPE=image/jpeg:https://cdn.cluj.com/ghidlocalcom/sites/2/2018/08/Intermediari-Salsa-Bachata-Kizomba.jpg
ORGANIZER;CN="Latino%20Vibes%20Dance%20Academy":MAILTO:contact@latino-vibes.ro
END:VEVENT
BEGIN:VEVENT
DTSTART;TZID=Europe/Bucharest:20180828T100000
DTEND;TZID=Europe/Bucharest:20180901T200000
DTSTAMP:20260421T230728
CREATED:20180827T115641Z
LAST-MODIFIED:20180827T115641Z
UID:23488-1535450400-1535832000@ghidlocal.com
SUMMARY:Oradea Junior Trophy 2018
DESCRIPTION:Oradea Junior Trophy 2018 \nTurneu international de tenis\, organizat de CSM Oradea\, face parte din calendarul Federatiei Romane de Tenis și este un eveniment din categoria 3 International TEJT \n
URL:https://ghidlocal.com/oradea/eveniment/oradea-junior-trophy-2018/2018-08-28/
LOCATION:Arena Antonio Alexe
CATEGORIES:Sport
ATTACH;FMTTYPE=image/jpeg:https://cdn.cluj.com/ghidlocalcom/sites/2/2018/08/Oradea-Junior-Trophy-2018.jpg
END:VEVENT
BEGIN:VEVENT
DTSTART;TZID=Europe/Bucharest:20180829T080000
DTEND;TZID=Europe/Bucharest:20180829T170000
DTSTAMP:20260421T230728
CREATED:20180829T074324Z
LAST-MODIFIED:20180829T074324Z
UID:23527-1535529600-1535562000@ghidlocal.com
SUMMARY:OUT by Intense #5 at Dealul Ciuperca
DESCRIPTION:OUT by Intense #5 at Dealul Ciuperca \n**************************************************\n* OUT by Intense #5\n* 2 septembrie / ora 17:00 / Dealul Ciuperca\n* Biletele se achizitioneaza la intrare\n* Acces general 40 lei\n* Dress code : casual\n* Acces de la ora 17:00\n* Rezervari : 0736 222 222 \n**************************************************\nLine up :\nJAYRAA\nCHROM\nVLADIMIR\n**************************************************\n* Acces interzis persoanelor sub 18 ani\n* Nu toleram comportamentul inadecvat\n* Ne rezervam dreptul de a selecta clientela\n**************************************************\n* Parteneri : Finlandia / GLO / Carlsberg / Coca Cola / Red Bull / Toyota Oradea / Kaluna\n**************************************************\nFOOD AREA \n
URL:https://ghidlocal.com/oradea/eveniment/out-by-intense-5-at-dealul-ciuperca/
LOCATION:Ciuperca Oradea
CATEGORIES:Petrecere
ATTACH;FMTTYPE=image/jpeg:https://cdn.cluj.com/ghidlocalcom/sites/2/2018/08/OUT-by-Intense-5-at-Dealul-Ciuperca.jpg
END:VEVENT
BEGIN:VEVENT
DTSTART;TZID=Europe/Bucharest:20180829T210000
DTEND;TZID=Europe/Bucharest:20180829T233000
DTSTAMP:20260421T230728
CREATED:20180827T131310Z
LAST-MODIFIED:20180827T131310Z
UID:23500-1535576400-1535585400@ghidlocal.com
SUMMARY:Cardinal Live la Moszkva (Homecoming Tour 2018)
DESCRIPTION:Cardinal Live la Moszkva (Homecoming Tour 2018)\n  \nCARDINAL este un proiect de garage rock/psychedelic de pe litoral\, născut dintr-o afinitate pentru tot ce înseamnă fuzz\, low-end\, riffuri hipnotice și împachetat într-o atitudine punk și do-it-yourself care le-a purtat muzica departe. \nCu aer proaspăt în plămâni după o pauză creativă de aproape un an\, datorată plecării la studiu în străinătate a doi dintre membri\, ei au revenit cu noi concerte Sold Out în București și Constanța și cu un turneu și mai ambițios\, HOMECOMING TOUR 2018\, menit să promoveze noul lor single – MINOLTA. \n“Cardinal vin să facă zgomot și să schimbe referințele\, astăzi\, în cazul generației lor\, tot mai diverse\, iar chitările se întorc și se întorc zgomotos.” (Mihai Tița\, Supraelastic) \n–––––––––––\nOpen Doors: 21:00 \n
URL:https://ghidlocal.com/oradea/eveniment/cardinal-live-la-moszkva-homecoming-tour-2018/
LOCATION:Moszkva Garden\, str. Moscovei 8\, Oradea-Mare\, 410043\, Romania
CATEGORIES:Concerte,Petrecere
ATTACH;FMTTYPE=image/jpeg:https://cdn.cluj.com/ghidlocalcom/sites/2/2018/08/Cardinal-Live-la-Moszkva-Homecoming-Tour-2018.jpg
END:VEVENT
END:VCALENDAR