BEGIN:VCALENDAR
VERSION:2.0
PRODID:-//Oradea - ECPv5.1.1//NONSGML v1.0//EN
CALSCALE:GREGORIAN
METHOD:PUBLISH
X-WR-CALNAME:Oradea
X-ORIGINAL-URL:https://ghidlocal.com/oradea
X-WR-CALDESC:Events for Oradea
BEGIN:VTIMEZONE
TZID:Europe/Bucharest
BEGIN:DAYLIGHT
TZOFFSETFROM:+0200
TZOFFSETTO:+0300
TZNAME:EEST
DTSTART:20180325T010000
END:DAYLIGHT
BEGIN:STANDARD
TZOFFSETFROM:+0300
TZOFFSETTO:+0200
TZNAME:EET
DTSTART:20181028T010000
END:STANDARD
END:VTIMEZONE
BEGIN:VEVENT
DTSTART;TZID=Europe/Bucharest:20180625T080000
DTEND;TZID=Europe/Bucharest:20180831T170000
DTSTAMP:20260420T064240
CREATED:20180625T082657Z
LAST-MODIFIED:20180625T082657Z
UID:22503-1529913600-1535734800@ghidlocal.com
SUMMARY:ISO Summer School 2018!
DESCRIPTION:ISO Summer School 2018!\nWe are happy to announce the launch of ISO Summer School 2018! \nWe welcome any children ages 2-8! \nWe’ll have fun in various activities: English\, Art\, Ukulele\, Painting\, Robotics\, Lego\, Chess\, Football\, Basketball\, Swimming and some exciting Trips! 🙂 \nISO Summer School 2018 takes place every week\, from Monday to Friday\, between June 25th and August 31st.\nKids can be enrolled by a weekly subscription. You can choose from Half Day (100 EUR) or Full Day (150 EUR) plans. \n\n			\n				\n			\n		\n\nThe fee covers all the Lessons\, Trips\, Activities and Lunch. \nIf you want to register for more weeks\, we have some discounts for you:\n2 Weeks – 5% off\,\n3 Weeks – 10% off\n4+ Weeks – 15% off \nMany thanks to our awesome Partners: Mini Chic Kids Club\, Fast Track Kids and AB Music Academy. \nWe are here to answer you any question or request regarding our Summer School! 🙂 \nUPDATE! We want to thank all of you who decided to join ISO Summer School 2018. We can’t wait to meet you all\, starting June 25th!? \nFor those of you who didn’t register yet\, you have the opportunity to do so\, by June 15th. After that we accept registrations based only on space availability\, but would not open new groups. It will be a memorable Summer for your kid! \n
URL:https://ghidlocal.com/oradea/eveniment/iso-summer-school-2018/
CATEGORIES:Activitati pentru copii
ATTACH;FMTTYPE=image/jpeg:https://cdn.cluj.com/ghidlocalcom/sites/2/2018/06/iso-2018.jpg
END:VEVENT
BEGIN:VEVENT
DTSTART;TZID=Europe/Bucharest:20180727T120000
DTEND;TZID=Europe/Bucharest:20180805T170000
DTSTAMP:20260420T064240
CREATED:20180725T115637Z
LAST-MODIFIED:20180725T115637Z
UID:22733-1532692800-1533488400@ghidlocal.com
SUMMARY:Cursuri de dezvoltare personală prin pictură\, desen si grafică
DESCRIPTION:Alternativa perfectă dacă rămai vara în Oradea\nCopii sau adulți\, în viața de zi cu zi avem nevoie de frumos\, talentul si îndemanarea sunt ascunse în sufletul nostru\, trebuiesc descoperite. \nO alegere abilă în viața noastră\, sau a copiilor nostrii\, va contribui la dezvoltarea capacotății de a găsii binele\, frumosul\, dimensiunile\, un altfel de perspectivă în armonia relațiilor pe care reușim să le construim și în rezultatele activităților noastre zilnice. \nCe nu știm întotdeauna este faptul că avem\, fiecare\, resursele necesare pentru a fi mai buni. Ceea ce ne trebuie este doar impulsul de a ajunge la ele\, inspirația de a ne auto-descoperi și cultiva spiritul creativ. Niciodată nu suntem prea mici\, sau prea mari\, pentru asta\, avem nevoie doar de dorință\, de motivație. \nAșadar\, vă propunem atelierele noastre de pictură\, desen si grafică pentru cei mici și mai mari. Ne vom juca isteț\, vom prinde curaj\, vom învăța să alegem culorile corect\, să înțelegem perspectiva si forma\, vom face improvizații\, vom râde mult\, ne vom distra și nu în ultimul rand vom face propriile lucrări artistice în atelier. \n
URL:https://ghidlocal.com/oradea/eveniment/cursuri-de-dezvoltare-personala-prin-pictura-desen-si-grafica/
LOCATION:pin Dora Art & Craft\, Calea Clujului nr.280\, 410553
CATEGORIES:Cultural,Educatie
ATTACH;FMTTYPE=image/jpeg:https://cdn.cluj.com/ghidlocalcom/sites/2/2018/07/Cursuri-de-dezvoltare-personal%C4%83-prin-pictur%C4%83-desen-si-grafic%C4%83.jpg
END:VEVENT
BEGIN:VEVENT
DTSTART;TZID=Europe/Bucharest:20180728T220000
DTEND;TZID=Europe/Bucharest:20180826T233000
DTSTAMP:20260420T064240
CREATED:20180726T102502Z
LAST-MODIFIED:20180726T102502Z
UID:22804-1532815200-1535326200@ghidlocal.com
SUMMARY:Concert Movies - Moszkva Garden Proiection
DESCRIPTION:Concert Filme – Moszkva Garden Proiection \n\nVă vom proiecta concert în nopțile de sâmbătă pe care probabil mulți dintre noi le-am ratat. Poți recupera la noi! Moszkva Garden vă așteaptă la această experiență pe terasa Moscovei.Tot ce aveți nevoie este doar un set de căști și un telefon pentru a asculta sincronizarea de proiectare astfel nu ne vom interfera cu vecinii. ? \n
URL:https://ghidlocal.com/oradea/eveniment/concert-movies-moszkva-garden-proiection/2018-07-28/
LOCATION:Moszkva Kávézó\, str. Moscovei no.8\, Oradea\, 410001\, RO
CATEGORIES:Concerte
ATTACH;FMTTYPE=image/jpeg:https://cdn.cluj.com/ghidlocalcom/sites/2/2018/07/Concert-Movies-Moszkva-Garden-Proiection.jpg
END:VEVENT
BEGIN:VEVENT
DTSTART;TZID=Europe/Bucharest:20180729T070000
DTEND;TZID=Europe/Bucharest:20180909T190000
DTSTAMP:20260420T064240
CREATED:20180726T093101Z
LAST-MODIFIED:20180726T093101Z
UID:22777-1532847600-1536519600@ghidlocal.com
SUMMARY:NOU: Calator in Tara Beiusului
DESCRIPTION:NOU: Calator in Tara Beiusului\nPerioada:\n– duminica \nPlecare: dimineata ora 7:00 din parcarea Centrul Civic\, Oradea\, intoarcere seara. \nPret: 90 ron / pers \n(transport + ghidaj) \nObiective vizitați:\n– Pestera Meziad\n– Mina cu cristale de la Farcu\n– Delani \n-Stejarul Secular Remetea  \n– Păstrăvaria Hanul Bratcutei  \n  \n15 lei\, Pestera Meziad 15 lei \, pranz traditional Pastravaria Hanul Bratcutei. \nIMPORTANT:\nPretul este valabil pentru grupul minim de 18 persoane\, pentru grup mai mic se recalteaza calculele\, eventualele diferente vor fi anuntate si se vor plati cu 5 zile inainte de plecare. \nInformații și înscrieri la nr. de telefon:\n0744.352.355 Melinda sau 0787-372.848 Ioana \nstr. Crinului nr 5 \n
URL:https://ghidlocal.com/oradea/eveniment/nou-calator-in-tara-beiusului/2018-07-29/
LOCATION:Casa de Cultura a Sindicatelor Oradea\, Piata 1 Decembrie nr. 1\, 410068\, Oradea
CATEGORIES:Turism
ATTACH;FMTTYPE=image/jpeg:https://cdn.cluj.com/ghidlocalcom/sites/2/2018/07/Calator-in-Tara-Beiusului.jpg
END:VEVENT
BEGIN:VEVENT
DTSTART;TZID=Europe/Bucharest:20180802T080000
DTEND;TZID=Europe/Bucharest:20180826T170000
DTSTAMP:20260420T064240
CREATED:20180627T111826Z
LAST-MODIFIED:20180627T111826Z
UID:22552-1533196800-1535302800@ghidlocal.com
SUMMARY:Oradea Summer Film 2018
DESCRIPTION:Oradea Summer Film 2018\nCinematograful în aer liber – ORADEA SUMMER FILM – revine în august 2018 în Parcul Cetății! \nVom avea parte de 16 seri cu cele mai noi filme\, concerte și animații pentru copii\, într-o mizanscenă cu beculețe și hamace\, sub cerul liber! \nPerioada: 2-26 august 2018. \nLocația: Parcul Cetății Oradea (intrarea din strada Griviței). \nIntrare liberă. \nProgramul complet în curând! \n
URL:https://ghidlocal.com/oradea/eveniment/oradea-summer-film-2018/
LOCATION:Cetatea Oradea/ Oradea Fortress\, Cetatea Oradea\, Oradea-Mare\, 410100\, RO
CATEGORIES:Film
ATTACH;FMTTYPE=image/jpeg:https://cdn.cluj.com/ghidlocalcom/sites/2/2018/06/Oradea-Summer-Film-2018.jpg
END:VEVENT
BEGIN:VEVENT
DTSTART;TZID=Europe/Bucharest:20180803T180000
DTEND;TZID=Europe/Bucharest:20180826T170000
DTSTAMP:20260420T064240
CREATED:20180730T092030Z
LAST-MODIFIED:20180730T092030Z
UID:22858-1533319200-1535302800@ghidlocal.com
SUMMARY:Oradea La PAS - August 2018
DESCRIPTION:Oradea La PAS – August 2018\n  \n Locuiesti in Oradea? Sau chiar mai bine\, esti turist in Oradea?\nORADEAdventure te asteapta intr-unul din tururile noastre ghidate gratuite din luna AUGUST\, luand „Oradea La PAS”.\nIn premiera\, vom introduce si primul tur ghidat gratuit in limba engleza in aceasta luna.\nCE ESTE „Oradea La PAS”?\n-Proiectul ORADEAdventure pune la dispozitie publicului in luna august 3 tururi ghidate in limba romana gratuite\, si unul in limba engleza pentru promovarea turismului regional la nivel national.\n-Ti-am pregatit un traseu de o ora care surprinde cel mai bine frumusetile acestui oras\, incepand de la palatele lui pana la lacasurile de cult si secretele acestuia. Inscrie-te acum in unul din tururi si descopera cum a luat nastere orasul de pe malul Crisului Repede si ce bijuterii pe langa poate treceai zi de zi ascunde „mica viena”.\nCAND?\nLimba romana:\n-3 august\, VINERI – 17:00;\n-19 august\, DUMINICA – 17:00;\n-26 august\, DUMINICA – 15:30;\nLimba Engleza(English language):\n-26 august\, DUMINICA – 14:00;\nUNDE?\n-Locul de plecare este Statuia lui Mihai Viteazu din Piata Unirii\, Oradea. Nu-ti fa griji daca intarzii\, noi te vom astepta 🙂\nCUM TE INSCRII?\n-Simplu! Completezi acest formular scurt\, precizand data turului:\nhttps://goo.gl/forms/9RvX6yYfWXmYgbns2\nDurata traseului este de aproximativ o ora.\nRugam participantii care s-au inscris si nu mai pot ajunge sa ne anunte prinstr-un SMS la 0731 354 351\, precizand numele acestora si mentiunea ca nu pot fi prezenti la turul din data cu pricina.\nToate donatiile pentru sustinerea si dezvoltarea proiectului sunt binevenite. Mai multe detalii in curand\, iar intrebarilor suntem deschisi oricand!\nFoto: Bogdan Mustatea\n
URL:https://ghidlocal.com/oradea/eveniment/oradea-la-pas-august-2018/
LOCATION:Piata Unirii\, Oradea\, Piața Unirii 1\, Oradea 410100\, Oradea\, 410100\, RO
CATEGORIES:Descopera Oradea,Turism
ATTACH;FMTTYPE=image/jpeg:https://cdn.cluj.com/ghidlocalcom/sites/2/2018/07/Oradea-La-PAS-August-2018.jpg
END:VEVENT
BEGIN:VEVENT
DTSTART;TZID=Europe/Bucharest:20180803T220000
DTEND;TZID=Europe/Bucharest:20180804T070000
DTSTAMP:20260420T064240
CREATED:20180725T065123Z
LAST-MODIFIED:20180725T070147Z
UID:22661-1533333600-1533366000@ghidlocal.com
SUMMARY:Dinsubsol la CET v.1
DESCRIPTION:When music asks for a location that perfectly combines the vibe & scenery\, we say that this time we found the best. The rest are superfluous details. #dinsubsol \n
URL:https://ghidlocal.com/oradea/eveniment/dinsubsol-la-cet-v-1/
LOCATION:oradea
CATEGORIES:Petrecere
ATTACH;FMTTYPE=image/jpeg:https://cdn.cluj.com/ghidlocalcom/sites/2/2018/07/Dinsubsol-la-CET-v.1.jpg
END:VEVENT
BEGIN:VEVENT
DTSTART;TZID=Europe/Bucharest:20180804T063000
DTEND;TZID=Europe/Bucharest:20180804T200000
DTSTAMP:20260420T064240
CREATED:20180725T074417Z
LAST-MODIFIED:20180725T074417Z
UID:22672-1533364200-1533412800@ghidlocal.com
SUMMARY:Drumul Apusenilor Pe Bicicletă-Reloaded
DESCRIPTION:Drumul Apusenilor Pe Bicicletă-Reloaded\nPentru turismul din Bihor și din țară\, un important proiect îl reprezintă „Drumul Apusenilor”.\nVă invităm să pedalăm pe o porțiune din acest drum și să ne bucurăm de peisajele de poveste!!!\nTraseul va avea o lungime de 100 km(aproximativ) cu un grad de dificultate mediu spre ridicat si datorită drumului care se afla în construcție.\nVom pleca din Gara Oradea\, sâmbătă ( 04.08.2018 ) de la ora 6:35\, cu destinaţia Bratca şi vom pedala pe traseul: Bratca-Remeţi-Coada Lacului-Stâna de Vale şi retur pe acelaşi traseu până în Bratca de unde vom lua trenul spre Oradea.\nPuncte de popas: Pensiunea Carpathia\, la o cafea\, mic dejun\, etc. Stâna de Vale la Izvorul Minunilor unde vom poposi să ne odihnim\, mânca\, etc.\nPuncte de interes pe drum: Cascada Iadolina\, Cascada Vălul Miresei\, Cascada Izvorul Minunilor\nEste o tură pe cont propriu\, fiecare participant îi responsabil de faptele şi acţiunile sale.\nRecomandări: Biciclete Mtb\, cască de protecţie\, pompă\, chit anti pană.\nOrganizator: Cu bicla prin Bihor\, Probikers Bihor.\nVa așteptam cu drag și vă stăm cu mai multe informații la dispoziție ?\nP.S. Sperăm că în 4 august ploaia să facă o pauză. 🙂 \n
URL:https://ghidlocal.com/oradea/eveniment/drumul-apusenilor-pe-bicicleta-reloaded/
LOCATION:pin Izvorul Minunilor\, Stana de Vale\, Comuna Budureasa\, Bihor
CATEGORIES:Sport,Turism
ATTACH;FMTTYPE=image/jpeg:https://cdn.cluj.com/ghidlocalcom/sites/2/2018/07/Drumul-Apusenilor-Pe-Biciclet%C4%83-Reloaded.jpg
END:VEVENT
BEGIN:VEVENT
DTSTART;TZID=Europe/Bucharest:20180804T080000
DTEND;TZID=Europe/Bucharest:20180804T170000
DTSTAMP:20260420T064240
CREATED:20180803T074539Z
LAST-MODIFIED:20180803T074539Z
UID:22958-1533369600-1533402000@ghidlocal.com
SUMMARY:Rosia Montana- aur românesc si Mocanita din Apuseni
DESCRIPTION:Rosia Montana- aur românesc si Mocanita din Apuseni \nSe vizitează:  \nVartop\nArieseni\nAlbac\nBustul lui Horea\nMuzeul Avram Iancu\nPlimbare cu Mocanita pe ruta Campeni-Abrud\nCascada Pisoaia\nDealul cu Melci \nImportant:\nRezervarea locurilor in mijlocul de transport se face pe pricipiul „primul venit primul servit”. Locul il primiti in momentul achitarii avansului.\nPentru un grup mai mic tariful se recalculeaza\, eventualele diferente se vor plati in ultimele 7 zile inainte de plecare.  \nGrup minim: 40 persoane / 18 pers \nPret: 120 ron/pers.  \n1 zile \nTariful include:\n• transport autocar;\n• asistenta turistica\, ghid;\n• vizite conform program \nTariful nu include:\n• intrari la obiectivele turistice(muzeul avram iancu 10 lei)\n* bilet mocanita 30 lei/pers. \nContact:\nEurovacanta Oradea-Casa de Cultura a Sindicatelor mail:\nintern@eurovacanta.ro; tel: 0259-436652 ;\n0744352355 Ioana \n
URL:https://ghidlocal.com/oradea/eveniment/rosia-montana-aur-romanesc-si-mocanita-din-apuseni/
LOCATION:Casa de Cultura a Sindicatelor Oradea Piata 1 Decembrie nr. 1\, 410068 Oradea\, Piata 1 Decembrie nr. 1\, 410068\, Oradea
CATEGORIES:Turism
ATTACH;FMTTYPE=image/jpeg:https://cdn.cluj.com/ghidlocalcom/sites/2/2018/08/Rosia-Montana-aur-rom%C3%A2nesc-si-Mocanita-din-Apuseni.jpg
END:VEVENT
BEGIN:VEVENT
DTSTART;TZID=Europe/Bucharest:20180804T090000
DTEND;TZID=Europe/Bucharest:20180804T200000
DTSTAMP:20260420T064240
CREATED:20180802T084106Z
LAST-MODIFIED:20180802T084106Z
UID:22940-1533373200-1533412800@ghidlocal.com
SUMMARY:Excursie de 1 zi: Descoperă Pădurea Craiului
DESCRIPTION:Excursie de 1 zi: Descoperă Pădurea Craiului \n
URL:https://ghidlocal.com/oradea/eveniment/excursie-de-1-zi-descopera-padurea-craiului/
LOCATION:Bihor County
CATEGORIES:Turism
ATTACH;FMTTYPE=image/jpeg:https://cdn.cluj.com/ghidlocalcom/sites/2/2018/08/Excursie-de-1-zi-Descoper%C4%83-P%C4%83durea-Craiului.jpg
END:VEVENT
BEGIN:VEVENT
DTSTART;TZID=Europe/Bucharest:20180804T110000
DTEND;TZID=Europe/Bucharest:20180804T120000
DTSTAMP:20260420T064240
CREATED:20180802T083418Z
LAST-MODIFIED:20180802T083517Z
UID:22938-1533380400-1533384000@ghidlocal.com
SUMMARY:Testare uleiuri esențiale doTERRA
DESCRIPTION:Testare uleiuri esențiale doTERRA\nSâmbăta aceasta\, organizăm o testare de uleiuri esențiale\, în cadrul căreia vom învăța despre beneficiile fizice\, psihice și spirituale ale acestora.\nInvitat special: Claudia Bogole.\nVă așteptăm cu drag! \n
URL:https://ghidlocal.com/oradea/eveniment/testare-uleiuri-esentiale-doterra/
CATEGORIES:Workshop
ATTACH;FMTTYPE=image/jpeg:https://cdn.cluj.com/ghidlocalcom/sites/2/2018/08/Testare-uleiuri-esen%C8%9Biale-doTERRA.jpg
END:VEVENT
BEGIN:VEVENT
DTSTART;TZID=Europe/Bucharest:20180804T210000
DTEND;TZID=Europe/Bucharest:20180804T233000
DTSTAMP:20260420T064240
CREATED:20180803T080409Z
LAST-MODIFIED:20180803T080409Z
UID:22966-1533416400-1533425400@ghidlocal.com
SUMMARY:Episodul 27: Autobiografia lui Nicolae Ceaușescu la Oradea
DESCRIPTION:Episodul 27: Autobiografia lui Nicolae Ceaușescu la Oradea\nCentenarul Filmului Românesc ajunge la Oradea\, prin Oradea Summer Film. \n  \n„Autobiografia lui Nicolae Ceaușescu” este un film documentar cu caracter biografic de Andrei Ujică din 2010\, ce narează viața fostului președinte al României și aspecte ale vieții sale de familie\, folosind documente de arhivă\, unele cunoscute iar altele inedite. Este filmul cu care regizorul Andrei Ujică încheie trilogia dedicată sfârșitului comunismului în România (Videogramele unei revoluții\, Cantitate necunoscută). \n
URL:https://ghidlocal.com/oradea/eveniment/episodul-27-autobiografia-lui-nicolae-ceausescu-la-oradea/
LOCATION:Cetatea din Oradea\, Str. Griviței\, Oradea\, Bihor\, România
CATEGORIES:Festival,Film
ATTACH;FMTTYPE=image/jpeg:https://cdn.cluj.com/ghidlocalcom/sites/2/2018/08/Episodul-28-Reconstituirea-la-Oradea.jpg
END:VEVENT
END:VCALENDAR