BEGIN:VCALENDAR
VERSION:2.0
PRODID:-//Oradea - ECPv5.1.1//NONSGML v1.0//EN
CALSCALE:GREGORIAN
METHOD:PUBLISH
X-WR-CALNAME:Oradea
X-ORIGINAL-URL:https://ghidlocal.com/oradea
X-WR-CALDESC:Events for Oradea
BEGIN:VTIMEZONE
TZID:Europe/Bucharest
BEGIN:DAYLIGHT
TZOFFSETFROM:+0200
TZOFFSETTO:+0300
TZNAME:EEST
DTSTART:20180325T010000
END:DAYLIGHT
BEGIN:STANDARD
TZOFFSETFROM:+0300
TZOFFSETTO:+0200
TZNAME:EET
DTSTART:20181028T010000
END:STANDARD
END:VTIMEZONE
BEGIN:VEVENT
DTSTART;TZID=Europe/Bucharest:20180625T080000
DTEND;TZID=Europe/Bucharest:20180831T170000
DTSTAMP:20260420T172253
CREATED:20180625T082657Z
LAST-MODIFIED:20180625T082657Z
UID:22503-1529913600-1535734800@ghidlocal.com
SUMMARY:ISO Summer School 2018!
DESCRIPTION:ISO Summer School 2018!\nWe are happy to announce the launch of ISO Summer School 2018! \nWe welcome any children ages 2-8! \nWe’ll have fun in various activities: English\, Art\, Ukulele\, Painting\, Robotics\, Lego\, Chess\, Football\, Basketball\, Swimming and some exciting Trips! 🙂 \nISO Summer School 2018 takes place every week\, from Monday to Friday\, between June 25th and August 31st.\nKids can be enrolled by a weekly subscription. You can choose from Half Day (100 EUR) or Full Day (150 EUR) plans. \n\n			\n				\n			\n		\n\nThe fee covers all the Lessons\, Trips\, Activities and Lunch. \nIf you want to register for more weeks\, we have some discounts for you:\n2 Weeks – 5% off\,\n3 Weeks – 10% off\n4+ Weeks – 15% off \nMany thanks to our awesome Partners: Mini Chic Kids Club\, Fast Track Kids and AB Music Academy. \nWe are here to answer you any question or request regarding our Summer School! 🙂 \nUPDATE! We want to thank all of you who decided to join ISO Summer School 2018. We can’t wait to meet you all\, starting June 25th!? \nFor those of you who didn’t register yet\, you have the opportunity to do so\, by June 15th. After that we accept registrations based only on space availability\, but would not open new groups. It will be a memorable Summer for your kid! \n
URL:https://ghidlocal.com/oradea/eveniment/iso-summer-school-2018/
CATEGORIES:Activitati pentru copii
ATTACH;FMTTYPE=image/jpeg:https://cdn.cluj.com/ghidlocalcom/sites/2/2018/06/iso-2018.jpg
END:VEVENT
BEGIN:VEVENT
DTSTART;TZID=Europe/Bucharest:20180702T100000
DTEND;TZID=Europe/Bucharest:20180727T120000
DTSTAMP:20260420T172253
CREATED:20180627T092955Z
LAST-MODIFIED:20180627T092955Z
UID:22546-1530525600-1532692800@ghidlocal.com
SUMMARY:Tabăra de vară gratuită pentru copiii la Biblioteca Județeană
DESCRIPTION:Tabăra de vară gratuită pentru copiii la Biblioteca Județeană\nSecția pentru copii și tineret a Bibliotecii Județene \,\,Gheorghe Șincai’’ în parteneriat cu Fundația Culturală de pe lângă Biblioteca \,\,Gheorghe Șincai’’ organizează Tabăra de vară gratuită pentru copiii cu vârste cuprinse între 6 și 14 ani. \nPerioada de desfășurare este 2 iulie – 27 iulie 2018\, de luni până vineri\, de la 10:00 la 12:00\, în Ludoteca Secției pentru copii și tineret a Bibliotecii. Activitățile vor fi diverse\, de tipul: cluburilor de lectură\, ateliere de creație\, educație cetățenească și rutieră\, jocuri creative și recreative\, îndeletniciri practice\, astronomie\, terapie educațională\, cunoașterea tradițiilor populare etc. \nPentru desfășurarea acestor activități va fi prezent personal de specialitate: d-na Miorița Săteanu\, cetățean de onoare al municipiului Oradea și membru al Fundației Culturale de pe lângă Biblioteca \,\,Gheorghe Șincai’’\, prof. Angelica Șandor\, prof. Ecaterina Grecu\, prof. Pazmany Nicoleta\, psiholog Alin Crețu\, inspector Indrieș Ioana\, prof. Dobran Viorica\, prof. Doina Iliescu\, profesori de la Universitatea din Oradea\, bibliotecari de la Secția pentru copii și tineret și din bibliotecă și lista rămâne deschisă. \nSăptămânal vor fi anunțate temele\, tabelul activităților va fi expus la avizierul Secției pentru copii și tineret. \n
URL:https://ghidlocal.com/oradea/eveniment/tabara-de-vara-gratuita-pentru-copiii-la-biblioteca-judeteana/
LOCATION:Biblioteca Județeană „Gheorghe Șincai”\, Str. Armatei Române\, nr. 1/A\, Oradea\, Bihor\, România
CATEGORIES:Activitati pentru copii
ATTACH;FMTTYPE=image/jpeg:https://cdn.cluj.com/ghidlocalcom/sites/2/2018/06/tabara-de-gratuit.jpeg
ORGANIZER;CN="Biblioteca%20Jude%C8%9Bean%C4%83%20%E2%80%9EGheorghe%20%C8%98incai%E2%80%9D":MAILTO:bibliobihor@yahoo.com
END:VEVENT
BEGIN:VEVENT
DTSTART;TZID=Europe/Bucharest:20180726T183000
DTEND;TZID=Europe/Bucharest:20180726T233000
DTSTAMP:20260420T172253
CREATED:20180725T093206Z
LAST-MODIFIED:20180725T093206Z
UID:22712-1532629800-1532647800@ghidlocal.com
SUMMARY:O carte pe lună Oradea #6
DESCRIPTION:O carte pe lună Oradea #6\n“A învăța să citești este ca și cum ai aprinde un foc. Fiecare silabă e o scânteie.” – Victor Hugo \nNe vedem joi\, 26 Iulie de la ora 18.30\, la Ristretto\, calea Republicii\, lângă librăria Humanitas.\nAdu cu tine cartea care ai citit-o doar pentru simplu fapt ca privirea ți-a fost furată de cum arată coperta. \n
URL:https://ghidlocal.com/oradea/eveniment/o-carte-pe-luna-oradea-6/
LOCATION:Ristretto Caffe\, Str. Republicii\, nr. 11\, Oradea\, Bihor\, 410 032\, România
CATEGORIES:Cultural
ATTACH;FMTTYPE=image/jpeg:https://cdn.cluj.com/ghidlocalcom/sites/2/2018/07/O-carte-pe-lun%C4%83-Oradea-6.jpg
END:VEVENT
BEGIN:VEVENT
DTSTART;TZID=Europe/Bucharest:20180726T200000
DTEND;TZID=Europe/Bucharest:20180726T230000
DTSTAMP:20260420T172253
CREATED:20180725T090657Z
LAST-MODIFIED:20180725T090657Z
UID:22707-1532635200-1532646000@ghidlocal.com
SUMMARY:Karaoke Night
DESCRIPTION:Vă invităm la ? Karaoke Night ? pe fiecare joi seară de la ora ? 20!\nLasă-te condusă de muzică! \n
URL:https://ghidlocal.com/oradea/eveniment/karaoke-night-3/2018-07-26/
LOCATION:Gekko Pub\, Strada Tudor Vladimirescu\, numărul 40\, Oradea\, Bihor\, România
CATEGORIES:Petrecere
ATTACH;FMTTYPE=image/jpeg:https://cdn.cluj.com/ghidlocalcom/sites/2/2018/07/Karaoke-Night.jpg
ORGANIZER;CN="Gekko%20Pub":MAILTO:gekko.nagyvarad@gmail.com
END:VEVENT
BEGIN:VEVENT
DTSTART;TZID=Europe/Bucharest:20180726T200000
DTEND;TZID=Europe/Bucharest:20180726T223000
DTSTAMP:20260420T172253
CREATED:20180725T091251Z
LAST-MODIFIED:20180725T121458Z
UID:22709-1532635200-1532644200@ghidlocal.com
SUMMARY:Degustare cocktailuri si nu numai
DESCRIPTION:Eveniment Ristretto şi Kofi Ti\nRistretto este gazda unui eveniment cu totul aparte\, joi\, 26 iulie\, începând cu ora 20:00. Reprezentanţii Kofi Ti vin pentru prima dată în Oradea pentru a-şi prezenta produsele naturale care i-au făcut cunoscuţi în întrega ţară. Fie că vorbim de limonada Cascada\, băutură obţinută din fructele arborelui de cafea care cresc sub formă de cireşe\, produs care a intrat în această vară şi în meniul Ristretto\, sau preparatele la care se folosesc tonicul din infuzie de ierburi şi plante\, Kofi Ti aduce la Oradea şi alte produse care pot deveni oricând preferatele iubitorilor de produse 100% bio. Ristretto propune\, în cadrul evenimentului\, un nou cocktail compus din produsele Kofi Ti\, toţi cei prezenţi având astfel şansa de a gusta băutura în premieră. \n  \nArticol realizat de: Sebastian Ferchi \n
URL:https://ghidlocal.com/oradea/eveniment/degustare-cocktailuri-si-nu-numai/
LOCATION:Ristretto Caffe\, Str. Republicii\, nr. 11\, Oradea\, Bihor\, 410 032\, România
CATEGORIES:Degustare
ATTACH;FMTTYPE=image/jpeg:https://cdn.cluj.com/ghidlocalcom/sites/2/2018/07/Degustare-cocktailuri-si-nu-numai.jpg
ORGANIZER;CN="Ristretto%20Caffe":MAILTO:contact@ristrettocaffe.ro
END:VEVENT
BEGIN:VEVENT
DTSTART;TZID=Europe/Bucharest:20180726T200000
DTEND;TZID=Europe/Bucharest:20180726T233000
DTSTAMP:20260420T172253
CREATED:20180725T093904Z
LAST-MODIFIED:20180725T094643Z
UID:22716-1532635200-1532647800@ghidlocal.com
SUMMARY:Karaoke Night! Black & White Oradea
DESCRIPTION:Joi\, 26 Iulie\, serile noastre de Karaoke continua! \nTe așteptăm din nou cu vocea la tine! \nTune your voice! Ready…set…SING! \n
URL:https://ghidlocal.com/oradea/eveniment/karaoke-night-black-white-oradea/
LOCATION:Black & White Oradea\, str. Motilor nr. 2\, 410089\, Oradea
CATEGORIES:Divertisment
ATTACH;FMTTYPE=image/jpeg:https://cdn.cluj.com/ghidlocalcom/sites/2/2018/07/Karaoke-Night-Black-White-Oradea.jpg
END:VEVENT
BEGIN:VEVENT
DTSTART;TZID=Europe/Bucharest:20180726T200000
DTEND;TZID=Europe/Bucharest:20180726T233000
DTSTAMP:20260420T172253
CREATED:20180726T065326Z
LAST-MODIFIED:20180726T065326Z
UID:22743-1532635200-1532647800@ghidlocal.com
SUMMARY:Acoustic Garden with Local Musicians
DESCRIPTION:Grădina acustică live în nopțile de joi cu artiști locali\, muzicieni talentați din Oradea. Muzică acustică\, cea mai mare parte a unei singure benzi. \n-free entry- \n
URL:https://ghidlocal.com/oradea/eveniment/acoustic-garden-with-local-musicians/2018-07-26/
LOCATION:pin Moszkva Kávézó\, str. Moscovei nr. 8\, 410001\, Oradea
CATEGORIES:Concerte
ATTACH;FMTTYPE=image/jpeg:https://cdn.cluj.com/ghidlocalcom/sites/2/2018/07/Acoustic-Garden-with-Local-Musicians.jpg
END:VEVENT
BEGIN:VEVENT
DTSTART;TZID=Europe/Bucharest:20180726T220000
DTEND;TZID=Europe/Bucharest:20180727T180000
DTSTAMP:20260420T172253
CREATED:20180725T075325Z
LAST-MODIFIED:20180725T075325Z
UID:22677-1532642400-1532714400@ghidlocal.com
SUMMARY:Giovedi 10 at #thepipe - warmup for Sunsets by the Lake
DESCRIPTION:Giovedi 10 at #thepipe – warmup for Sunsets by the Lake\nUn nou concept / in fiecare joi\nEditie Speciala – Warm Up for Sunsets by the Lake\nGiovedi 10th edition \n// Gabriel M\n// Sunsetters DJ \n// Doors open: 22:00\n// Intrare: gratis \n// Rezervari 0741 186 421 \n– Capacitatea localului este limitata.\n– Ne rezervam dreptul de a ne selecta clientii.\n– Accesul persoanelor sub 18 ani este strict interzis \n
URL:https://ghidlocal.com/oradea/eveniment/giovedi-10-at-thepipe-warmup-for-sunsets-by-the-lake/
LOCATION:The Pipe\, Strada Vasile Alecsandri\, numărul 15\, Oradea\, Bihor\, România
CATEGORIES:Petrecere
ATTACH;FMTTYPE=image/jpeg:https://cdn.cluj.com/ghidlocalcom/sites/2/2018/07/Giovedi-10-at-thepipe-warmup-for-Sunsets-by-the-Lake.jpg
END:VEVENT
END:VCALENDAR