BEGIN:VCALENDAR
VERSION:2.0
PRODID:-//Oradea - ECPv5.1.1//NONSGML v1.0//EN
CALSCALE:GREGORIAN
METHOD:PUBLISH
X-WR-CALNAME:Oradea
X-ORIGINAL-URL:https://ghidlocal.com/oradea
X-WR-CALDESC:Events for Oradea
BEGIN:VTIMEZONE
TZID:Europe/Bucharest
BEGIN:DAYLIGHT
TZOFFSETFROM:+0200
TZOFFSETTO:+0300
TZNAME:EEST
DTSTART:20180325T010000
END:DAYLIGHT
BEGIN:STANDARD
TZOFFSETFROM:+0300
TZOFFSETTO:+0200
TZNAME:EET
DTSTART:20181028T010000
END:STANDARD
END:VTIMEZONE
BEGIN:VEVENT
DTSTART;TZID=Europe/Bucharest:20180625T080000
DTEND;TZID=Europe/Bucharest:20180831T170000
DTSTAMP:20260420T185759
CREATED:20180625T082657Z
LAST-MODIFIED:20180625T082657Z
UID:22503-1529913600-1535734800@ghidlocal.com
SUMMARY:ISO Summer School 2018!
DESCRIPTION:ISO Summer School 2018!\nWe are happy to announce the launch of ISO Summer School 2018! \nWe welcome any children ages 2-8! \nWe’ll have fun in various activities: English\, Art\, Ukulele\, Painting\, Robotics\, Lego\, Chess\, Football\, Basketball\, Swimming and some exciting Trips! 🙂 \nISO Summer School 2018 takes place every week\, from Monday to Friday\, between June 25th and August 31st.\nKids can be enrolled by a weekly subscription. You can choose from Half Day (100 EUR) or Full Day (150 EUR) plans. \n\n			\n				\n			\n		\n\nThe fee covers all the Lessons\, Trips\, Activities and Lunch. \nIf you want to register for more weeks\, we have some discounts for you:\n2 Weeks – 5% off\,\n3 Weeks – 10% off\n4+ Weeks – 15% off \nMany thanks to our awesome Partners: Mini Chic Kids Club\, Fast Track Kids and AB Music Academy. \nWe are here to answer you any question or request regarding our Summer School! 🙂 \nUPDATE! We want to thank all of you who decided to join ISO Summer School 2018. We can’t wait to meet you all\, starting June 25th!? \nFor those of you who didn’t register yet\, you have the opportunity to do so\, by June 15th. After that we accept registrations based only on space availability\, but would not open new groups. It will be a memorable Summer for your kid! \n
URL:https://ghidlocal.com/oradea/eveniment/iso-summer-school-2018/
CATEGORIES:Activitati pentru copii
ATTACH;FMTTYPE=image/jpeg:https://cdn.cluj.com/ghidlocalcom/sites/2/2018/06/iso-2018.jpg
END:VEVENT
BEGIN:VEVENT
DTSTART;TZID=Europe/Bucharest:20180702T100000
DTEND;TZID=Europe/Bucharest:20180727T120000
DTSTAMP:20260420T185759
CREATED:20180627T092955Z
LAST-MODIFIED:20180627T092955Z
UID:22546-1530525600-1532692800@ghidlocal.com
SUMMARY:Tabăra de vară gratuită pentru copiii la Biblioteca Județeană
DESCRIPTION:Tabăra de vară gratuită pentru copiii la Biblioteca Județeană\nSecția pentru copii și tineret a Bibliotecii Județene \,\,Gheorghe Șincai’’ în parteneriat cu Fundația Culturală de pe lângă Biblioteca \,\,Gheorghe Șincai’’ organizează Tabăra de vară gratuită pentru copiii cu vârste cuprinse între 6 și 14 ani. \nPerioada de desfășurare este 2 iulie – 27 iulie 2018\, de luni până vineri\, de la 10:00 la 12:00\, în Ludoteca Secției pentru copii și tineret a Bibliotecii. Activitățile vor fi diverse\, de tipul: cluburilor de lectură\, ateliere de creație\, educație cetățenească și rutieră\, jocuri creative și recreative\, îndeletniciri practice\, astronomie\, terapie educațională\, cunoașterea tradițiilor populare etc. \nPentru desfășurarea acestor activități va fi prezent personal de specialitate: d-na Miorița Săteanu\, cetățean de onoare al municipiului Oradea și membru al Fundației Culturale de pe lângă Biblioteca \,\,Gheorghe Șincai’’\, prof. Angelica Șandor\, prof. Ecaterina Grecu\, prof. Pazmany Nicoleta\, psiholog Alin Crețu\, inspector Indrieș Ioana\, prof. Dobran Viorica\, prof. Doina Iliescu\, profesori de la Universitatea din Oradea\, bibliotecari de la Secția pentru copii și tineret și din bibliotecă și lista rămâne deschisă. \nSăptămânal vor fi anunțate temele\, tabelul activităților va fi expus la avizierul Secției pentru copii și tineret. \n
URL:https://ghidlocal.com/oradea/eveniment/tabara-de-vara-gratuita-pentru-copiii-la-biblioteca-judeteana/
LOCATION:Biblioteca Județeană „Gheorghe Șincai”\, Str. Armatei Române\, nr. 1/A\, Oradea\, Bihor\, România
CATEGORIES:Activitati pentru copii
ATTACH;FMTTYPE=image/jpeg:https://cdn.cluj.com/ghidlocalcom/sites/2/2018/06/tabara-de-gratuit.jpeg
ORGANIZER;CN="Biblioteca%20Jude%C8%9Bean%C4%83%20%E2%80%9EGheorghe%20%C8%98incai%E2%80%9D":MAILTO:bibliobihor@yahoo.com
END:VEVENT
BEGIN:VEVENT
DTSTART;TZID=Europe/Bucharest:20180725T080000
DTEND;TZID=Europe/Bucharest:20180725T170000
DTSTAMP:20260420T185759
CREATED:20180725T064553Z
LAST-MODIFIED:20180725T070201Z
UID:22659-1532505600-1532538000@ghidlocal.com
SUMMARY:Taste the Nature
DESCRIPTION:Taste the Nature\nIntoarcerea acasa a lui Chef Bogdan Vandici vine la pachet cu un show culinar de exceptie. In colaborare cu LOVevents\, castigatorul concursului Chefi la Cutite pune la cale o seara de poveste\, completata de produse 100% bio.\nProdusele folosite in prepararea meniului provin de la producatori locali si au fost alese chiar de Chef Bogdan.\nChef Gabriel Mocanu\, coechipierul lui Bogdan din echipa Strumfii Jedi va fi si el prezent\, fiind invitatul special al serii. \nDe la ingredientele culese de mana Chef-ului pana la preparate de 5 stele: \nCer si pamant\nSoufle de cartofi fermier\, prepelita sunny side up\, lapte gros si pudra de patrunjel \nAcasa\nRosii multicolor\, crema de telemea\, ceapa inghetata si clisa arsa \nLiniste\nCarpaccio de vita\, oua batute\, brunoise de legume\, salata de buruieni \nȚa ța ța căpriță ța\nFlori de dovleac\, mouse de capra\, crumble de nuci si vinegreta de miere \nTacerea mieilor\nMiel copt in pamant cu radacinoase\, ceapa arsa in jar\, jus de oase \nDescult in livadă\nPandispan cu miere\, piersici la grill\, fructe de padure si lapte prins \nVa asteptam cu drag sa luati parte la acest show culinar! \nBiletele se gasesc in format electronic pe https://www.iabilet.ro/bilete-taste-the-nature-35089/ si in reteaua fizica iabilet.ro/retea: Magazinele Flanco\, Metrou Unirii 1 (langa casa de bilete Metrorex)\, Magazinul Muzica\, Magazinele IQ BOX – partener Telekom\, Cafe Deko\, Club Vintage\, Club Quantic\, Expirat Halele Carol (in intervalul orar: 18:00-22:00)\, Hard Rock Cafe\, Beraria H\, Agentiile Perfect Tour\, Magazinele Uman si Statiile de Plata SelfPay din toata tara. \n
URL:https://ghidlocal.com/oradea/eveniment/taste-the-nature/
LOCATION:pin Vine Summer Garden & Grill\, Strada Closca 50\, 410081\, Oradea
CATEGORIES:Culinar
ATTACH;FMTTYPE=image/jpeg:https://cdn.cluj.com/ghidlocalcom/sites/2/2018/07/Taste-the-Nature.jpg
END:VEVENT
BEGIN:VEVENT
DTSTART;TZID=Europe/Bucharest:20180725T080000
DTEND;TZID=Europe/Bucharest:20180725T170000
DTSTAMP:20260420T185759
CREATED:20180725T084317Z
LAST-MODIFIED:20180725T084317Z
UID:22695-1532505600-1532538000@ghidlocal.com
SUMMARY:Training Presentation Skills - gratuit
DESCRIPTION:Curs pentru dezvoltarea abilitatilor de comunicare cu impact si crestere a prezentei personale. \n– Vei învăța să-ţi elimini blocajele și frica de a vorbi în public;\n– Vei învăţa cum să fii expresiv în vorbire şi cum să îţi foloseşti limbajul corporal în avantajul tău;\n– Vei reuși să îţi controlezi emoțiile când ai de susținut prezentări\, discursuri\, etc.;\n– Mesajul pe care vrei să îl transmiți va putea fi recepționat mai ușor \nAfla daca esti eligibil pentru a participa la curs:\n0741-094105 sau informatica@rdsor.ro\nhttps://docs.google.com/forms/d/e/1FAIpQLSc5oFKuR6RY4grj29VtTalpPyi8b4z7jM6YPvnaF5j6YTupoQ/viewform \n*Cursul se adresează managerilor si persoanelor angajate in departamentele de Resurse Umane ale firmelor care isi desfășoară activitatea principala sau secundara într-unul din sectoarele economice cu potențial competitiv identificate conform SNC. \nOrganizator curs: Informatica SA\, str Szigligeti Ede nr 1\, detalii si inscrieri la datele de contact. \n
URL:https://ghidlocal.com/oradea/eveniment/training-presentation-skills-gratuit/
LOCATION:CREFOP Oradea\, Piata 22 Decembrie\, nr. 12A\, Oradea
CATEGORIES:Business
ATTACH;FMTTYPE=image/jpeg:https://cdn.cluj.com/ghidlocalcom/sites/2/2018/07/Training-Presentation-Skills-gratuit.jpg
END:VEVENT
BEGIN:VEVENT
DTSTART;TZID=Europe/Bucharest:20180725T220000
DTEND;TZID=Europe/Bucharest:20180725T230000
DTSTAMP:20260420T185759
CREATED:20180725T083545Z
LAST-MODIFIED:20180725T083545Z
UID:22694-1532556000-1532559600@ghidlocal.com
SUMMARY:Thy Veils Live în Cetatea Oradea
DESCRIPTION:Thy Veils Live în Amfiteatrul Cetății Oradea \nintrarea liberă \nThy Veils este un nume rezonant pentru stilurile electronic\, ambient\, neoclasic și world fusion\, recunoscut internațional pentru cine-concertele spectaculoase și proiecțiile de artă video. Creat din pasiune pentru contemplare și uimire față de legile cosmice\, proiectul reprezintă un experiment veritabil\, perfecționat în ani de muncă artistică\, fără compromis. \n
URL:https://ghidlocal.com/oradea/eveniment/thy-veils-live-in-cetatea-oradea/
LOCATION:Cetatea din Oradea\, Str. Griviței\, Oradea\, Bihor\, România
CATEGORIES:Concerte
ATTACH;FMTTYPE=image/jpeg:https://cdn.cluj.com/ghidlocalcom/sites/2/2018/07/Concert-muzic%C4%83-%C8%99i-art%C4%83-video-la-amfiteatru.jpg
END:VEVENT
END:VCALENDAR