BEGIN:VCALENDAR
VERSION:2.0
PRODID:-//Oradea - ECPv5.1.1//NONSGML v1.0//EN
CALSCALE:GREGORIAN
METHOD:PUBLISH
X-WR-CALNAME:Oradea
X-ORIGINAL-URL:https://ghidlocal.com/oradea
X-WR-CALDESC:Events for Oradea
BEGIN:VTIMEZONE
TZID:Europe/Bucharest
BEGIN:DAYLIGHT
TZOFFSETFROM:+0200
TZOFFSETTO:+0300
TZNAME:EEST
DTSTART:20170326T010000
END:DAYLIGHT
BEGIN:STANDARD
TZOFFSETFROM:+0300
TZOFFSETTO:+0200
TZNAME:EET
DTSTART:20171029T010000
END:STANDARD
END:VTIMEZONE
BEGIN:VEVENT
DTSTART;TZID=Europe/Bucharest:20170626T160000
DTEND;TZID=Europe/Bucharest:20170630T180000
DTSTAMP:20260420T203441
CREATED:20170623T070218Z
LAST-MODIFIED:20170623T070301Z
UID:13600-1498492800-1498845600@ghidlocal.com
SUMMARY:• Ateliere de Creație și de Activități în Aer Liber •
DESCRIPTION:ATELIERE DE CREAȚIE ȘI DE ACTIVITĂȚI ÎN AER LIBER\n                            26 – 30 Iunie | Cetatea Oradea \nTimp de o săptămână îi provocăm pe micii aventurieri să găsească comori rătăcite\, să exploreze teritorii necunoscute cu ajutorul hărții și a busolei\, să facă noduri în stil cercetășesc\, să picteze și să se bucure de toate activitățile propuse de Organizația Națională Cercetașii României – Oradea.  \n❗ FORMULAR DE ÎNSCRIERE: https://goo.gl/12VpQx \nLUNI\, 26 IUNIE\, orele 16:00-18:00 \n1. Treasure hunt | 14 locuri\nObiectivul: Strângerea comorii risipite (a cât mai multe obiecte) furate din cufărul fermecat al împăratului. \n2. Atelier de noduri | 14 locuri\nLa acest atelier participanții vor învăța cum să facă noduri simple\, dar se vor și juca în stil cercetășesc. Copii vor înțelege cu ușurință cum să se descurce cu realizarea nodurilor\, deoarece vom aplica metode jucăușe într-o oră plină de distracție și lucruri practice.  \nMARȚI\, 27 IUNIE\, orele 16:00-18:00 \n3. Atelier  de orientare cu harta și busola  | 15 locuri\nParticipanții vor primi o hartă\, o busolă și o serie de obiective ascunse pe care vor trebui să le găsească și să se documenteze în cel mai scurt timp posibil navigând (supravegheați). \n4. Atelier de construcții cercetășesti (construcții în miniatură din bețe)  | 8 locuri\nLa acest atelier copii vor învăța să construiască cu lemn și sfoară (în miniatură) elemente necesare supraviețuirii fără a distruge natura: masă\, scaun\, vatră suspendată\, umbrar.  \nMIERCURI\, 28 IUNIE\, orele 16:00-18:00 \n5 . Atelier de pictură  | 10 locuri\nÎn cadrul  atelierelor de pictură\, participanții  vor învăța tehnicile de desen și pictură\, tehnica amestecării  culorilor și contrastele de culoare. Fiecare participant va primi un obiect pe care va picta în funcție de imaginație ( piatra\, lemn\, farfurii din hartie\, tricouri – pe care le vor personaliza). \n6. Atelier de brățări | 7 locuri\nAtelier de utilizare a tehnicii de împletire a firelor colorate sub forma de brățări care vor dezvolta dexteritățile fine ale copiilor precum și concentrarea atenției pe parcursul a 45 de minute. \nJOI\, 29 IUNIE\, orele 16:00-18:00 \n7. Atelier de Quilling  | 14 locuri\nParticipanții vor învăța ce este arta răsucirii hârtiei\, cum se folosesc fâșiile din hârtie colorată și cum se pot combina mai multe elemente pentru a crea tablouri\, decorațiuni și feliciări.\nFiecare participant va primi un set de fâșii din hârtie colorată din care vor construi o imagine decorativă. În final se va face o expoziție a lucrărilor. \n8. Educație pentru sănătate  | 12 locuri\nEducația pentru sănătate stimulează copiii să învețe și să integreze în rutina lor comportamentală acțiuni sanogene.\nAcest atelier va urmări înțelegerea și conștientizarea comportamentelor sănătoase și se va realiza prin jocuri specifice vârstei.	 \nVINERI\, 30 IUNIE\, orele 16:00-18:00 \n9. Atelier de Origami  – 2 ateliere | 12 locuri\nParticipanților li se vor explica tehnicile de împăturire a hârtiei\, importanța respectării instrucțiunilor\, acuratețea pe care trebuie să o urmărească\, toate acestea fiind esențiale pentru dezvoltarea atenției\, concentrării\, răbdării. La finalul atelierului fiecare participant va vorbi despre semnificația pe care o are pentru el obiectul creat. \n
URL:https://ghidlocal.com/oradea/eveniment/%e2%80%a2-ateliere-de-creatie-si-de-activitati-in-aer-liber-%e2%80%a2/
LOCATION:Cetatea Oradea/ Oradea Fortress\, Cetatea Oradea\, Oradea-Mare\, 410100\, Romania
CATEGORIES:Teatru
END:VEVENT
END:VCALENDAR