BEGIN:VCALENDAR
VERSION:2.0
PRODID:-//Oradea - ECPv5.1.1//NONSGML v1.0//EN
CALSCALE:GREGORIAN
METHOD:PUBLISH
X-WR-CALNAME:Oradea
X-ORIGINAL-URL:https://ghidlocal.com/oradea
X-WR-CALDESC:Events for Oradea
BEGIN:VTIMEZONE
TZID:Europe/Bucharest
BEGIN:DAYLIGHT
TZOFFSETFROM:+0200
TZOFFSETTO:+0300
TZNAME:EEST
DTSTART:20170326T010000
END:DAYLIGHT
BEGIN:STANDARD
TZOFFSETFROM:+0300
TZOFFSETTO:+0200
TZNAME:EET
DTSTART:20171029T010000
END:STANDARD
END:VTIMEZONE
BEGIN:VEVENT
DTSTART;TZID=Europe/Bucharest:20170616T120000
DTEND;TZID=Europe/Bucharest:20170618T230000
DTSTAMP:20260421T134941
CREATED:20170428T004759Z
LAST-MODIFIED:20170616T093116Z
UID:10832-1497614400-1497826800@ghidlocal.com
SUMMARY:The Big Picnic
DESCRIPTION:Hai la picnic! Hai să ieșim din casă\, cu mic cu mare\, să ne bucurăm împreună de soare\, de muzică\, de jocuri pe iarba verde din Parcul 1 Decembrie\, dar mai ales de compania celor dragi\, pentru că\, The Big Picnic este un festival pentru întreaga familie! \nÎn cele 3 zile de festival\, Parcul 1 Decembrie va deveni spațiu de întâlnire între generații.\nPregătim multe activități interactive și concerte de muzică live bună\, genuri muzicale aparte\, jazz\, blues\, indie\, funk\, electro\, cu un fresh urban sound.  \n#	Zonă de relaxare și cel mai mare picnic din Oradea – întindem hamace\, păturici\, pufi\n#	Proiecții de filme în aer liber\n#	Zonă pentru copii: animatori\, activități educative\n#	Zonă de mâncare: standuri cu gustări\, răcoritoare\, băuturi\n#	Zonă de distracție și sport  \n Va fi o experiență Staropramen. Promovată de Utv.\nAlături de noi fac magie: Visit Oradea\, Primăria Oradea\, Ramada Oradea\, Hervis Sports Romania\, Almdudler\, Digi\, Digi Mobil\, Digi Film\, Live Rental\, Outdoor4U\, Under The Tent\, FRH – Federația Română de Handbal Official\, Zile Si Nopti Oradea\, Hamace Zenith\, Synopsis Studio. \nHai la #picnic! #împreună #bigpicnic #visitoradea \n
URL:https://ghidlocal.com/oradea/eveniment/the-big-picnic/
LOCATION:Parcul 1 Decembrie\, Piata 1 Decembrie\, Oradea\, Romania
CATEGORIES:Festival
ATTACH;FMTTYPE=image/jpeg:https://cdn.cluj.com/ghidlocalcom/sites/2/2017/05/cf9743844399f2ddc9fea7f296781233.jpg
END:VEVENT
BEGIN:VEVENT
DTSTART;TZID=Europe/Bucharest:20170616T180000
DTEND;TZID=Europe/Bucharest:20170617T070000
DTSTAMP:20260421T134941
CREATED:20170602T081025Z
LAST-MODIFIED:20170616T093928Z
UID:12725-1497636000-1497682800@ghidlocal.com
SUMMARY:Comoedia error dinsubsol 2.0
DESCRIPTION:Va invitam la a doua editie „Comoedia error dinsubsol” la cetatea Oradea\, unde arta si muzica se imbina inca o data intr-un eveniment propus de Experiment Teatru Clandestin si Dinsubsol. \nDe data asta incepem mai devreme\, atata timp cat vremea tine cu noi\, sa va desfatam simturile auditive si vizuale cu o muzica buna\, scena de teatru si proiectii video. \nP R O G R A M \n18:00 – 21:00 – Outdoor\nDinsubsol livestreaming\nMotiv & Acsel / Strigoi / Crisstia \n21:00-23:00 – Indoor & outdoor\nExperiment. Teatru. Clandestin.\nPropune Comoedia error FORME 3\np e r f o r m a n c e \n> Direcția artistică Sebastian Bărbălan \nPerformeri: Camelia Lolea\, Daniela Neagu\, Remus Ilișie\, Răzvan Marchiș\, Timea Ferenczi\, Elvis\nMuzica: Gianluca Misiti\nLumini: Peter Papp \n23:00 – till end – Indoor\nIncolor (Club Midi) / Robinski / Albui \n– Pe timpul noptii zona de lounge va fi amenajata in teatrul de vara\, acompaniata de muzica si proiectii video. (accesul in teatru se face doar prin interiorul cladirii) \nSuport: 25 lei (include petrecerea de zi si noapte + scena de teatru) \nUNDE?\nCetatea Oradea (Bastionul Ciunt > teatrul de vara) \nContinuarea provestii o scriem impreuna la fata locului.\n#dinsubsol  #experiment #teatru #clandestin  \nATENTIE!\n– Comercializarea bauturilor alcoolice si non-alcoolice se va face pe baza token-urilor. Token-urile sunt nerambursabile. Token-urile se pot achizitiona de la intrarea in locatie.\n– Pentru o buna desfasurare a evenimentului va rugam sa fiti intelegatori si sa aveti rabdare\, in caz ca se creeaza coada la intrare\, bar sau token-uri.\n– Accesul in locatie este limitat! Pentru facilitarea unei atmosfere potrivite\, vom sista accesul in incinta\, in cazul in care se ajunge la capacitatea limita.\n– Ne rezervam dreptul de a ne selecta clientela.\n– Accesul cu bauturi alcoolice / non-alcoolice in incinta este strict interzis!\n– La intrare va exista un punct de control\, pentru cele mentionate mai sus.\n– Vor fi locuri amenajate special pentru depozitarea deseurilor\, va rugam sa le folositi cu incredere. \n
URL:https://ghidlocal.com/oradea/eveniment/dinsubsol-la-cetate-2-0/
LOCATION:Cetatea Oradea/ Oradea Fortress\, Cetatea Oradea\, Oradea-Mare\, 410100\, Romania
CATEGORIES:Teatru
ATTACH;FMTTYPE=image/jpeg:https://cdn.cluj.com/ghidlocalcom/sites/2/2017/06/873bf42e2a1f2a24aa8d77f0a7c5de5b.jpg
END:VEVENT
BEGIN:VEVENT
DTSTART;TZID=Europe/Bucharest:20170616T200000
DTEND;TZID=Europe/Bucharest:20170617T020000
DTSTAMP:20260421T134941
CREATED:20170616T093118Z
LAST-MODIFIED:20170616T093118Z
UID:13266-1497643200-1497664800@ghidlocal.com
SUMMARY:Moszkva Terrace Sessions / w Ejn Tarhen [dub\, reggae\, psydub]
DESCRIPTION:MOSZKVA TERRACE SESSIONS v002 \nStarting from this friday we launch our regular weekly music shows in the courtyard of Sonnenfeld Palace\, performed by resident Djs of Apple Room and by Djs from the city. Smooth subgenres of ambient\, chill-out\, world music\, minimal techno\, liquid drum and bass will be played to create the perfect music background for summer chats. 🙂 \nw/\nEJN TARHEN [Solar Seeds Transylvania / AnarchySoundSystem] \nGenre: dub\, reggae\, psydub \n
URL:https://ghidlocal.com/oradea/eveniment/moszkva-terrace-sessions-w-ejn-tarhen-dub-reggae-psydub/
LOCATION:Moszkva Garden\, str. Moscovei 8\, Oradea-Mare\, 410043\, Romania
CATEGORIES:Concerte
END:VEVENT
BEGIN:VEVENT
DTSTART;TZID=Europe/Bucharest:20170617T180000
DTEND;TZID=Europe/Bucharest:20170617T190000
DTSTAMP:20260421T134941
CREATED:20170616T093917Z
LAST-MODIFIED:20170617T185130Z
UID:13277-1497722400-1497726000@ghidlocal.com
SUMMARY:✿ VISUL UNEI NOPȚI de VARĂ - Teatrul de Animație Țăndărică ✿
DESCRIPTION:Festivalul de Teatru pentru Copii Arcadia invită publicul orădean SÂMBĂTĂ\, 17 Iunie\, de la ora 18:00\, la Sala Arcadia la una dintre cele mai frumoase comedii romantice ale tuturor timpurilor: \nVISUL UNEI NOPȚI DE VARĂ\, de William Shakespeare \nUn spectacol de teatru de păpuși inedit\, care se adresează adolescențior și adulților! \nFrenezia\, fericirea\, exuberanţa se revarsă peste toţi și toate! \nUmor debordant\, gaguri după gaguri\, un joc actoricesc nuanțat\, împletit cu mânuire la masa\, cu păpuși extrem de expresive care se compun și descompun\, un decor simplu\, toate creionând un tablou vesel\, dulce-amar pe alocuri\, în care iubirea învinge totul. \nRegia artistică: Cristian Pepino\nScenografia: Cristian Pepino\nCostume Oltea Clara Darânga Rasnoveanu\nMuzica: Kevin MacLeod\nCu: Mihai Dumitrescu\, Andreea Ionescu\, Simina Constantin\, Roxana Vișan\, Cristina Țane\, Robert Trifan\, Florin Mititelu\, Leonard Dodan \nDurata spectacolului: 60 minute \nVârsta publicului vizat: + 14 ani \n? Biletele s-au pus în vânzare la Agenţia de Bilete a Teatrului de marți până vineri în intervalul orar 10:00 – 19:00\, iar în weekend între orele 10:00-13:00. Puteţi achiziţiona bilete şi cu o oră înainte spectacol sau online pe http://www.biletmaster.ro.\nPentru informaţii suplimentare şi rezervări de bilete\, vă invităm să sunaţi la numărul de telefon: 0259/440.742. \nVă aşteptăm la teatru! \n
URL:https://ghidlocal.com/oradea/eveniment/%e2%9c%bf-visul-unei-nopti-de-vara-teatrul-de-animatie-tandarica-%e2%9c%bf/
LOCATION:Teatrul Arcadia\, Vasile Alecsandri Nr.8\, Oradea\, 410072\, Romania
CATEGORIES:Teatru
ATTACH;FMTTYPE=image/jpeg:https://cdn.cluj.com/ghidlocalcom/sites/2/2017/06/83dbbd9c2df3b1e99fb9a40ce50af36d.jpg
END:VEVENT
END:VCALENDAR