BEGIN:VCALENDAR
VERSION:2.0
PRODID:-//Oradea - ECPv5.1.1//NONSGML v1.0//EN
CALSCALE:GREGORIAN
METHOD:PUBLISH
X-WR-CALNAME:Oradea
X-ORIGINAL-URL:https://ghidlocal.com/oradea
X-WR-CALDESC:Events for Oradea
BEGIN:VTIMEZONE
TZID:Europe/Bucharest
BEGIN:DAYLIGHT
TZOFFSETFROM:+0200
TZOFFSETTO:+0300
TZNAME:EEST
DTSTART:20170326T010000
END:DAYLIGHT
BEGIN:STANDARD
TZOFFSETFROM:+0300
TZOFFSETTO:+0200
TZNAME:EET
DTSTART:20171029T010000
END:STANDARD
END:VTIMEZONE
BEGIN:VEVENT
DTSTART;TZID=Europe/Bucharest:20170615T180000
DTEND;TZID=Europe/Bucharest:20170615T200000
DTSTAMP:20260421T170420
CREATED:20170613T082429Z
LAST-MODIFIED:20170614T064523Z
UID:13125-1497549600-1497556800@ghidlocal.com
SUMMARY:Conferinţă România\, Germania și chestiunea evreiască\, 1940-1944
DESCRIPTION:Vă invităm la conferinţa „România\, Germania şi chestiunea evreiască\, 1940-1944”\, şi discuţii pe marginea volumului lui Ottmar Traşcă\, cercetător ştiinţific la Institutul de istorie din Cluj-Napoca. Invitaţi: autorul şi Mihai Maci. \n
URL:https://ghidlocal.com/oradea/eveniment/conferinta-romania-germania-si-chestiunea-evreiasca-1940-1944/
LOCATION:R&R bookstores & coffeehouses\, Oradea-Mare\, 410025\, Romania
CATEGORIES:Educatie
ATTACH;FMTTYPE=image/jpeg:https://cdn.cluj.com/ghidlocalcom/sites/2/2017/06/1893435d6edc3cbe7d6a863200b59eca.jpg
END:VEVENT
BEGIN:VEVENT
DTSTART;TZID=Europe/Bucharest:20170615T190000
DTEND;TZID=Europe/Bucharest:20170615T201500
DTSTAMP:20260421T170420
CREATED:20170607T072133Z
LAST-MODIFIED:20170614T064337Z
UID:12907-1497553200-1497557700@ghidlocal.com
SUMMARY:◍ Cafeneaua Pirandello | spre final de stagiune ◍
DESCRIPTION:? Joi\, 15 iunie\, ora 19:00\, la Sala Mare\, Teatrul Regina Maria vă invită la ultima reprezentație din această stagiune a spectacolului\nCAFENEAUA PIRANDELLO\, scenariu dramatic de Anca Măniuțiu – după texte de Luigi Pirandello\, regia Mihai Măniuțiu ? \nPersonaje fantomatice\, circari sturlubatici\, călători dezorientați se întâlnesc într-o noapte în cafeneaua părăsită din gară și dezlănțuie o altă lume… halucinatorie\, fantastică\, unde frontiera dintre realitate și vis (sau coșmar) este foarte fragilă. \nVis sau realitate?   \nDistribuția:  \nPERSONAJELE DIN CAFENEA\nOmul cu floarea în gură: Șerban Borda\nClientul obosit: Sebastian Lupu\nFemeia în gri: Denisa Vlad\nProxenetul: George Voinese\nMomó\, băutorul de absint: Emil Sauciuc\nProstituatele: Georgia Căprărin\, Adela Lazăr\, Alina Leonte\nProstituata distinsă: Angela Tanko\nActrița decăzută: Gabriela Codrea\nFata palidă: Anda Tămășanu\nFemeia rătăcită: Mirela Lupu\nÎnsoțitorul lui Momó: Petre Ghimbășan\nUn bătrân senil: Ion Ruscuț \nCIRCUL\nDirectorul circului: Richard Balint\nClovn muzical: Andrian Locovei\nClovni: Răzvan Vicoveanu\, Alexandru Rusu\, Eugen Neag\, George Dometi\, Pavel Sîrghi\, Ciprian Ciuciu\nMireasa-clovn: Consuela Egyed\nMirele-clovn: Sorin Ionescu \n…………………………………………………….. \nRegia artistică: Mihai Măniuțiu\nCoregrafia: Andrea Gavriliu\nDecor: Adrian Damian\nCostume: Luiza Enescu\nMuzica: Mihai Dobre\nLight design: Lucian Moga \nDurata spectacolului: 1h 15 min \n
URL:https://ghidlocal.com/oradea/eveniment/%e2%97%8d-cafeneaua-pirandello-spre-final-de-stagiune-%e2%97%8d/
LOCATION:Teatrul Regina Maria\, Piaţa Regele Ferdinand\, nr. 6\, Oradea\, 410021\, Romania
CATEGORIES:Teatru
ATTACH;FMTTYPE=image/jpeg:https://cdn.cluj.com/ghidlocalcom/sites/2/2017/06/ab6b1b6555517cfb0036d548382b2533.jpg
END:VEVENT
BEGIN:VEVENT
DTSTART;TZID=Europe/Bucharest:20170615T190000
DTEND;TZID=Europe/Bucharest:20170615T233000
DTSTAMP:20260421T170420
CREATED:20170614T071006Z
LAST-MODIFIED:20170614T071006Z
UID:13162-1497553200-1497569400@ghidlocal.com
SUMMARY:Spectacol de muzică ușoară
DESCRIPTION:Spectacol de muzică ușoară organizat de către Școala de Arta Francisc Hubic.\nAcest spectacol de muzică ușoară  este al treilea concert din seria de trei concerte realizate de către Școala de Arte Francisc Hubic\, în perioada 13\, 14 și 15 iunie. \nZiua de 15 iunie le aduce orădenilor un concert de muzică ușoară. Vor urca pe scenă cântăreți recunoscuți de muzică ușoară\, dar și cursanți și absolvenți ai Școlii de Artă. Invitați: Ozana Barabancea\, Horia Moculescu\, trupa Proconsul.  \nVor prezenta concertul: Alexandra Velniciuc și Aurelian Temișan \nSunteți așteptați cu drag la acest concert\, pentru a vă putea bucura de muzică! Intrarea este liberă. \n
URL:https://ghidlocal.com/oradea/eveniment/spectacol-de-muzica-usoara/
LOCATION:Piața Unirii Oradea\, Piața Unirii\, Oradea\, România
CATEGORIES:Divertisment
ATTACH;FMTTYPE=image/jpeg:https://cdn.cluj.com/ghidlocalcom/sites/2/2017/06/arta-francisc-1.jpg
ORGANIZER;CN="%C8%98coala%20de%20Art%C4%83%20%E2%80%9EFrancisc%20Hubic%22":MAILTO:scoalafrancischubic@gmail.com
END:VEVENT
END:VCALENDAR