BEGIN:VCALENDAR
VERSION:2.0
PRODID:-//Oradea - ECPv5.1.1//NONSGML v1.0//EN
CALSCALE:GREGORIAN
METHOD:PUBLISH
X-WR-CALNAME:Oradea
X-ORIGINAL-URL:https://ghidlocal.com/oradea
X-WR-CALDESC:Events for Oradea
BEGIN:VTIMEZONE
TZID:Europe/Bucharest
BEGIN:DAYLIGHT
TZOFFSETFROM:+0200
TZOFFSETTO:+0300
TZNAME:EEST
DTSTART:20170326T010000
END:DAYLIGHT
BEGIN:STANDARD
TZOFFSETFROM:+0300
TZOFFSETTO:+0200
TZNAME:EET
DTSTART:20171029T010000
END:STANDARD
END:VTIMEZONE
BEGIN:VEVENT
DTSTART;TZID=Europe/Bucharest:20170612T193000
DTEND;TZID=Europe/Bucharest:20170612T220000
DTSTAMP:20260421T213611
CREATED:20170611T200927Z
LAST-MODIFIED:20170612T065415Z
UID:13035-1497295800-1497304800@ghidlocal.com
SUMMARY:Ladies Night
DESCRIPTION:Doamnelor si domnisoarelor  LUNI este seara voastra la Rewine Bar. LAVINIU ALAFI va asteapta din nou sa degustati impreuna vinuri Rosé! \nVa veti delecta cu: \n1. Bodegas Bleda\, Jumilla Rose\, sec\, Jumilla\, Spania\n2. Alira Rose\, sec\, Dobrogea\, Romania\n3. Vartely\, Individo\, sec\, Moldova\n4. Roy Rene\, Opale\, sec\, Provence\, Franta\n5. Liliac\, sec\, Lechinta\, Romania\n6. Basilescu\, Eclipse Rose\,demidulce\, Dealul Mare\, Romania \nPRET: 50 Lei\nREZERVARI: 0772 277 777 \n
URL:https://ghidlocal.com/oradea/eveniment/ladies-night-4/
LOCATION:ReWine Bar\, Str. Republicii\, Nr. 31\, Oradea-Mare\, 410033\, Romania
CATEGORIES:Degustare
ATTACH;FMTTYPE=image/jpeg:https://cdn.cluj.com/ghidlocalcom/sites/2/2017/06/c508f234b50c538839c1ba66446debbd.jpg
END:VEVENT
END:VCALENDAR