BEGIN:VCALENDAR
VERSION:2.0
PRODID:-//Oradea - ECPv5.1.1//NONSGML v1.0//EN
CALSCALE:GREGORIAN
METHOD:PUBLISH
X-WR-CALNAME:Oradea
X-ORIGINAL-URL:https://ghidlocal.com/oradea
X-WR-CALDESC:Events for Oradea
BEGIN:VTIMEZONE
TZID:Europe/Bucharest
BEGIN:DAYLIGHT
TZOFFSETFROM:+0200
TZOFFSETTO:+0300
TZNAME:EEST
DTSTART:20170326T010000
END:DAYLIGHT
BEGIN:STANDARD
TZOFFSETFROM:+0300
TZOFFSETTO:+0200
TZNAME:EET
DTSTART:20171029T010000
END:STANDARD
END:VTIMEZONE
BEGIN:VEVENT
DTSTART;TZID=Europe/Bucharest:20170610T110000
DTEND;TZID=Europe/Bucharest:20170610T140000
DTSTAMP:20260422T002318
CREATED:20170529T064259Z
LAST-MODIFIED:20170607T073939Z
UID:12568-1497092400-1497103200@ghidlocal.com
SUMMARY:Coffee Tasting Brunch by Yume
DESCRIPTION:Cafea de nota 10 (iunie)! \nParteneriatul nostru de succes cu YUME Coffee Roasters ne-a inspirat sa organizam o degustare dedicata cafelei de specialitate in cadrul careia vom invata cum si ce anume trebuie sa apreciem la o cafea de calitate.  \nVeti putea degusta ESPRESSO\, AMERICANO\, CAPPUCCINO\, V60 SI AEROPRESS dupa pofta inimi\, iar pentru cei mai pofticiosi dintre voi (speram ca toti sunteti) vom pregati un delicios BRUNCH ce va contine: \n– croissant dulce cu capsuni si crema de branza\n– croissant cu sunca si gouda\n– SURPRIZA  \nPret: 39 Lei\nRezervari: 0772 277 777 \nVa asteptam cu drag sa le savuram pe toate impreuna! \n
URL:https://ghidlocal.com/oradea/eveniment/coffee-tasting-brunch-by-yume/
LOCATION:ReWine Bar\, Str. Republicii\, Nr. 31\, Oradea-Mare\, 410033\, Romania
CATEGORIES:Degustare
ATTACH;FMTTYPE=image/jpeg:https://cdn.cluj.com/ghidlocalcom/sites/2/2017/05/49d462f27b3c99d3ba1c6126b0cd9507.jpg
END:VEVENT
BEGIN:VEVENT
DTSTART;TZID=Europe/Bucharest:20170610T190000
DTEND;TZID=Europe/Bucharest:20170610T210000
DTSTAMP:20260422T002318
CREATED:20170607T072123Z
LAST-MODIFIED:20170607T072125Z
UID:12897-1497121200-1497128400@ghidlocal.com
SUMMARY:Un cvartet de idei
DESCRIPTION:„… si despre privilegii“ – Un cvartet de idei\nLocatie: Teatrul Regina Maria\, cu incepere de la ora 19:00. \nIoana Pârvulescu\, Călin Mihăilescu\, Horia Roman Patapievici și Andrei Vieru își dau întâlnire pe scena Teatrului Regina Maria\, în cadrul Colocviului: …și despre privilegii. Un cvartet de idei \nDirector Artistic: Alexandru Badea. \nBiletele se gasesc la caseria Teatrului Regina Maria si online prin biletmaters.ro \nEUROPEAN MUSIC OPEN este un eveniment organizat de Primăria Municipiului Oradea prin Asociația pentru promovarea turismului din Oradea și regiune (Visit Oradea)\nParteneri oficiali: Teatrul Regina Maria\, Fundația Culturală FITO\, Episcopia Romano Catolica Oradea\, Muzeul Tării Crișurilor.\nSponsor principal: Holcim\nSprijinit de: Aerotravel\, Lotus Center și MyDeck\nPromovat de: InfoOradea și Ghid Local Oradea \nMai multe detalii legate de evenimentul European Music Open la: http://www.musicopen.ro. \n
URL:https://ghidlocal.com/oradea/eveniment/un-cvartet-de-idei/
LOCATION:Teatrul Regina Maria\, Piaţa Regele Ferdinand\, nr. 6\, Oradea\, 410021\, Romania
CATEGORIES:Festival
ATTACH;FMTTYPE=image/jpeg:https://cdn.cluj.com/ghidlocalcom/sites/2/2017/06/24ee463debc5fa1fe373fb0cefadfbe0-1.jpg
END:VEVENT
END:VCALENDAR