BEGIN:VCALENDAR
VERSION:2.0
PRODID:-//Oradea - ECPv5.1.1//NONSGML v1.0//EN
CALSCALE:GREGORIAN
METHOD:PUBLISH
X-WR-CALNAME:Oradea
X-ORIGINAL-URL:https://ghidlocal.com/oradea
X-WR-CALDESC:Events for Oradea
BEGIN:VTIMEZONE
TZID:Europe/Bucharest
BEGIN:DAYLIGHT
TZOFFSETFROM:+0200
TZOFFSETTO:+0300
TZNAME:EEST
DTSTART:20170326T010000
END:DAYLIGHT
BEGIN:STANDARD
TZOFFSETFROM:+0300
TZOFFSETTO:+0200
TZNAME:EET
DTSTART:20171029T010000
END:STANDARD
END:VTIMEZONE
BEGIN:VEVENT
DTSTART;TZID=Europe/Bucharest:20170609T190000
DTEND;TZID=Europe/Bucharest:20170609T210000
DTSTAMP:20260422T013946
CREATED:20170602T081016Z
LAST-MODIFIED:20170607T072013Z
UID:12719-1497034800-1497042000@ghidlocal.com
SUMMARY:Iubesti? Platesti!
DESCRIPTION:
URL:https://ghidlocal.com/oradea/eveniment/iubesti-platesti-2/
LOCATION:Kosher\, Strada Crinului 2\, Oradea\, 410000\, Romania
CATEGORIES:Divertisment
ATTACH;FMTTYPE=image/jpeg:https://cdn.cluj.com/ghidlocalcom/sites/2/2017/06/35e9d08ad26bc27ec4dc0dfce29c0d39.jpg
END:VEVENT
BEGIN:VEVENT
DTSTART;TZID=Europe/Bucharest:20170609T190000
DTEND;TZID=Europe/Bucharest:20170609T210000
DTSTAMP:20260422T013946
CREATED:20170607T072120Z
LAST-MODIFIED:20170607T072123Z
UID:12895-1497034800-1497042000@ghidlocal.com
SUMMARY:Gala de Balet
DESCRIPTION:Gala de Balet\nLocatia: Teatrul Regina Maria\, cu incepere de la ora 19:00. \nCoregraful și regizorul Renato Zanella va reuni pe scena Teatrului Regina Maria\, în cadrul Galei de Balet\, staruri ale lumii dansului\, primi balerini ai Operelor de Stat din Viena\, Budapesta\, Atena și București.\nO călătorie coregrafică de la baletul clasic la cel contemporan. \nCoordonator artistic: Renato Zanella\nLjudmila Konowalowa\, Denys Cherevychko – Opera de Stat din Viena\nKarina Sarkissova\, Balazsi Gergö Armi – Opera de Stat din Budapesta\nCristina Dijmaru\, Adina Tudor\, Ovidiu Matei Iancu\, Bogdan Canila\nRoss McCaw\, Marco Corcella – Opera Nationala Bucuresti \nDirector Artistic: Alexandru Badea. \nEUROPEAN MUSIC OPEN este un eveniment organizat de Primăria Municipiului Oradea prin Asociația pentru promovarea turismului din Oradea și regiune (Visit Oradea)\nParteneri oficiali: Teatrul Regina Maria\, Fundația Culturală FITO\, Episcopia Romano Catolica Oradea\, Muzeul Tării Crișurilor.\nSponsor principal: Holcim\nSprijinit de: Aerotravel\, Lotus Center și MyDeck\nPromovat de: InfoOradea și Ghid Local Oradea \nBiletele se gasesc la caseria Teatrului Regina Maria si online prin biletmaters.ro \nMai multe detalii legate de evenimentul European Music Open la: http://www.musicopen.ro. \n
URL:https://ghidlocal.com/oradea/eveniment/gala-de-balet/
LOCATION:Teatrul Regina Maria\, Piaţa Regele Ferdinand\, nr. 6\, Oradea\, 410021\, Romania
CATEGORIES:Festival
ATTACH;FMTTYPE=image/jpeg:https://cdn.cluj.com/ghidlocalcom/sites/2/2017/06/da48c56da3a1dcb40706143f1685ad8c-1.jpg
END:VEVENT
BEGIN:VEVENT
DTSTART;TZID=Europe/Bucharest:20170609T200000
DTEND;TZID=Europe/Bucharest:20170609T220000
DTSTAMP:20260422T013946
CREATED:20170531T102411Z
LAST-MODIFIED:20170607T071959Z
UID:12679-1497038400-1497045600@ghidlocal.com
SUMMARY:Summer Jazz / / Adriano Trindade Europe Tour 2017
DESCRIPTION:Adriano Trindade LIVE / Tour Europa 2017\nJazz Brasil / Samba-Rock / Bossa Nova \nVineri\, 9 iunie\, Adriano Trindade din Porto Alegre\, Brazilia\, vine in Moszkva Garden pentru a ne incanta cu sunetul autentic de Jazz Brasil\, Samba-Rock si Bossa Nova!\nAdriano Trindade se afla in turneu in perioada aprilie-iulie 2017\, tarile incluse fiind Germania\, Austria\, Polonia\, Cehia\, Slovacia\, Ungaria\, Romania\, Serbia\, Bulgaria\, Grecia\, Slovenia\, Croatia\, Bosnia-Hertegovina si Italia\, avand programate\, in total\, peste 100 de concerte.\nÎn 2015 Adriano a înregistrat DVD-ul „Live in Praga“\, precum si al 4-lea album al carierei sale\, in Praga\, cu sprijinul Jazz Los Quemados. În 2016 a vizitat 28 de țări din Europa\, sustinand 130 de concerte în 97 de orașe diferite. \nInformatii despre artist: http://www.adrianotrindade.net \nSupport: 15 lei \n
URL:https://ghidlocal.com/oradea/eveniment/summer-jazz-adriano-trindade-europe-tour-2017/
LOCATION:Moszkva Kávézó\, str. Moscovei no.8\, Oradea\, 410001\, Romania
CATEGORIES:Concerte
ATTACH;FMTTYPE=image/jpeg:https://cdn.cluj.com/ghidlocalcom/sites/2/2017/05/49956901c69c9d82cb8ada0ef87ea320.jpg
END:VEVENT
END:VCALENDAR