BEGIN:VCALENDAR
VERSION:2.0
PRODID:-//Oradea - ECPv5.1.1//NONSGML v1.0//EN
CALSCALE:GREGORIAN
METHOD:PUBLISH
X-WR-CALNAME:Oradea
X-ORIGINAL-URL:https://ghidlocal.com/oradea
X-WR-CALDESC:Events for Oradea
BEGIN:VTIMEZONE
TZID:Europe/Bucharest
BEGIN:DAYLIGHT
TZOFFSETFROM:+0200
TZOFFSETTO:+0300
TZNAME:EEST
DTSTART:20170326T010000
END:DAYLIGHT
BEGIN:STANDARD
TZOFFSETFROM:+0300
TZOFFSETTO:+0200
TZNAME:EET
DTSTART:20171029T010000
END:STANDARD
END:VTIMEZONE
BEGIN:VEVENT
DTSTART;TZID=Europe/Bucharest:20170601T100000
DTEND;TZID=Europe/Bucharest:20170604T200000
DTSTAMP:20260424T154024
CREATED:20170506T023542Z
LAST-MODIFIED:20170531T102309Z
UID:11243-1496311200-1496606400@ghidlocal.com
SUMMARY:Programul R&R Cetate din cadrul Kids Fest
DESCRIPTION:În cadrul Kids Fest\, librăria și cafeneaua R&R din Cetate v-a pregătit următoarele activități: \n– Târg de carte cu cărți pentru copiii- 1-4 iunie\, orele 10:00-20:00\n– Fabrica de dulciuri R&R – fântână de ciocolată\, vată pe băț\, prăjituri și multe altele! – 1-4 iunie\, orele 10:00-20:00\n– Ateliere de colorat – 3-4 iunie\, orele 10:00-12:00\n– Concurs de spus povești de către cei mici pentru cei mici (cu premii\, participare între 5-12 ani) – 1-2 iunie\, orele 13:30-16:00\n– Ora de povești – 1-4 iunie între 12:00-13:00 – se vor citi povești celor mici \nVă așteptăm cu drag! 🙂 \n
URL:https://ghidlocal.com/oradea/eveniment/programul-rr-cetate-din-cadrul-kids-fest/
LOCATION:R&R bookstores & coffeehouses\, Oradea-Mare\, 410025\, Romania
CATEGORIES:Educatie
ATTACH;FMTTYPE=image/jpeg:https://cdn.cluj.com/ghidlocalcom/sites/2/2017/05/4e2d16197c8c58c737c46c5da27f2777.jpg
END:VEVENT
BEGIN:VEVENT
DTSTART;TZID=Europe/Bucharest:20170603T120000
DTEND;TZID=Europe/Bucharest:20170603T170000
DTSTAMP:20260424T154024
CREATED:20170527T110835Z
LAST-MODIFIED:20170602T081443Z
UID:12546-1496491200-1496509200@ghidlocal.com
SUMMARY:Targ de muzica - what WAS music (viniluri\, benzi\, casete\,Cd-uri
DESCRIPTION:Targ de muzica – what WAS music (viniluri\, benzi\, casete\,Cd-uri etc) \nTargul se va desfasura Sambata\, 3 Iunie\, in sala de spectacole de la Moszkva Cafe\, Oradea\, str. Moscovei nr.8 in intervalul orar 12-17.\nIn cazul in care nu va ploua\, evenimentul va avea loc in curtea interioara in acelasi interval orar \nIti poti aduce si tu materialele muzicale\, indiferent de suport (vinil\, casete\, casete VHS\, benzi de magnetofon\, cd-uri) pentru vanzare.\nCe trebuie sa stii si sa faci? \nNumarul de mese este limitat la 16\, un comerciant poate avea maxim 3 mese.  \nInscrierea comerciantilor se va face exclusiv prin email\, la adresa: oradea@me.com\, pe principiul primul venit/primul sosit\, iar numarul de ordine al meselor va respecta lista inscrierilor. \n
URL:https://ghidlocal.com/oradea/eveniment/targ-de-muzica-what-was-music-viniluri-benzi-casetecd-uri/
LOCATION:Moszkva Kávézó\, str. Moscovei no.8\, Oradea\, 410001\, Romania
CATEGORIES:Concerte
ATTACH;FMTTYPE=image/jpeg:https://cdn.cluj.com/ghidlocalcom/sites/2/2017/05/7165fac6177ca3f570b2a6b366613f5a.jpg
END:VEVENT
BEGIN:VEVENT
DTSTART;TZID=Europe/Bucharest:20170603T190000
DTEND;TZID=Europe/Bucharest:20170603T220000
DTSTAMP:20260424T154024
CREATED:20170527T110838Z
LAST-MODIFIED:20170602T081443Z
UID:12548-1496516400-1496527200@ghidlocal.com
SUMMARY:Rockstation: Battle of the bands
DESCRIPTION:Clubul Interact Oradea va invita sa luati parte la a treia editie a concursului Rockstation. Veti avea ocazia sa va distrati pe ritmurile unor trupe de tineri talentati si sa traiti o experienta de neuitat.\n Concursul va avea loc sambata\, 3 iunie la ora 19.00 in Moszkva Cafe\, iar biletul de intrare costa 10 lei.\nVa asteptam in numar cat mai mare pentru a sustine viitorul muzicii bune romanesti! \n
URL:https://ghidlocal.com/oradea/eveniment/rockstation-battle-of-the-bands/
LOCATION:Moszkva Kávézó\, str. Moscovei no.8\, Oradea\, 410001\, Romania
CATEGORIES:Concerte
ATTACH;FMTTYPE=image/jpeg:https://cdn.cluj.com/ghidlocalcom/sites/2/2017/05/6c4d826bfb0b3087dc3f9682413cf76a.jpg
END:VEVENT
END:VCALENDAR