BEGIN:VCALENDAR
VERSION:2.0
PRODID:-//Oradea - ECPv5.1.1//NONSGML v1.0//EN
CALSCALE:GREGORIAN
METHOD:PUBLISH
X-WR-CALNAME:Oradea
X-ORIGINAL-URL:https://ghidlocal.com/oradea
X-WR-CALDESC:Events for Oradea
BEGIN:VTIMEZONE
TZID:Europe/Bucharest
BEGIN:DAYLIGHT
TZOFFSETFROM:+0200
TZOFFSETTO:+0300
TZNAME:EEST
DTSTART:20170326T010000
END:DAYLIGHT
BEGIN:STANDARD
TZOFFSETFROM:+0300
TZOFFSETTO:+0200
TZNAME:EET
DTSTART:20171029T010000
END:STANDARD
END:VTIMEZONE
BEGIN:VEVENT
DTSTART;TZID=Europe/Bucharest:20170601T090000
DTEND;TZID=Europe/Bucharest:20170601T200000
DTSTAMP:20260424T182023
CREATED:20170526T112113Z
LAST-MODIFIED:20170526T112113Z
UID:12491-1496307600-1496347200@ghidlocal.com
SUMMARY:Cărtărescu și copilăria - Concurs de scriere creativă
DESCRIPTION:În 1 iunie e dublă sărbătoare la librăria Humanitas din Oradea!\nCu ocazia ZILEI INTERNAȚIONALE A COPILULUI și totodată a zilei de naștere a scriitorului MIRCEA CĂRTĂRESCU provocăm toți iubitorii de lectură\, toți micii sau marii scriitori să creeze!  \nAșteptăm într-un mesaj privat viziunea voastră despre COPILĂRIA LUI CĂRTĂRESCU\, până în 1 iunie la ora 12\, sub forma unei compuneri redactate în word\, cu mențiunea că nu există reguli\, iar creativitatea și spiritul inovator sunt elemente binevenite!  \nToate creațiile vor fi publicate pe blogul librăriei Humanitas (http://humanitasoradeablog.wordpress.com)\, iar 3 dintre cele mai impresionante lucrări vor fi PREMIATE cu cărți! \n
URL:https://ghidlocal.com/oradea/eveniment/cartarescu-si-copilaria-concurs-de-scriere-creativa/
LOCATION:Librăria Humanitas Oradea\, Republicii nr. 11\, Oradea-Mare\, oradeA\, Romania
ATTACH;FMTTYPE=image/jpeg:https://cdn.cluj.com/ghidlocalcom/sites/2/2017/05/21906bf6ad3709f2f020603976966f7b.jpg
END:VEVENT
BEGIN:VEVENT
DTSTART;TZID=Europe/Bucharest:20170601T100000
DTEND;TZID=Europe/Bucharest:20170604T200000
DTSTAMP:20260424T182023
CREATED:20170506T023542Z
LAST-MODIFIED:20170531T102309Z
UID:11243-1496311200-1496606400@ghidlocal.com
SUMMARY:Programul R&R Cetate din cadrul Kids Fest
DESCRIPTION:În cadrul Kids Fest\, librăria și cafeneaua R&R din Cetate v-a pregătit următoarele activități: \n– Târg de carte cu cărți pentru copiii- 1-4 iunie\, orele 10:00-20:00\n– Fabrica de dulciuri R&R – fântână de ciocolată\, vată pe băț\, prăjituri și multe altele! – 1-4 iunie\, orele 10:00-20:00\n– Ateliere de colorat – 3-4 iunie\, orele 10:00-12:00\n– Concurs de spus povești de către cei mici pentru cei mici (cu premii\, participare între 5-12 ani) – 1-2 iunie\, orele 13:30-16:00\n– Ora de povești – 1-4 iunie între 12:00-13:00 – se vor citi povești celor mici \nVă așteptăm cu drag! 🙂 \n
URL:https://ghidlocal.com/oradea/eveniment/programul-rr-cetate-din-cadrul-kids-fest/
LOCATION:R&R bookstores & coffeehouses\, Oradea-Mare\, 410025\, Romania
CATEGORIES:Educatie
ATTACH;FMTTYPE=image/jpeg:https://cdn.cluj.com/ghidlocalcom/sites/2/2017/05/4e2d16197c8c58c737c46c5da27f2777.jpg
END:VEVENT
BEGIN:VEVENT
DTSTART;TZID=Europe/Bucharest:20170601T120000
DTEND;TZID=Europe/Bucharest:20170601T180000
DTSTAMP:20260424T182023
CREATED:20170510T041600Z
LAST-MODIFIED:20170518T201703Z
UID:11438-1496318400-1496340000@ghidlocal.com
SUMMARY:Cupa LEO
DESCRIPTION:Fotbalul e unul dintre hobby-urile tale și ești pasionat de competiții? Dacă da\, Clubul Leo ” Black Eagle” te invită să participi la Cupa Leo\, eveniment ce constă într-un campionat de fotbal. \nCând? JOI\, 1 IUNIE!\nUnde? Liceul cu Program Sportiv “Bihorul” ne pune la dispoziție terenurile de fotbal pentru cea mai tare experiență de până acum. \nÎnscrierea  se face telefonic\, la unul din numerele : 0722612278(Maria Baba)\n0799587537(Pavel Junc). \nCostul înscrierii este de 75 lei/echipă (formată din 6 jucători)\, sau de 85 lei/echipă (în cazul în care se dorește încă o rezervă pe lângă cei 6 jucători). \nBanii strânși în urma evenimentului se vor dona în scop caritabil pentru achitarea tratamentelor a doi copii diagnosticați cu afecțiuni grave.\nAnunțarea programului se va  face\, ulterior\,  pe pagina evenimentului. \nPremiul I –  200 lei și articole sportive\nPremiul II –  articole sportive\nLasă pentru o zi terenul din parc și înscrie-te chiar acum la cel mai tare  Campionat! \n
URL:https://ghidlocal.com/oradea/eveniment/cupa-leo/
LOCATION:Lps-Css „Bihorul” Oradea – Fotbal\, Str. Matei Basarab\, nr. 4\, Oradea\, 430123\, Romania
ATTACH;FMTTYPE=image/jpeg:https://cdn.cluj.com/ghidlocalcom/sites/2/2017/05/1b15228b70d088122692f59285920e3a.jpg
ORGANIZER;CN="LEO%20Black%20Eagle%20Oradea":MAILTO:leo.black_eagles@yahoo.com
END:VEVENT
BEGIN:VEVENT
DTSTART;TZID=Europe/Bucharest:20170601T160000
DTEND;TZID=Europe/Bucharest:20170601T200000
DTSTAMP:20260424T182023
CREATED:20170515T193235Z
LAST-MODIFIED:20170518T201759Z
UID:12063-1496332800-1496347200@ghidlocal.com
SUMMARY:Kids Fun Party
DESCRIPTION:1 iunie se apropie! Hai cu mic\, cu mare\, la Kids Fun Party!  \nSe anunță o aniversare pe cinste\, cu jocuri și concursuri pentru toate vârstele\, muzică\, modă și veselie\, să te bucuri de copilărie! \nInvitații noștri\, Toppolina și Hapciu\, deschid petrecerea la ora 16:00 cu: ateliere creative\, magie\, spectacole interactive\, jocuri și dansuri\, modelaj baloane și pictură pe față. \nDe la ora 18:00 redescoperim cântecele copilăriei cu micuții artiști de la Palatul Copiilor și Elevilor Oradea\, iar de la ora 19:00 aflăm ce se poartă sezonul acesta\, la o nouă ediție a Festivalului de Modă pentru Copii Gift of Beauty. \nEvenimentul are loc în zona Pellini – Carrefour iar participarea este GRATUITĂ! \n
URL:https://ghidlocal.com/oradea/eveniment/kids-fun-party/
LOCATION:Lotus Oradea\, Strada Nufarului Nr. 30\, Oradea\, 410583\, Romania
CATEGORIES:Divertisment
ATTACH;FMTTYPE=image/jpeg:https://cdn.cluj.com/ghidlocalcom/sites/2/2017/05/451519e79e9c0e20697f01676b51803d.jpg
END:VEVENT
END:VCALENDAR