BEGIN:VCALENDAR
VERSION:2.0
PRODID:-//Oradea - ECPv5.1.1//NONSGML v1.0//EN
CALSCALE:GREGORIAN
METHOD:PUBLISH
X-WR-CALNAME:Oradea
X-ORIGINAL-URL:https://ghidlocal.com/oradea
X-WR-CALDESC:Events for Oradea
BEGIN:VTIMEZONE
TZID:Europe/Bucharest
BEGIN:DAYLIGHT
TZOFFSETFROM:+0200
TZOFFSETTO:+0300
TZNAME:EEST
DTSTART:20170326T010000
END:DAYLIGHT
BEGIN:STANDARD
TZOFFSETFROM:+0300
TZOFFSETTO:+0200
TZNAME:EET
DTSTART:20171029T010000
END:STANDARD
END:VTIMEZONE
BEGIN:VEVENT
DTSTART;TZID=Europe/Bucharest:20170531T180000
DTEND;TZID=Europe/Bucharest:20170531T200000
DTSTAMP:20260424T194946
CREATED:20170527T110109Z
LAST-MODIFIED:20170531T102308Z
UID:12525-1496253600-1496260800@ghidlocal.com
SUMMARY:Capcanele educației - curs interactiv pentru părinți (2 module)
DESCRIPTION:Curs inteactiv: Capcanele educaţiei\nÎnscrieri și detalii: 0751.864.598 \nEducaţia este una dintre cele mai importante\, dar şi mai mediatizate probleme din societatea actuală. Emisiuni TV\, de articole scrise\, psihologi\, pedagogi\, ba chiar şi politicieni\, cu toţii vorsă-şi aducă aportul la buna creştere a copiilor şi imense resurse de bune intenţii se revarsă în acestă direcţie. Cu toate acestea\, parcă niciodată educaţia nu a fost într-o criză atât de profundă ca şiacum. Parcă niciodată nu au existat atât de mulţi părinţi debusolaţi\, disperaţi\, depăşiţi de situaţiileîn care sunt puşi. \nCe se întâmplă de fapt? \nVă invităm la un curs interactiv susţinut de domnul RaduBonta\, psiholog principal în psihologie educaţională în care toate aceste probleme vor fi discutate dintr-o perspectivă diferită decât cea cu care suntem obişnuiţi.  \nVor fi prezentate cazuri\, urmate de discuţii\, iar în final se vor trage concluzii şi se va încerca găsirea unor soluţii. \nTeme de discuţie\n•	Influenţa personalităţii părinţilor asupraevoluţiei copiilor\n•	Răsfăţul\n•	Tratarea diferenţiată a fraţilor\n•	Comportamentul violent al copilului\n•	Alterarea instinctului părintesc\n•	Familia monoparentală (părintele divorţat\, singur etc.)\n•	Soluţii \nMODULUL 1: 31 mai\, orele 18-20\nMODULUL 2: 7 iunie\, orele 18-20\nUnde? R&R Cetate\nPreț promoțional: 50 lei ambele module (în loc de 50 lei/modul. Economisești 50 lei.) \nFiecare participant va primi un exemplar din cartea autorului. La finalul cursului participanții vor primi un certificat eliberat de Cabinetul de psihologie\nRadu Bonta care va atesta participarea la cele 2 module. \nÎnscrieri și detalii: 0751.864.598 \nATENȚIE! Număr limitat de participanți.\nNumăr minimum de persoane necesare susținerii cursului: 5 \n
URL:https://ghidlocal.com/oradea/eveniment/capcanele-educatiei-curs-interactiv-pentru-parinti-2-module/
LOCATION:R&R bookstores & coffeehouses\, Oradea-Mare\, 410025\, Romania
CATEGORIES:Educatie
ATTACH;FMTTYPE=image/jpeg:https://cdn.cluj.com/ghidlocalcom/sites/2/2017/05/2ae204d709842ec540e1b518aadd9be9.jpg
END:VEVENT
BEGIN:VEVENT
DTSTART;TZID=Europe/Bucharest:20170531T180000
DTEND;TZID=Europe/Bucharest:20170531T200000
DTSTAMP:20260424T194946
CREATED:20170527T110113Z
LAST-MODIFIED:20170531T102309Z
UID:12527-1496253600-1496260800@ghidlocal.com
SUMMARY:Lansare de carte și sesiune de autografe cu Florin Ardelean
DESCRIPTION:Vă invităm la lansarea cărții: „SEDUCŢIA – Voluptate\, cruzime şi amăgire”\, semnată de domnul Florin Ardelean. Ne vedem Miercuri\, 31 mai\, începând cu ora 18:00 la librăria și cafeneaua R&R de pe Str. Republicii nr. 22!  \nVor vorbi alături de autor: Dl. Miron Beteg și Dl. Sorin Borza. \nCartea analizează seducţia ca fenomen cu anvergură luxuriantă şi\, adesea\, devastatoare. Ea acoperă un interval fabulos\, de la plăcerile cele mai diafane\, până la suferinţele cele mai demonice. Faţetele seducţiei – erotism\, iubire\, ură\, minciună\, ideologie\, propagandă sau manipulare – ne privesc pe noi\, pe fiecare\, şi ne conturează destinele. Viaţa însăşi nu este decât epifania seducţiei.  Cartea urmăreşte labirintul seductiv\, aşa cum a fost şi este el desenat în operele unor gânditori celebri\, din trecut şi de azi\, în doctrinele filosofilor şi-n imaginarul unor scriitori de geniu. \n
URL:https://ghidlocal.com/oradea/eveniment/lansare-de-carte-si-sesiune-de-autografe-cu-florin-ardelean/
LOCATION:R&R bookstores & coffeehouses\, Oradea-Mare\, 410025\, Romania
CATEGORIES:Educatie
ATTACH;FMTTYPE=image/jpeg:https://cdn.cluj.com/ghidlocalcom/sites/2/2017/05/f665838bd5c7ebca00b4178aef09679c.jpg
END:VEVENT
BEGIN:VEVENT
DTSTART;TZID=Europe/Bucharest:20170531T190000
DTEND;TZID=Europe/Bucharest:20170531T220000
DTSTAMP:20260424T194946
CREATED:20170526T111906Z
LAST-MODIFIED:20170530T081746Z
UID:12482-1496257200-1496268000@ghidlocal.com
SUMMARY:Îndrăgostiții din Ancona
DESCRIPTION:Miercuri\, 31 mai\, de la ora 19:00 – Sala Mare\nÎNDRĂGOSTIȚII DIN ANCONA de Vajda Katalin\, regia Andrei Mihalache \nCe se întâmplă când o moldoveancă ajunge în Italia? Da\, este exact aşa cum vă imaginaţi\, cu pitorescul şi candoarea sa reuşeşte să cucerească inima Don Juanului italian\, dar şi să stârnească un val întreg de controverse. Mai ales când bietul îndrăgostit descoperă cine e cu adevărat frumoasa moldoveancă. \nDISTRIBUŢIA: \nDon Tomao Nicomaco: Richard Balint\nLucia: Anca Sigmirean\nLuigi del Soro: Sebastian Lupu\nDrucilla: Corina Cernea\nLucrezio: Alexandru Rusu\nVictoriţa: Adela Lazăr\nGiovanni: Andrian Locovei\nDorina: Mihaela Gherdan\nAgnese: Ioana Dragoş Gajdo \nRegia artistică: Andrei Mihalache \nCoordonator muzical: Dorin Griguţă\nCoregrafia: Gabriela Tănase\nCostume: Amalia Judea \nDurata: 2 ore 30 minute cu o pauză \n? Biletele s-au pus în vânzare la Agenţia de Bilete a Teatrului de marți până vineri în intervalul orar 10:00 – 19:00\, iar în weekend între orele 10:00-13:00. Puteţi achiziţiona bilete şi cu o oră înainte spectacol sau online pe http://www.biletmaster.ro.\nPentru informaţii suplimentare şi rezervări de bilete\, vă invităm să sunaţi la numărul de telefon: 0259/440.742. \nVă aşteptăm la teatru! \n
URL:https://ghidlocal.com/oradea/eveniment/indragostitii-din-ancona/
LOCATION:Teatrul Regina Maria\, Piaţa Regele Ferdinand\, nr. 6\, Oradea\, 410021\, Romania
CATEGORIES:Teatru
ATTACH;FMTTYPE=image/jpeg:https://cdn.cluj.com/ghidlocalcom/sites/2/2017/05/10667ba0b6ac595add25b97e1a6090cb.jpg
END:VEVENT
BEGIN:VEVENT
DTSTART;TZID=Europe/Bucharest:20170531T193000
DTEND;TZID=Europe/Bucharest:20170531T220000
DTSTAMP:20260424T194946
CREATED:20170527T110828Z
LAST-MODIFIED:20170531T102334Z
UID:12542-1496259000-1496268000@ghidlocal.com
SUMMARY:Degustare Orizontala de Riesling
DESCRIPTION:Riesling-ul\, fie el de Rhin sau Italian\, este un vin aromat plin de prospetime\, fructat\, iar in anumiti ani poate dezvolta note de fum si miere. Printre altele Rieslig-ul este unul din putinele soiuri de struguri albi ce poate fi invechit! \nPentru aceasta degustare LUCIAN AROMANESEI v-a pregatit urmatoarea selectie: \nVilla Vinea \, Riesling de Rhin\nCarastelec\, Vinca Riesling de Rhin\nKatstyle\, Riesling Classic\nGitana\, Riesling de Rorbach CRU\nNachbil\, Riesling de Rhin \nPRET: 50 Lei\nREZERVARI: 0772 277 777 \n
URL:https://ghidlocal.com/oradea/eveniment/degustare-orizontala-de-riesling/
LOCATION:ReWine Bar\, Str. Republicii\, Nr. 31\, Oradea-Mare\, 410033\, Romania
CATEGORIES:Degustare
ATTACH;FMTTYPE=image/jpeg:https://cdn.cluj.com/ghidlocalcom/sites/2/2017/05/104aa9dd4c3d6d3f143591eeaea8ba6c.jpg
END:VEVENT
BEGIN:VEVENT
DTSTART;TZID=Europe/Bucharest:20170531T200000
DTEND;TZID=Europe/Bucharest:20170531T220000
DTSTAMP:20260424T194946
CREATED:20170530T081737Z
LAST-MODIFIED:20170530T081737Z
UID:12607-1496260800-1496268000@ghidlocal.com
SUMMARY:Atelier de pictură
DESCRIPTION:În cadrul atelierului de pictură poți picta un basorelief care reproduce simboluri din civilizațiile aztece\, egiptene\, grecești sau romane. Se utilizează tehnica picturii în ulei\, iar participanții pot fi și începători. \n
URL:https://ghidlocal.com/oradea/eveniment/atelier-de-pictura-8/
LOCATION:Noua Acropola Oradea\, Bv. Republicii\, nr. 64 (zona Gării)\, Oradea-Mare\, 410147\, Romania
CATEGORIES:Cultural
ATTACH;FMTTYPE=image/jpeg:https://cdn.cluj.com/ghidlocalcom/sites/2/2017/05/aad376b2db0d1d63dd804c92e2989171.jpg
END:VEVENT
END:VCALENDAR