BEGIN:VCALENDAR
VERSION:2.0
PRODID:-//Oradea - ECPv5.1.1//NONSGML v1.0//EN
CALSCALE:GREGORIAN
METHOD:PUBLISH
X-WR-CALNAME:Oradea
X-ORIGINAL-URL:https://ghidlocal.com/oradea
X-WR-CALDESC:Events for Oradea
BEGIN:VTIMEZONE
TZID:Europe/Bucharest
BEGIN:DAYLIGHT
TZOFFSETFROM:+0200
TZOFFSETTO:+0300
TZNAME:EEST
DTSTART:20170326T010000
END:DAYLIGHT
BEGIN:STANDARD
TZOFFSETFROM:+0300
TZOFFSETTO:+0200
TZNAME:EET
DTSTART:20171029T010000
END:STANDARD
END:VTIMEZONE
BEGIN:VEVENT
DTSTART;TZID=Europe/Bucharest:20170530T190000
DTEND;TZID=Europe/Bucharest:20170530T210000
DTSTAMP:20260424T212625
CREATED:20170526T111901Z
LAST-MODIFIED:20170530T081746Z
UID:12480-1496170800-1496178000@ghidlocal.com
SUMMARY:Și miniștrii calcă strâmb
DESCRIPTION:Marți\, 30 mai\, ora 19:00 – Sala Mare\nȘI MINIȘTRII CALCĂ STRÂMB\, după o idee de Ray Cooney\, regia Daniel Vulcu \nO savuroasă comedie a încurcăturilor\, „Şi miniştrii calcă strâmb” desfăşoară într-un ritm dramatic extrem de susţinut o sumedenie de probleme care rezultă din aventurile amoroase ale personajelor principale. Un ministru\, mâna dreaptă a premierului întârzie de la o şedinţă de guvern în care se va discuta bugetul\, pentru o aventură cu secretara opoziţiei\, într-o cameră de hotel. Apariţiile succesive ale soţiei ministrului\, ale secretarului\, ale soţului amantei\, ale infirmierei\, revenirile chelnerului şi ale directorului hotelului înnebuniţi de agitaţia şi gesturile echivoce ale locuitorilor camerei\, culminează cu apariţia unui Mort care nu este atât de ţeapăn pe cât pare. Evenimentele capătă dimensiuni tragi-comice\, râsul ne pufneşte la aproape fiecare replică\, iar în final asistăm chiar şi la o nuntă desfăşurată în registrul burlesc cel mai desăvârşit. \nDistribuţia: \nRichard Willey:  Richard Balint\nGeorge Pigden:  Petre Ghimbăşan\nDirectorul hotelului:  Sebastian Lupu\nJane Wordhington:  Ioana Dragoş Gajdo\nRonnie:  Alexandru Rusu\nMortul:  Pavel Sîrghi\nPamela:  Corina Cernea\nInfirmiera:  Adela Lazăr/Alina Leonte\nCamerista:  Mariana Vasile/Lucia Rogoz/Anca Sigmirean\nChelnerul:  Daniel Vulcu \nRegia artistică:  Daniel Vulcu\nScenografia:  Vioara Bara\nCoregrafia:  Ana Maria Kiss\nIlustraţia muzicală:  Daniel Vulcu\, Sorin Domide\, Florian Chelu \n? Biletele s-au pus în vânzare la Agenţia de Bilete a Teatrului de marți până vineri în intervalul orar 10:00 – 19:00\, iar în weekend între orele 10:00-13:00. Puteţi achiziţiona bilete şi cu o oră înainte spectacol sau online pe http://www.biletmaster.ro.\nPentru informaţii suplimentare şi rezervări de bilete\, vă invităm să sunaţi la numărul de telefon: 0259/440.742. \nVă aşteptăm la teatru! \n
URL:https://ghidlocal.com/oradea/eveniment/si-ministrii-calca-stramb-2/
LOCATION:Teatrul Regina Maria\, Piaţa Regele Ferdinand\, nr. 6\, Oradea\, 410021\, Romania
CATEGORIES:Teatru
ATTACH;FMTTYPE=image/jpeg:https://cdn.cluj.com/ghidlocalcom/sites/2/2017/05/c69f370155eb09ba730c28e4afaf3b1e.jpg
END:VEVENT
END:VCALENDAR