BEGIN:VCALENDAR
VERSION:2.0
PRODID:-//Oradea - ECPv5.1.1//NONSGML v1.0//EN
CALSCALE:GREGORIAN
METHOD:PUBLISH
X-WR-CALNAME:Oradea
X-ORIGINAL-URL:https://ghidlocal.com/oradea
X-WR-CALDESC:Events for Oradea
BEGIN:VTIMEZONE
TZID:Europe/Bucharest
BEGIN:DAYLIGHT
TZOFFSETFROM:+0200
TZOFFSETTO:+0300
TZNAME:EEST
DTSTART:20170326T010000
END:DAYLIGHT
BEGIN:STANDARD
TZOFFSETFROM:+0300
TZOFFSETTO:+0200
TZNAME:EET
DTSTART:20171029T010000
END:STANDARD
END:VTIMEZONE
BEGIN:VEVENT
DTSTART;TZID=Europe/Bucharest:20170526T100000
DTEND;TZID=Europe/Bucharest:20170528T220000
DTSTAMP:20260425T020344
CREATED:20170517T200304Z
LAST-MODIFIED:20170518T201911Z
UID:12195-1495792800-1496008800@ghidlocal.com
SUMMARY:Primăvara din Grădină
DESCRIPTION:Asociaţia pentru Cercetarea şi Promovarea Produselor Agroalimentare Crişana alături de Consiliul Judeţean Bihor\, Primaria Municipiului Oradea\, Cetatea Oradea\, Asociaţia pentru Promovarea Turismului din Oradea şi Regiune pun bazele primei ediții a unui eveniment care va aduna în Cetatea Oradea producătorii și consumatorii din judetul Bihor\, pentru a promova consumul de produse locale și un stil de viață sănătos. \n       Primăvara din Grădina va cuprinde un târg cu standuri ale comunelor și producătorilor din judetul Bihor\, o serie de workshopuri cu valoare adăugată pentru producători\, pentru consumatori și pentru segmentul HoReCa\, concursuri de vinuri\, palinci și culinare\, precum și activități educative dedicate copiilor. \n
URL:https://ghidlocal.com/oradea/eveniment/primavara-din-gradina/
LOCATION:Cetatea Oradea/ Oradea Fortress\, Cetatea Oradea\, Oradea-Mare\, 410100\, Romania
CATEGORIES:Festival
ATTACH;FMTTYPE=image/jpeg:https://cdn.cluj.com/ghidlocalcom/sites/2/2017/05/6464a7187797d35362dd8c8cb368f774.jpg
END:VEVENT
BEGIN:VEVENT
DTSTART;TZID=Europe/Bucharest:20170526T220000
DTEND;TZID=Europe/Bucharest:20170527T040000
DTSTAMP:20260425T020344
CREATED:20170514T191638Z
LAST-MODIFIED:20170518T200207Z
UID:11959-1495836000-1495857600@ghidlocal.com
SUMMARY:Reggae Nation Romania - Live music and perforamance
DESCRIPTION:Reggae Nation Romania – Live music and performance \nFeauturing Rasta Chici and Dj Ambi \n
URL:https://ghidlocal.com/oradea/eveniment/reggae-nation-romania-live-music-and-perforamance/
LOCATION:Moszkva Kávézó\, str. Moscovei no.8\, Oradea\, 410001\, Romania
CATEGORIES:Concerte
ATTACH;FMTTYPE=image/jpeg:https://cdn.cluj.com/ghidlocalcom/sites/2/2017/05/aeb04f53ab5bc9149d3060b610bf10e1.jpg
END:VEVENT
BEGIN:VEVENT
DTSTART;TZID=Europe/Bucharest:20170527T110000
DTEND;TZID=Europe/Bucharest:20170527T230000
DTSTAMP:20260425T020344
CREATED:20170423T000429Z
LAST-MODIFIED:20170518T202031Z
UID:10545-1495882800-1495926000@ghidlocal.com
SUMMARY:Drone Day Oradea 2017
DESCRIPTION:Drone Day Oradea va fi o zi dedicată muzicii drone\, un gen muzical minimal care subliniază utilizarea sunetelor\, notelor sau clusterelor susținute sau repetate – numite drone\, caracterizat prin programe audio lungi cu variații armonice relativ ușoare ce evoluează. La Monte Young\, unul dintre autorii săi din anii 1960\, a definit în 2000 genul ca „ramura minimală a tonurilor susținute”. Drone Day Oradea face parte dintr-un eveniment mai mare\, de scară internațională\, Drone Day\, inceput în Canada în 2014\, preluat și în diverse locații din Europa. \nLive performances:\nPonTon\nAndagainandagain\nMujko Orchestra\nQuadrastar\nTauusk\nTopographer \n▸ more soon ◂ \nFor too long the drone has been overshadowed by the tyrants of melody & rhythm. We call upon all drones to come together as one massive drone annually in May. Saturday May 27 2017\n.\ndr(((((((((((o)))))))))))ne \nhttp://droneday.org/ \n
URL:https://ghidlocal.com/oradea/eveniment/drone-day-oradea-2017/
LOCATION:Lokal\, Aurel Lazăr 1 | Nagysándor József 1\, Oradea-Mare\, 410043\, Romania
CATEGORIES:Divertisment
ATTACH;FMTTYPE=image/jpeg:https://cdn.cluj.com/ghidlocalcom/sites/2/2017/05/1c23f4aa7a281a38f00048100a9402ab.jpg
END:VEVENT
BEGIN:VEVENT
DTSTART;TZID=Europe/Bucharest:20170527T160000
DTEND;TZID=Europe/Bucharest:20170527T220000
DTSTAMP:20260425T020344
CREATED:20170517T200116Z
LAST-MODIFIED:20180219T092140Z
UID:12189-1495900800-1495922400@ghidlocal.com
SUMMARY:ARTdealul 2017
DESCRIPTION:ARTdealul este un eveniment dedicat copiilor\, tinerilor\, întregii familii şi persoanelor cu dizabilităţi\, cu scopul de a îmbina terapia prin artă şi educaţia\, prin diferite ateliere (pictură\, teatru\, film\, creaţie\, divertisment). \n
URL:https://ghidlocal.com/oradea/eveniment/artdealul-2017/
LOCATION:Parcul Central Simion Bărnuțiu\, Strada George Coșbuc\, Cluj-Napoca\, Romania
CATEGORIES:Antreprenoriat
ATTACH;FMTTYPE=image/jpeg:https://cdn.cluj.com/ghidlocalcom/sites/2/2017/05/400e882e71a8e2edf699d7306799f4f5.jpg
END:VEVENT
BEGIN:VEVENT
DTSTART;TZID=Europe/Bucharest:20170527T170000
DTEND;TZID=Europe/Bucharest:20170527T230000
DTSTAMP:20260425T020344
CREATED:20170527T111117Z
LAST-MODIFIED:20170527T111118Z
UID:12554-1495904400-1495926000@ghidlocal.com
SUMMARY:Festivalul Luminii - Oradea
DESCRIPTION:„Adevărata fericire nu e rezultatul bogăției\, a succesului în carieră și nici măcar al satisfacerii tuturor plăcerilor.  \nFericirea e atunci când ești mulțumit de ceea ce ai și te bucuri din plin de asta. Dar  mai presus de atât\, adevărata cale spre fericire este acea de a-i face pe ceilalți fericiți. ” \n– mesajul lui Robert Baden Powell – fondatorul mișcării cercetășești \nAsumându-și acest îndemn\, Cercetașii României au creat Festivalul Luminii\, un eveniment care sa te scoată din cotidian și să te aducă mai aproape de bucuriile simple ale vieții. \nE cadoul nostru pentru tine\, pentru familia ta\, pentru prietenii tăi și pentru toată comunitatea din Oradea\, menit să ne aducă mai aproape unii de alții. \nDeci? Primiți cu bucurii mărunte? \n#Cercetași #ONCR #CercetașiiRomâniei #FestivalulLuminii #FL2017 #BucuriiMărunte #Scouts #Oradea \n
URL:https://ghidlocal.com/oradea/eveniment/festivalul-luminii-oradea/
LOCATION:Parcul 1 Decembrie\, Piata 1 Decembrie\, Oradea\, Romania
CATEGORIES:Cultural
ATTACH;FMTTYPE=image/jpeg:https://cdn.cluj.com/ghidlocalcom/sites/2/2017/05/8c3bbb691d23a0e4a83e130c763c72e9-1.jpg
END:VEVENT
BEGIN:VEVENT
DTSTART;TZID=Europe/Bucharest:20170527T190000
DTEND;TZID=Europe/Bucharest:20170527T213000
DTSTAMP:20260425T020344
CREATED:20170526T111857Z
LAST-MODIFIED:20170526T111857Z
UID:12478-1495911600-1495920600@ghidlocal.com
SUMMARY:Desculț în parc
DESCRIPTION:Sâmbătă\, 27 mai\, ora 19:00 – Sala Arcadia\nDESCULȚ ÎN PARC\, de Neil Simon\, regia Sebastian Lupu  \nO sclipitoare comedie romantică\, „Desculţ în parc” înfăţişează eforturile a doi tineri căsătoriţi de a-şi construi viaţa împreună şi\, mai ales\, de a-şi armoniza personalităţile ce dau naştere la manifestări şi sentimente adeseori contradictorii. \nImpulsivă şi impetuoasă\, Corrie Bratter îşi asumă unicul rol de a fi „soţia lui Paul” şi îşi investeşte întreaga energie în a-l face pe el fericit\, în pofida dificultăţilor inerente la început de drum. Paul\, avocat debutant care tocmai a câştigat primii săi şase cenţi într-un proces\, are în schimb o fire mai rezervată şi o privire mai cumpătată asupra realităţii. Conflictul piesei se naşte din ciocnirea comică a naturilor lor diferite\, care îi duce în cel mai scurt timp până în pragul despărţirii şi al divorţului. A umbla sau nu „desculţ în parc” rezumă metaforic conflictul dintre cei doi îndrăgostiţi. Spaţiul în care se va defăşura povestea lor de dragoste este un apartament minuscul\, unde ninge prin luminator\, încălzirea centrală e defectă\, iar cămara va fi folosită drept dormitor în care încape un pat şi nimic mai mult. Comicul este accentuat de faptul că apartamentul fiind situat la etajul al şaselea într-un imobil fără lift\, toate personajele îşi pierd respiraţia până să ajungă în acest spaţiu care nu promite nimic bun\, şi totuşi… \nLa toate acestea se adaugă prezenţele extrem de spirituale ale vecinului Victor Velasco şi ale mamei soacre\, Ethel Banks\, cu personalităţi la fel de diferite ca şi cele ale tinerilor căsătoriţi. \nDISTRIBUȚIA: \nPaul Bratter: Andrian Locovei\nCorrie Bratter: Mirela Lupu\nEthel Banks: Corina Cernea\nVictor Velasco: Ion Abrudan\nInstalatorul: Sebastian Lupu \nRegia artistică: Sebastian Lupu\nScenografia: Vioara Bara \nDurata: 2 ore 30 minute cu o pauză \n? Biletele s-au pus în vânzare la Agenţia de Bilete a Teatrului de marți până vineri în intervalul orar 10:00 – 19:00\, iar în weekend între orele 10:00-13:00. Puteţi achiziţiona bilete şi cu o oră înainte spectacol sau online pe http://www.biletmaster.ro.\nPentru informaţii suplimentare şi rezervări de bilete\, vă invităm să sunaţi la numărul de telefon: 0259/440.742. \nVă aşteptăm la teatru! \n
URL:https://ghidlocal.com/oradea/eveniment/descult-in-parc/
LOCATION:Teatrul Arcadia\, Vasile Alecsandri Nr.8\, Oradea\, 410072\, Romania
CATEGORIES:Teatru
ATTACH;FMTTYPE=image/jpeg:https://cdn.cluj.com/ghidlocalcom/sites/2/2017/05/ccf1c75328a4dd8dac176741462ab088.jpg
END:VEVENT
END:VCALENDAR