BEGIN:VCALENDAR
VERSION:2.0
PRODID:-//Oradea - ECPv5.1.1//NONSGML v1.0//EN
CALSCALE:GREGORIAN
METHOD:PUBLISH
X-WR-CALNAME:Oradea
X-ORIGINAL-URL:https://ghidlocal.com/oradea
X-WR-CALDESC:Events for Oradea
BEGIN:VTIMEZONE
TZID:Europe/Bucharest
BEGIN:DAYLIGHT
TZOFFSETFROM:+0200
TZOFFSETTO:+0300
TZNAME:EEST
DTSTART:20190331T010000
END:DAYLIGHT
BEGIN:STANDARD
TZOFFSETFROM:+0300
TZOFFSETTO:+0200
TZNAME:EET
DTSTART:20191027T010000
END:STANDARD
END:VTIMEZONE
BEGIN:VEVENT
DTSTART;TZID=Europe/Bucharest:20190315T090000
DTEND;TZID=Europe/Bucharest:20190315T113000
DTSTAMP:20260421T230958
CREATED:20190303T235434Z
LAST-MODIFIED:20190304T000518Z
UID:24786-1552640400-1552649400@ghidlocal.com
SUMMARY:Ziua Portilor Deschise
DESCRIPTION:International School of Oradea anunță că își deschide porțile pentru părinții cu copii cu vârste între 2 și 8 ani. Ziua Porților Deschise desfășurată vineri\, 15 martie\, este o ocazie ca părinții să descopere cum învață cei mici la această școală\, să afle informații despre programa britanică și să întâlnească echipa de profesori a ISO și staff-ul școlii. \nTimp de doua ore și jumătate\, de la 9:00 – 11:30\, pe 15 martie\, părinții vor vizita campusul școlii\, inclusiv sălile de clasa\, locurile de joaca\, biblioteca și laboratorul de informatica și vor participa la activități dedicate pentru a le oferi o imagine mai clara a programei oferite de ISO. De asemenea\, vor avea ocazia\, să afle toate detaliile despre oferta educațională pentru grădiniță și învățământul primar pentru anul academic 2019 -2020.\n‘’Ziua Porților Deschise’’ dedicată preșcolarilor și elevilor din învățământul primar se desfășoară pe 15 martie\, în campusul ISO\, pe Armatei Romane\, nr. 1F\, Oradea\,în intervalul orar 09:00- 11:30. \nParticiparea la eveniment se face pe bază de inscriere\, până pe 13.03.2019 la numărul de telefon +40 359 178 757 sau la adresa de email: info@isor.ro. \nhttps://www.facebook.com/events/967272250329155/ \n
URL:https://ghidlocal.com/oradea/eveniment/ziua-portilor-deschise/
LOCATION:International School of Oradea\, International School of Oradea
CATEGORIES:Educatie
ATTACH;FMTTYPE=image/jpeg:https://cdn.cluj.com/ghidlocalcom/sites/2/2019/03/Ziua-Portilor-Deschise-.jpg
END:VEVENT
END:VCALENDAR