BEGIN:VCALENDAR
VERSION:2.0
PRODID:-//Oradea - ECPv5.1.1//NONSGML v1.0//EN
CALSCALE:GREGORIAN
METHOD:PUBLISH
X-WR-CALNAME:Oradea
X-ORIGINAL-URL:https://ghidlocal.com/oradea
X-WR-CALDESC:Events for Oradea
BEGIN:VTIMEZONE
TZID:Europe/Bucharest
BEGIN:DAYLIGHT
TZOFFSETFROM:+0200
TZOFFSETTO:+0300
TZNAME:EEST
DTSTART:20180325T010000
END:DAYLIGHT
BEGIN:STANDARD
TZOFFSETFROM:+0300
TZOFFSETTO:+0200
TZNAME:EET
DTSTART:20181028T010000
END:STANDARD
END:VTIMEZONE
BEGIN:VEVENT
DTSTART;TZID=Europe/Bucharest:20180503T210000
DTEND;TZID=Europe/Bucharest:20180503T230000
DTSTAMP:20260420T095648
CREATED:20180322T122807Z
LAST-MODIFIED:20180404T122742Z
UID:21621-1525381200-1525388400@ghidlocal.com
SUMMARY:X-Faktor meghallgatás Nagyvárad
DESCRIPTION:Az X-Faktor stábja meghallgatást tart Nagyváradon!  \nHa szeretsz énekelni\, és jól érzed magad a színpadon\, akkor gyere el egyéniben vagy duóban a Moszkva Kávézóba!\nViszont\, ha a színpad nem a te tereped\, de egy barátod\, a pasid\, a csajod\, a tesód\, vagy bárki a környezetedből szeret énekelni\, ne habozz… Nevezd be őt! \nHozz magaddal zenei alapokat​ pendrive-on vagy CD-n\, amikre énekelni fogsz\, vagy akusztikus hangszered\, hogy kísérni tudd magad. \nHa zenekaroddal neveznél\, hozzatok magatokkal valamilyen bemutatkozó anyagot! \nTovábbi információk: xfaktor.hu\nÉrdeklődni:+3630-195-9595\n#mutassujat #jelentkezz #xf8 #xfaktorhu \n
URL:https://ghidlocal.com/oradea/eveniment/x-faktor-meghallgatas-nagyvarad/
LOCATION:Moszkva Zone\, Moscovei 8\, Oradea\, 410001\, RO
CATEGORIES:Concerte
ATTACH;FMTTYPE=image/jpeg:https://cdn.cluj.com/ghidlocalcom/sites/2/2018/03/21621_image_28617274_10156292475932147_6435261322466502138_o.jpg
END:VEVENT
END:VCALENDAR