BEGIN:VCALENDAR
VERSION:2.0
PRODID:-//Oradea - ECPv5.1.1//NONSGML v1.0//EN
CALSCALE:GREGORIAN
METHOD:PUBLISH
X-WR-CALNAME:Oradea
X-ORIGINAL-URL:https://ghidlocal.com/oradea
X-WR-CALDESC:Events for Oradea
BEGIN:VTIMEZONE
TZID:Europe/Bucharest
BEGIN:DAYLIGHT
TZOFFSETFROM:+0200
TZOFFSETTO:+0300
TZNAME:EEST
DTSTART:20190331T010000
END:DAYLIGHT
BEGIN:STANDARD
TZOFFSETFROM:+0300
TZOFFSETTO:+0200
TZNAME:EET
DTSTART:20191027T010000
END:STANDARD
END:VTIMEZONE
BEGIN:VEVENT
DTSTART;TZID=Europe/Bucharest:20190202T090000
DTEND;TZID=Europe/Bucharest:20190202T100000
DTSTAMP:20260424T084642
CREATED:20190130T115429Z
LAST-MODIFIED:20190130T122126Z
UID:24462-1549098000-1549101600@ghidlocal.com
SUMMARY:Vrăjitorul din Oz
DESCRIPTION:Una dintre cele mai cunoscute şi iubite poveşti de către copii\, „Vrăjitorul din Oz” a reuşit să seducă generaţii întregi de copii de-a lungul timpului. Scris la începutul secolului\, mai precis în 1900\, „Vrăjitorul din Oz” a devenit cu timpul o poveste nemuritoare\, fiind considerat\, de altfel\, primul basm american modern. Peripeţiile lui Dorothy – o fetiţă din Kansas\, aruncată de o tornadă pe meleaguri necunoscute – sunt faimoase în întreaga lume\, cunoscând numeroase dramatizari şi ecranizări. Deşi au trecut mai mult de 100 de ani de la lansarea acestei cărţi\, copiii din întreaga lume sunt încă fascinaţi de minunata lume a lui Oz. \nDISTRIBUȚIA: \nDorothy: Adela LazărCăţelul: Anca SigmireanMătuşa/ Vrăjitoarea: Mirela Niță-LupuUnchiul/ Iguana: George VoineseOmul de paie: Emil SauciucLeul: Sebastian LupuOmul de tinichea: Andrian Locovei \n? Biletele s-au pus în vânzare la Agenţia de Bilete a Teatrului de marți până vineri în intervalul orar 12:00 – 18:00\, iar în weekend între orele 10:00 – 13:00. Puteţi achiziţiona bilete şi cu o oră înainte spectacol sau online pe www.biletmaster.ro. \nPentru informaţii suplimentare şi rezervări de bilete\, vă invităm să sunaţi la numărul de telefon: 0372/368.475. \nhttps://www.facebook.com/events/2161674400827531/ \n
URL:https://ghidlocal.com/oradea/eveniment/vrajitorul-din-oz-2/
LOCATION:Teatrul Regina Maria\, Teatrul Regina Maria
CATEGORIES:Teatru
ATTACH;FMTTYPE=image/jpeg:https://cdn.cluj.com/ghidlocalcom/sites/2/2019/01/Vra%CC%86jitorul-din-Oz-.jpg
END:VEVENT
END:VCALENDAR