BEGIN:VCALENDAR
VERSION:2.0
PRODID:-//Oradea - ECPv5.1.1//NONSGML v1.0//EN
CALSCALE:GREGORIAN
METHOD:PUBLISH
X-WR-CALNAME:Oradea
X-ORIGINAL-URL:https://ghidlocal.com/oradea
X-WR-CALDESC:Events for Oradea
BEGIN:VTIMEZONE
TZID:Europe/Bucharest
BEGIN:DAYLIGHT
TZOFFSETFROM:+0200
TZOFFSETTO:+0300
TZNAME:EEST
DTSTART:20180325T010000
END:DAYLIGHT
BEGIN:STANDARD
TZOFFSETFROM:+0300
TZOFFSETTO:+0200
TZNAME:EET
DTSTART:20181028T010000
END:STANDARD
END:VTIMEZONE
BEGIN:VEVENT
DTSTART;TZID=Europe/Bucharest:20180308T200000
DTEND;TZID=Europe/Bucharest:20180308T230000
DTSTAMP:20260422T133219
CREATED:20180302T122538Z
LAST-MODIFIED:20180308T122631Z
UID:21128-1520539200-1520550000@ghidlocal.com
SUMMARY:Vlad Vancea acustic
DESCRIPTION:Mesaj pentru toti #Urbanistii ? \nAnuntam primul spectacol #live organizat pentru sustinerea artistilor locali ?? \nIn data de #8martie ora 20:00\, Vlad Vancea da startul concertelor live la #UrbanPlace dupa lansarea propriului album ? \nPe langa piesele proprii vom asculta piese din artisti consacrati\, precum: \n? ? Coma\n? ? Bon Jovi\n? ? U2\n? ? Maroon5\n??  Chris Cornell \nData: 8 MARTIE ?\nIntrarea se face pe baza de rezervare: 0749 979 270 ??\nSuport artist : 10 RON ? \n
URL:https://ghidlocal.com/oradea/eveniment/vlad-vancea-acustic/
LOCATION:Urban Place\, Tudor Vladimirescu nr. 75\, Oradea\, 410203\, RO
CATEGORIES:Divertisment
ATTACH;FMTTYPE=image/jpeg:https://cdn.cluj.com/ghidlocalcom/sites/2/2018/03/21128_image_28336845_1808960232459613_2974333992470361708_o.jpg
END:VEVENT
END:VCALENDAR