BEGIN:VCALENDAR
VERSION:2.0
PRODID:-//Oradea - ECPv5.1.1//NONSGML v1.0//EN
CALSCALE:GREGORIAN
METHOD:PUBLISH
X-WR-CALNAME:Oradea
X-ORIGINAL-URL:https://ghidlocal.com/oradea
X-WR-CALDESC:Events for Oradea
BEGIN:VTIMEZONE
TZID:Europe/Bucharest
BEGIN:DAYLIGHT
TZOFFSETFROM:+0200
TZOFFSETTO:+0300
TZNAME:EEST
DTSTART:20190331T010000
END:DAYLIGHT
BEGIN:STANDARD
TZOFFSETFROM:+0300
TZOFFSETTO:+0200
TZNAME:EET
DTSTART:20191027T010000
END:STANDARD
END:VTIMEZONE
BEGIN:VEVENT
DTSTART;TZID=Europe/Bucharest:20190416T120000
DTEND;TZID=Europe/Bucharest:20190416T140000
DTSTAMP:20260420T231010
CREATED:20190414T120945Z
LAST-MODIFIED:20190414T123817Z
UID:25218-1555416000-1555423200@ghidlocal.com
SUMMARY:Vernisaj Expoziție stradală General Traian Moșoiu
DESCRIPTION:Muzeul Orașului Oradea – Complex Cultural vă invită\, marți\, 16 aprilie 2019\, ora 12.00\, în Piața Unirii\, la vernisajul expoziției stradale „General Traian Moșoiu. 100 de ani de la intrarea Armatei Române în Oradea”. Totodată va fi lansată și broșura cu același nume. \nOradea sărbătorește\, în aceste zile\, centenarul intrării Armatei Române în Oradea și eliberare orașului de bandele maghiare bolșevice ale lui Bela Kun\, ce terorizau populația românească și maghiară. Pe 20 aprilie 1919\, în duminica Sfintelor Paști\, în fruntea diviziilor românești\, care au pătruns primele în orașul de pe Criș\, s-a aflat generalul Traian Moșoiu\, eroul legendar al Ardealului\, \nNăscut într-o familie înstărită de crescători de oi\, din zona Branului\, jud. Brașov\, tânărul Traian Moșoiu a urcat\, treaptă cu treaptă\, în ierarhia militară\, ajungând\, în anul 1919\, general de divizie. \nSupranumit „Arhanghelul Ardealului”\, Traian Moșoiu a comandat în război\, un regiment\, 2 brigăzi\, 3 divizii\, un comandament de armată și două mari grupări de trupe cu misiuni de mare importanță (Grupul de Nord și Gruparea de Manevră). \nMembru marcant al Partidului Național Liberal\, președinte a Filialei Bihor a PNL (1924-1932)\, s-a implicat activ în susținerea financiară a județului Bihor\, fiind\, totodată\, și membru în două legislaturi\, în Senatul României. \nA ocupat portofoliul de ministru al Războiului (2-13 Martie 1920)\, al Comunicațiilor (24 Ianuarie – 30 Octombrie 1922) și al Lucrărilor Publice (1 Decembrie 1923 – 29 Martie 1926). În 1930\, îl regăsim ca făcând parte din „Ordinul Masonic Român”\, cu gradul 33\, Pro Mare Maestru. \nA decedat la 30 iulie 1932\, în casa sa din București\, fiind înmormântat în Cimitirul Bellu. \nEvenimentul este un preambul la inaugurarea oficială\, din 18 aprilie\, ora 16.00\, a expoziției permanente închinate Primului Război Mondial și lui Traian Moșoiu\, amenajată în Muzeul Orașului Oradea – Complex Cultural\, Corp A\, etaj I. \nhttps://www.facebook.com/events/2044020982560088/ \n
URL:https://ghidlocal.com/oradea/eveniment/vernisaj-expozitie-stradala-general-traian-mosoiu/
LOCATION:Piata Unirii\, Oradea\, Piata Unirii\, Oradea
CATEGORIES:Expoziție
ATTACH;FMTTYPE=image/jpeg:https://cdn.cluj.com/ghidlocalcom/sites/2/2019/04/Vernisaj-Expozit%CC%A6ie-stradala%CC%86-General-Traian-Mos%CC%A6oiu-.jpg
END:VEVENT
END:VCALENDAR