BEGIN:VCALENDAR
VERSION:2.0
PRODID:-//Oradea - ECPv5.1.1//NONSGML v1.0//EN
CALSCALE:GREGORIAN
METHOD:PUBLISH
X-WR-CALNAME:Oradea
X-ORIGINAL-URL:https://ghidlocal.com/oradea
X-WR-CALDESC:Events for Oradea
BEGIN:VTIMEZONE
TZID:Europe/Bucharest
BEGIN:DAYLIGHT
TZOFFSETFROM:+0200
TZOFFSETTO:+0300
TZNAME:EEST
DTSTART:20190331T010000
END:DAYLIGHT
BEGIN:STANDARD
TZOFFSETFROM:+0300
TZOFFSETTO:+0200
TZNAME:EET
DTSTART:20191027T010000
END:STANDARD
END:VTIMEZONE
BEGIN:VEVENT
DTSTART;TZID=Europe/Bucharest:20190202T080000
DTEND;TZID=Europe/Bucharest:20190202T150000
DTSTAMP:20260424T101843
CREATED:20190130T115429Z
LAST-MODIFIED:20190130T122209Z
UID:24460-1549094400-1549119600@ghidlocal.com
SUMMARY:UX Design Kurzus a PKE-n
DESCRIPTION:UX DESIGN KURZUS \nSzombaton\, November 24-én 11 órakor kezdetét veszi egy majd három hónapon keresztül tartó felnőttképzés a nagyváradi Partiumi Keresztény Egyetemen. A UX design kurzus első napja ingyenes. Megismerkedhetnek a téma fontosságával és a részletesen programmal valamint az oktatókkal. A képzést Vass Sándor (head of design\, Liligo.com\, Budapest) és Ercsei Zsolt (senior UX designer\, Qubiz\, Nagyvárad) állította össze\, meghívott oktatóként Mózer Bence (UX kutató\, UX studio\, Budapest) színesíti a palettát. \nA KÉPZÉSRŐL: UX DESIGN(User eXperience design) grafikai tervezéshez (is) köthető folyamatosan fejlődő sikerszakma\, ami a “felhasználót” előtérbe helyező tervezéssel foglalkozik. Érintjük az összes kapcsolódó területet mint: UI Design\, Digital Product Design (DPD)\, UX Research\, design-thinking\, wireframe\, usability tesztelés\, ergonómia\, prototípus készítés stb.10 hétvégén\, projekt alapú gyakorlati és elméleti képzésünkön\, önállóan vagy kiscsoportokban dolgozhatsz egy mobil applikáció tervezésén. A tervezés a Design Thinking folyamatra épül\, az ötleteléstől a működő prototípusig. Zárásul személyes prezentációkkal mutatjuk be a folyamatot és az eredményt. \nNEKED SZÓL\, HA…embereknek tervezel grafikát (vagy bármilyen terméket) és szeretnél sikereket elérni a digitális világban isszeretnél a legjobb nemzetközi ügynökségek és startupok közelébe kerülni\, kompetens fizetésértha az ügyfél vagy a főnököd mondja meg\, hogy milyen színeket\, formákat használjha a szoftver- és webdesign világában régóta benne vagy és szükséged van egy kis megújulásraha még nem alkalmazod ezeket a fura kifejezéseket a munkád során: design system\, ui pattern\, reszponzív design\, perszóna\, usability test\, user story\, információs architektúra. \nNEM NEKED SZÓL HA…programozó vagy kutató tanfolyamot kereselnem dolgoztál még grafikus tervező-programokkalnem tudod\, mi a különbség pixel és vektor között. \nA kurzus díja:PKE hallgatóknak 200 EuróKülsősöknek 400 Euró(Lehetőség van részletfizetésre is) \nJelentkezni a Nagyváradi PKE Művészeti Tanszék titkárságán lehet.Városháza utca 27.mt@partium.ro \nProgram:https://xd.adobe.com/view/dd871e82-54da-4b0e-5b01-3d6164708e0f-abb6/screen/993c8577-28ac-4a89-9964-96b49ca7c6c6/Thank-you?fbclid=IwAR28UzEElhh-EIHTM7hrX4_TW5htwgyePpuUQtsO2yWJGCx9cA6Q940AcbQ \nhttps://www.facebook.com/events/256897211841963/?event_time_id=256897228508628 \n
URL:https://ghidlocal.com/oradea/eveniment/ux-design-kurzus-a-pke-n/
LOCATION:PKE\, Nagyvárad\, Képzőművészet\, PKE\, Nagyvárad\, Képzőművészet
CATEGORIES:Educatie
ATTACH;FMTTYPE=image/jpeg:https://cdn.cluj.com/ghidlocalcom/sites/2/2019/01/UX-Design-Kurzus-a-PKE-n-.jpg
END:VEVENT
END:VCALENDAR