BEGIN:VCALENDAR
VERSION:2.0
PRODID:-//Oradea - ECPv5.1.1//NONSGML v1.0//EN
CALSCALE:GREGORIAN
METHOD:PUBLISH
X-WR-CALNAME:Oradea
X-ORIGINAL-URL:https://ghidlocal.com/oradea
X-WR-CALDESC:Events for Oradea
BEGIN:VTIMEZONE
TZID:Europe/Bucharest
BEGIN:DAYLIGHT
TZOFFSETFROM:+0200
TZOFFSETTO:+0300
TZNAME:EEST
DTSTART:20190331T010000
END:DAYLIGHT
BEGIN:STANDARD
TZOFFSETFROM:+0300
TZOFFSETTO:+0200
TZNAME:EET
DTSTART:20191027T010000
END:STANDARD
END:VTIMEZONE
BEGIN:VEVENT
DTSTART;TZID=Europe/Bucharest:20190320T190000
DTEND;TZID=Europe/Bucharest:20190320T213000
DTSTAMP:20260422T222200
CREATED:20190225T064644Z
LAST-MODIFIED:20190311T065735Z
UID:24714-1553108400-1553117400@ghidlocal.com
SUMMARY:Ursul şi Cerere în căsătorie
DESCRIPTION:Subintitulată «Farsă într-un act»\, «Ursul» dezvăluie în mod concentrat\, comico-ironic\, o parte esenţială a naturii umane\, sugerând cât de apropiate sunt uneori furia şi pasiunea. Conflictul între ofiţerul Smirnov şi moşieriţa Popova înregistrează o serie de treceri bruşte de la ceartă la preparativele unui duel între cei doi\, apoi renunţarea lui Smirnov de a se lupta cu moşieriţa de care se îndrăgosteşte subit. \nDistribuţia:\nElena Ivanovna Popova\, moşieriţă\, o văduvioară durdulie: Ioana Dragoş-Gajdó\nGrigori Stepanovici Smirnov\, moşier\, încă tânăr: Şerban Borda\nLuka\, servitorul Elenei Ivanovna\, bătrân: George Voinese\n_____\nCerere în căsătorie” vine în continuarea piesei „Ursul”\, utilizând aceeaşi distribuţie şi elemente regizorale înrudite. Povestea însăşi se aşază firesc în continuarea celei începute în „Ursul”. Astfel\, dacă în piesa anterioară doi tineri trec pe nesimţite de la conflict şi ură la iubire pasională\, în „Cerere în căsătorie” lucrurile sunt duse şi mai departe. A. P. Cehov surprinde iniţiativa lăudabilă a lui Ivan Vasilievici Lomov\, care doreşte să se însoare cu fiica vecinului său. \nÎnsă\, departe de romantismul şi armonia care se presupune că ar trebui să guverneze un astfel de moment unic\, cei doi potenţiali miri se ceartă aprig din motive derizorii. Ciocnirea personalităţilor lor puternice\, crizele de ipohondrie ale peţitorului\, încurcătura în care se găseşte tatăl miresei şi încercările sale disperate de a aplana răbufnirile celor doi tineri dau naştere unui comic de situaţie savuros. \nDistribuția:\nNatalia Stepanovna: Ioana Dragoş-Gajdó\nStepan Stepanovici Ciubukov: George Voinese\nIvan Vasilievici Lomov: Şerban Borda \n? Biletele s-au pus în vânzare la Agenţia de Bilete a Teatrului de marți până vineri în intervalul orar 12:00 – 18:00 şi sâmbăta între orele 10:00 – 13:00. Puteţi achiziţiona bilete şi cu o oră înainte spectacol sau online pe www.biletmaster.ro. \nPentru informaţii suplimentare şi rezervări de bilete\, vă invităm să sunaţi la numărul de telefon: 0372/368.475. \nhttps://www.facebook.com/events/800980143594565/ \n
URL:https://ghidlocal.com/oradea/eveniment/ursul-si-cerere-in-casatorie-4/
LOCATION:Teatrul Arcadia\, Teatrul Arcadia
CATEGORIES:Teatru
ATTACH;FMTTYPE=image/jpeg:https://cdn.cluj.com/ghidlocalcom/sites/2/2019/01/Ursul-s%CC%A6i-Cerere-i%CC%82n-ca%CC%86sa%CC%86torie-.jpg
END:VEVENT
END:VCALENDAR