BEGIN:VCALENDAR
VERSION:2.0
PRODID:-//Oradea - ECPv5.1.1//NONSGML v1.0//EN
CALSCALE:GREGORIAN
METHOD:PUBLISH
X-WR-CALNAME:Oradea
X-ORIGINAL-URL:https://ghidlocal.com/oradea
X-WR-CALDESC:Events for Oradea
BEGIN:VTIMEZONE
TZID:Europe/Bucharest
BEGIN:DAYLIGHT
TZOFFSETFROM:+0200
TZOFFSETTO:+0300
TZNAME:EEST
DTSTART:20160327T010000
END:DAYLIGHT
BEGIN:STANDARD
TZOFFSETFROM:+0300
TZOFFSETTO:+0200
TZNAME:EET
DTSTART:20161030T010000
END:STANDARD
END:VTIMEZONE
BEGIN:VEVENT
DTSTART;VALUE=DATE:20160926
DTEND;VALUE=DATE:20160928
DTSTAMP:20260420T090859
CREATED:20160926T050711Z
LAST-MODIFIED:20160926T050711Z
UID:3545-1474851600-1474937999@ghidlocal.com
SUMMARY:Un nou local pentru orădeni: Baraw
DESCRIPTION:Începând cu ziua de astăzi\, luni\, 26.09.2016\, orădenii (dar nu numai) își vor putea petrece timpul liber în Baraw Cafe.\nBaraw Cafe este amplasat în Parcul Traian\, în locul fostei cafenele Muller\, respectiv a fostului local Chanson. \n„Vă așteptăm într-o locație nouă cu un design proaspăt și cu un meniu care vă va surprinde\, semnat de Top Chef\, Ionuț Lupu. Specialități de cafea\, freshuri din fructe presate la rece\, salate proaspete și cei mai buni burgeri” – informații preluate de AICI. \nAșadar\, vino și tu în cursul zilei de astăzi pentru a te bucura de surprizele pregătite aici\, în noul local! \n
URL:https://ghidlocal.com/oradea/eveniment/un-nou-local-pentru-oradeni-baraw/
LOCATION:Baraw Cafe\, Parcul Traian\, Oradea\, Bihor\, România
CATEGORIES:Oferte
ATTACH;FMTTYPE=image/jpeg:https://cdn.cluj.com/ghidlocalcom/sites/2/2016/09/Lansare_Baraw_Oradea.jpg
END:VEVENT
END:VCALENDAR