BEGIN:VCALENDAR
VERSION:2.0
PRODID:-//Oradea - ECPv5.1.1//NONSGML v1.0//EN
CALSCALE:GREGORIAN
METHOD:PUBLISH
X-WR-CALNAME:Oradea
X-ORIGINAL-URL:https://ghidlocal.com/oradea
X-WR-CALDESC:Events for Oradea
BEGIN:VTIMEZONE
TZID:Europe/Bucharest
BEGIN:DAYLIGHT
TZOFFSETFROM:+0200
TZOFFSETTO:+0300
TZNAME:EEST
DTSTART:20190331T010000
END:DAYLIGHT
BEGIN:STANDARD
TZOFFSETFROM:+0300
TZOFFSETTO:+0200
TZNAME:EET
DTSTART:20191027T010000
END:STANDARD
END:VTIMEZONE
BEGIN:VEVENT
DTSTART;TZID=Europe/Bucharest:20190502T180000
DTEND;TZID=Europe/Bucharest:20190502T220000
DTSTAMP:20260424T231754
CREATED:20190503T050736Z
LAST-MODIFIED:20190503T050736Z
UID:25316-1556820000-1556834400@ghidlocal.com
SUMMARY:Trupa West LIVE in Columbus
DESCRIPTION:Pregatiti-va cheful de dans si distractie deoarece vom petrece cu muzica LIVE! Trupa West va canta Joi seara (2 mai) in Columbus incepand cu ora 21:00. \nStilurile muzicale cantate de ei sunt Pop\, Rock\, Blues\, Smooth Jazz\, Disco\, Latino\, Dance\, Alternative\, R&B\, Rock&Roll\, World Music. \nEste momentul potrivit in care poti sa iti iei partenera la dans sau daca nu ai o partenera\, cu siguranta vor fi multe domnisoare disponibile! \nVa asteptam! Intrare Libera. \nPentru rezervari: 0359 800 001 \nhttps://www.facebook.com/events/428989254360761/ \n
URL:https://ghidlocal.com/oradea/eveniment/trupa-west-live-in-columbus-2/
LOCATION:Columbus Cafe Oradea\, Columbus Cafe Oradea
END:VEVENT
END:VCALENDAR