BEGIN:VCALENDAR
VERSION:2.0
PRODID:-//Oradea - ECPv5.1.1//NONSGML v1.0//EN
CALSCALE:GREGORIAN
METHOD:PUBLISH
X-WR-CALNAME:Oradea
X-ORIGINAL-URL:https://ghidlocal.com/oradea
X-WR-CALDESC:Events for Oradea
BEGIN:VTIMEZONE
TZID:Europe/Bucharest
BEGIN:DAYLIGHT
TZOFFSETFROM:+0200
TZOFFSETTO:+0300
TZNAME:EEST
DTSTART:20180325T010000
END:DAYLIGHT
BEGIN:STANDARD
TZOFFSETFROM:+0300
TZOFFSETTO:+0200
TZNAME:EET
DTSTART:20181028T010000
END:STANDARD
END:VTIMEZONE
BEGIN:VEVENT
DTSTART;TZID=Europe/Bucharest:20180526T200000
DTEND;TZID=Europe/Bucharest:20180526T230000
DTSTAMP:20260420T090811
CREATED:20180521T075825Z
LAST-MODIFIED:20180521T075825Z
UID:22267-1527364800-1527375600@ghidlocal.com
SUMMARY:TransNomad - Arhaic Trance Music @Moszkva
DESCRIPTION:TransNomad – Arhaic Trance Music @Moszkva\nTransNomad\narchaic trance music \nRO \nFormația este nouă pe scena muzicală maghiară.\nToți membrii trupei cântă și în alte formații\, cu TransNomad au găsit un glas special al muzicii trans.\nMembrii:\nCsipkés Csongor – violin-transylviolin\nVarga Laró István – bass-NarcoPolo\nBajzát Gergő – modul effect-NarcoPolo\nFasi László – chitară – Ruendez\, NarcoPolo\nBerhidai Sámuel – tobe\nSzendrey József Attila – sintetizator – Tanu Tuva \nhttps://www.facebook.com/transnomadband/?fref=ts\nhttps://www.youtube.com/watch?v=V0DRx6QrAJQ\nhttps://www.youtube.com/watch?v=jTBLB-zyjns \nsupport: 15 lei \nHU \nA zenekar a magyar zenei élet egy újabb színfoltja.\nTagjai különböző formációkból érkezve találták meg a trance egy sajátos megközelítését.\nTagok:\nCsipkés Csongor\, hegedű- transylviolin\nVarga Laró István\, bass-NarcoPolo\nBajzát Gergő\, modulál effektek-NarcoPolo\nFási László\, gitár – saz\,Rudenez\,NarcoPolo\nBerhidai Sámuel\, dob\nSzendrey József Attila\, modulál elektronika\,szinti -Tanu Tuva \nhttps://www.facebook.com/transnomadband/?fref=ts\nhttps://www.youtube.com/watch?v=V0DRx6QrAJQ\nhttps://www.youtube.com/watch?v=jTBLB-zyjns \nsupport: 15 lei \n
URL:https://ghidlocal.com/oradea/eveniment/transnomad-arhaic-trance-music-moszkva/
LOCATION:Moszkva Kávézó\, str. Moscovei no.8\, Oradea\, 410001\, Romania
CATEGORIES:Concerte
ATTACH;FMTTYPE=image/jpeg:https://cdn.cluj.com/ghidlocalcom/sites/2/2018/05/moszkva.jpg
END:VEVENT
END:VCALENDAR