BEGIN:VCALENDAR
VERSION:2.0
PRODID:-//Oradea - ECPv5.1.1//NONSGML v1.0//EN
CALSCALE:GREGORIAN
METHOD:PUBLISH
X-WR-CALNAME:Oradea
X-ORIGINAL-URL:https://ghidlocal.com/oradea
X-WR-CALDESC:Events for Oradea
BEGIN:VTIMEZONE
TZID:Europe/Bucharest
BEGIN:DAYLIGHT
TZOFFSETFROM:+0200
TZOFFSETTO:+0300
TZNAME:EEST
DTSTART:20160327T010000
END:DAYLIGHT
BEGIN:STANDARD
TZOFFSETFROM:+0300
TZOFFSETTO:+0200
TZNAME:EET
DTSTART:20161030T010000
END:STANDARD
END:VTIMEZONE
BEGIN:VEVENT
DTSTART;VALUE=DATE:20160702
DTEND;VALUE=DATE:20160705
DTSTAMP:20260422T200624
CREATED:20160629T075522Z
LAST-MODIFIED:20160629T075726Z
UID:2219-1467421200-1467593999@ghidlocal.com
SUMMARY:Tiroliană și Via Ferrata
DESCRIPTION:Aventura Bihor ne scoapte din nou afară din case și ne cheamă la o tură (sau mai multe) cu tiroliana și pe Via Ferrata!\nWeekendul acesta\, 2 – 3 iulie 2016\, suntem invitați în Defileul Vadu Crișului pentru a ieșit puțin din zona de comfort cu ajutorul a două ingrediente speciale: tiroliana și Via Ferrata. \nPunctul de întâlnire: Peștera de lângă cascada din Vadu Crișului. \n*Pentru mai multe informații\, sunați la: 0741.900.556 \n  \n
URL:https://ghidlocal.com/oradea/eveniment/tiroliana-si-via-ferrata/
LOCATION:Defileul Vadu Crișului\, Munții Pădurea Craiului\, teritoriul administrativ al comunelor Vadu Crișului și Șuncuiuș\, Județul Bihor\, Oradea\, Bihor\, România
CATEGORIES:Sport
ATTACH;FMTTYPE=image/jpeg:https://cdn.cluj.com/ghidlocalcom/sites/2/2016/06/Aventura_Bihor_Tirolian%C4%83_%C8%99i_Via_ferrata.jpg
ORGANIZER;CN="Aventura%20Bihor":MAILTO:tinuseres@yahoo.com
END:VEVENT
END:VCALENDAR