BEGIN:VCALENDAR
VERSION:2.0
PRODID:-//Oradea - ECPv5.1.1//NONSGML v1.0//EN
CALSCALE:GREGORIAN
METHOD:PUBLISH
X-WR-CALNAME:Oradea
X-ORIGINAL-URL:https://ghidlocal.com/oradea
X-WR-CALDESC:Events for Oradea
BEGIN:VTIMEZONE
TZID:Europe/Bucharest
BEGIN:DAYLIGHT
TZOFFSETFROM:+0200
TZOFFSETTO:+0300
TZNAME:EEST
DTSTART:20180325T010000
END:DAYLIGHT
BEGIN:STANDARD
TZOFFSETFROM:+0300
TZOFFSETTO:+0200
TZNAME:EET
DTSTART:20181028T010000
END:STANDARD
END:VTIMEZONE
BEGIN:VEVENT
DTSTART;TZID=Europe/Bucharest:20180825T170000
DTEND;TZID=Europe/Bucharest:20180825T230000
DTSTAMP:20260420T082428
CREATED:20180824T070233Z
LAST-MODIFIED:20180824T070233Z
UID:23379-1535216400-1535238000@ghidlocal.com
SUMMARY:The Pipe on the roof [8]
DESCRIPTION:The Pipe on the roof [8]\nHello friends\,\nThis time we meet again on the 25th\, always a perfect location to enjoy the 8th episode of #ThePipe on the Roof \nTickets now on sale – call ‭(0727) 673 728‬ \n/ Please read carefully!\n– The access to this private event is possible only with pre-acquired invitation which can be bought here:\n– The Pipe (Vasile Alecsandri)\n– Call ‭(0727) 673 728‬\n– This event was created for informational purposes and does not represent any obligation on the organizers’ side. \n/ Pass: 75 ron (includes finger food)\n– The pass will be paid in advance\n– Includes acces to afterparty at #thepipe \n/ Doors open: 16:00\n/ Table booking:\n– minimum consumption 500 ron / table\n– we suggest you arrive by 17:00 in order to keep your table reservation. \n/ Artists:\nGabriel M\nSunsetters DJ \n/ Atention!\nYou will not find tickets at the entrance! Please buy your pass in advance\, we have limited capacity! \n
URL:https://ghidlocal.com/oradea/eveniment/the-pipe-on-the-roof-8-2/
LOCATION:Ramada Oradea\, 9\, Calea Aradului\, Oradea\, 410223\, RO
CATEGORIES:Petrecere
ATTACH;FMTTYPE=image/jpeg:https://cdn.cluj.com/ghidlocalcom/sites/2/2018/08/The-Pipe-on-the-roof-8-1.jpg
END:VEVENT
END:VCALENDAR