BEGIN:VCALENDAR
VERSION:2.0
PRODID:-//Oradea - ECPv5.1.1//NONSGML v1.0//EN
CALSCALE:GREGORIAN
METHOD:PUBLISH
X-WR-CALNAME:Oradea
X-ORIGINAL-URL:https://ghidlocal.com/oradea
X-WR-CALDESC:Events for Oradea
BEGIN:VTIMEZONE
TZID:Europe/Bucharest
BEGIN:DAYLIGHT
TZOFFSETFROM:+0200
TZOFFSETTO:+0300
TZNAME:EEST
DTSTART:20160327T010000
END:DAYLIGHT
BEGIN:STANDARD
TZOFFSETFROM:+0300
TZOFFSETTO:+0200
TZNAME:EET
DTSTART:20161030T010000
END:STANDARD
END:VTIMEZONE
BEGIN:VEVENT
DTSTART;TZID=Europe/Bucharest:20161103T180000
DTEND;TZID=Europe/Bucharest:20161103T200000
DTSTAMP:20260422T234955
CREATED:20161017T095625Z
LAST-MODIFIED:20161018T065412Z
UID:4257-1478196000-1478203200@ghidlocal.com
SUMMARY:Teatru: Copilăria lui Vivaldi
DESCRIPTION:Casa de Cultură a Sindicatelor Oradea este gazda unui spectacol extraordinar la care sunt invitaţi\, atât copiii\, cât şi părinţii lor. Copilăria lui Vivaldi este cel mai frumos spectacol pentru copii al Teatrului Odeon din Bucureşti\, iar pe 3 noiembrie de la ora 18:00\, ÎN PREMIERĂ\, va fi jucat şi la Oradea.\nCei mici vor afla povestea a doi şoricei care au trăit în vioara celebrului compozitor Antonio Vivaldi\, în orga lui Johann Sebastian Bach\, în clavecinul lui Beethoven şi în pianul lui Frederik Chopin. Dornici să călătorească\, Sică şi Rică au intrat pe ascuns într-o valiză şi au ajuns în Italia\, la Veneţia. Apă\, multă apă – imaginea aceasta îi sperie pe cei doi şoricei călători. Teama lor însă dispare ca prin farmec atunci când descoperă că au ajuns într-o casă plină de muzică şi îl cunosc pe micuţul Antonio Vivaldi\, un băieţel simpatic\, cu părul roşu\, un violonist minunat şi un compozitor plin de idei care îi atrage imediat în jocul lui „de-a muzica” explicându-le cum sunetele pot vorbi\, pot povesti şi pot descrie frumuseţile celor patru anotimpuri\, Primăvara\, Vara\, Toamna şi Iarna. O poveste de basm\, care îi va introduce pe cei mici în lumea minunată a muzicii clasice Este un spectacol vesel\, interactiv\, cu muzică și multe momente haioase. \nSpectacolul „Copilăria lui Vivaldi” face parte din Campania naţională „Caravana cu poveşti”\, iniţiată de „Un părinte mai bun” şi este inclus în proiectul educativ „Clasic e fantastic”\, al Teatrului Odeon. \nPreţul unui bilet este de 25 de lei\, iar acestea se pot achiziţiona de la casa de bilele a Casei de Cultură a Sindicatelor Oradea sau online\, pe www.unparintemaibun.ro. \n\n
URL:https://ghidlocal.com/oradea/eveniment/teatru-copilaria-lui-vivaldi/
LOCATION:Casa de Cultură a Sindicatelor Oradea\, Piața 1 Decembrie\, numărul 1\, Oradea\, Bihor\, 410068\, România
CATEGORIES:Teatru
ATTACH;FMTTYPE=image/jpeg:https://cdn.cluj.com/ghidlocalcom/sites/2/2016/10/Spectacol_de_teatru_pentru_copii_Copilaria_lui_Vivaldi_Casa_de_cultura_a_Sindicatelor-1.jpg
ORGANIZER;CN="Teatrul%20Odeon%20Bucure%C8%99ti":MAILTO:odeon.art@teatrul-odeon.ro
END:VEVENT
END:VCALENDAR