BEGIN:VCALENDAR
VERSION:2.0
PRODID:-//Oradea - ECPv5.1.1//NONSGML v1.0//EN
CALSCALE:GREGORIAN
METHOD:PUBLISH
X-WR-CALNAME:Oradea
X-ORIGINAL-URL:https://ghidlocal.com/oradea
X-WR-CALDESC:Events for Oradea
BEGIN:VTIMEZONE
TZID:Europe/Bucharest
BEGIN:DAYLIGHT
TZOFFSETFROM:+0200
TZOFFSETTO:+0300
TZNAME:EEST
DTSTART:20180325T010000
END:DAYLIGHT
BEGIN:STANDARD
TZOFFSETFROM:+0300
TZOFFSETTO:+0200
TZNAME:EET
DTSTART:20181028T010000
END:STANDARD
END:VTIMEZONE
BEGIN:VEVENT
DTSTART;TZID=Europe/Bucharest:20181206T160000
DTEND;TZID=Europe/Bucharest:20181206T200000
DTSTAMP:20260421T141832
CREATED:20181123T033921Z
LAST-MODIFIED:20181123T033921Z
UID:24300-1544112000-1544126400@ghidlocal.com
SUMMARY:Târgul de Crăciun din Oradea 2018
DESCRIPTION:Trăiește bucuria sărbătorilor de iarnă la Târgul de Crăciun din Oradea!? \nÎn perioada 6-31 decembrie\, în Piața Unirii\, ne bucurăm cu mic\, cu mare de magia Crăciunului într-un decor desprins din povești. \nTradițiile\, concertele live și bunătățile culinare\, se vor împleti de minune cu miile de luminițe\, decorațiuni și suveniruri hand-made\, iar bradul magic abia așteaptă să ne cucerească. \nSeara ne vom încâlzi ascultând colinde în jurul căsuțelor din târg\, savurând o cană cu vin fiert sau dulciurile copilăriei\, în timp ce ajutoarele lui Moș Crăciun ne vor purta într-o călătorie magică. \nTe așteptăm la Oradea în cea mai caldă atmosferă de Crăciun!  \nPROGRAMUL GENERAL AL TÂRGULUI DE CRĂCIUN: ?MAREA DESCHIDERE: 6 decembrie ora 18:00;?LUNI – JOI: 14:00-21:00;?VINERI – DUMINICĂ: 12:00-22:00; \nPROGRAM ARTISTIC:?06 DECEMBRIE- ORA 19:00 INNA?07 DECEMBRIE- ORA 19:00 Distinto?08 DECEMBRIE- ORA 19:00 Marius Mihalache & Band?12 DECEMBRIE- ORA 19:00 ANSAMBLUL “ICOANE” – 100 PENTRU ROMÂNIA?13 DECEMBRIE- ORA 19:00 Stefan Hrusca?14 DECEMBRIE- ORA 19:00 Celelalte Cuvinte – CONCERT ANIVERSAR ?15 DECEMBRIE- ORA 19:00 Gospel Touch Gospel Choir (UK)?16 DECEMBRIE- ORA 19:00 Blue Noise – CONCERT A CAPELLA?20 DECEMBRIE- ORA 19:00 Ansamblul Artistic Profesionist Crisana – CONCERT DE COLINDE?22 DECEMBRIE- ORA 19:00 FLORIN ȘTEFAN – CONCERT ARHAIC?08\, 09\, 15\, 16\, 21\, 22 DECEMBRIE: Ansamblul Folcloric Bihorul – Datini și tradiții bihorene de Crăciun și colinde pe ulița „satului”.?31 DECEMBRIE- ORA 23:00 Alessia JJ Gerardi & Fracassoni (IT)?31 DECEMBRIE- ORA 00:00 SPECTACOL DE ARTIFICII \nÎNTÂLNIRI CU MOȘ CRĂCIUN:?06 DECEMBRIE- ORA 19:30 – 22:00 ?07 DECEMBRIE- ORA 18:00 – 21:00 ?08 DECEMBRIE- ORA 17:00 – 21:00?09 DECEMBRIE- ORA 17:00 – 21:00 ?14 DECEMBRIE- ORA 18:00 – 21:00?15 DECEMBRIE- ORA 17:00 – 21:00?16 DECEMBRIE- ORA 17:00 – 21:00?21 DECEMBRIE- ORA 19:30 – 22:00?22 DECEMBRIE- ORA 15:00 – 19:00?23 DECEMBRIE- ORA 16:00 – 19:00–––––––-Eveniment organizat de Asociatia pentru promovarea turismului din Oradea și regiune (Visit Oradea)\, cu sprijinul Primăriei municipiului Oradea.Partener principal: Raiffeisen Bank Romania.Sprijinit de: Andromi. \nhttps://www.facebook.com/events/2212330229091937/ \n
URL:https://ghidlocal.com/oradea/eveniment/targul-de-craciun-din-oradea-2018/
LOCATION:Piața Unirii\, 410065 Oradea\, România\, Piața Unirii\, 410065 Oradea\, România
END:VEVENT
END:VCALENDAR