BEGIN:VCALENDAR
VERSION:2.0
PRODID:-//Oradea - ECPv5.1.1//NONSGML v1.0//EN
CALSCALE:GREGORIAN
METHOD:PUBLISH
X-WR-CALNAME:Oradea
X-ORIGINAL-URL:https://ghidlocal.com/oradea
X-WR-CALDESC:Events for Oradea
BEGIN:VTIMEZONE
TZID:Europe/Bucharest
BEGIN:DAYLIGHT
TZOFFSETFROM:+0200
TZOFFSETTO:+0300
TZNAME:EEST
DTSTART:20180325T010000
END:DAYLIGHT
BEGIN:STANDARD
TZOFFSETFROM:+0300
TZOFFSETTO:+0200
TZNAME:EET
DTSTART:20181028T010000
END:STANDARD
END:VTIMEZONE
BEGIN:VEVENT
DTSTART;TZID=Europe/Bucharest:20180904T100000
DTEND;TZID=Europe/Bucharest:20180904T180000
DTSTAMP:20260421T043247
CREATED:20180903T102207Z
LAST-MODIFIED:20180903T102231Z
UID:23584-1536055200-1536084000@ghidlocal.com
SUMMARY:Targ de haine
DESCRIPTION:Targ de haine \nTârgul de haine este organizat cu scopul strângerii de fonduri pentru Asociația Agape.  \nVom scoate la vânzare haine pentru copii și adulți\, noi și second hand\, import SUA și UK\, produse Bath and Body Works și produse hand made realizate de Beauty from Ashes Boutique. \nTârgul se va desfășura în perioada 1-4 septembrie 2018 după următorul program:\nMarți(3-4 septembrie): 10:00-18:00 \n
URL:https://ghidlocal.com/oradea/eveniment/targ-de-haine/
LOCATION:Asociatia Agape Boutique
CATEGORIES:Targ
ATTACH;FMTTYPE=image/jpeg:https://cdn.cluj.com/ghidlocalcom/sites/2/2018/09/Targ-de-haine.jpg
END:VEVENT
END:VCALENDAR