BEGIN:VCALENDAR
VERSION:2.0
PRODID:-//Oradea - ECPv5.1.1//NONSGML v1.0//EN
CALSCALE:GREGORIAN
METHOD:PUBLISH
X-WR-CALNAME:Oradea
X-ORIGINAL-URL:https://ghidlocal.com/oradea
X-WR-CALDESC:Events for Oradea
BEGIN:VTIMEZONE
TZID:Europe/Bucharest
BEGIN:DAYLIGHT
TZOFFSETFROM:+0200
TZOFFSETTO:+0300
TZNAME:EEST
DTSTART:20180325T010000
END:DAYLIGHT
BEGIN:STANDARD
TZOFFSETFROM:+0300
TZOFFSETTO:+0200
TZNAME:EET
DTSTART:20181028T010000
END:STANDARD
END:VTIMEZONE
BEGIN:VEVENT
DTSTART;TZID=Europe/Bucharest:20180728T120000
DTEND;TZID=Europe/Bucharest:20180729T120000
DTSTAMP:20260421T100032
CREATED:20180724T134855Z
LAST-MODIFIED:20180726T131619Z
UID:22653-1532779200-1532865600@ghidlocal.com
SUMMARY:Sunsets by the Lake
DESCRIPTION:❌ Sunsets by the Lake ❌ #weareSunsets\nIn pasi de dans ne adunam pentru a mai prinde un apus impreuna…Si daca e apus\, musai sa fie si rasarit\, pe ritmuri de Deep & Tech House\, vibe pozitiv si multa iubire..\nSunsets se intoarce mai mare\, mai increzator\, mai frumos… acompaniat de un apus de poveste\, o locatie de exceptie si un public de milioane. \n❌ 28-29 July ❌ KingsLand Country Club\, Bihor ❌ Picnic Bistro \n? Let’s make something beautiful together… ? \n➡ 24H of non-stop music\, sun and fun ⬅ \n⏯ The Dj’s ?? \n? Alin Dragan\n? Gabriel M\n? Sunsetters DJ\n? Tendix \nDrinks: TABU Social Bar Events ??\nFood: Picnic Bistro ?? \nChill zone & lake view\, boat trips\, plane trips ⛺?\nDirections: Search Google Maps or Waze for Sunsets by the Lake or Picnic Bistro \n? Tickets : 25 RON ( at entrace ) \nPlease do not bring any food or drinks.\nUse the available garbage bins\, respect the nature.\nParking inside the event is limited to approx. 50 cars.\nNights can be colder\, bring some warmer clothing.\nTaxi Oradea – Kings Land approx 30 RON. \nWe reserve the right to select our costumers ? !!! \n
URL:https://ghidlocal.com/oradea/eveniment/sunsets-by-the-lake/
LOCATION:Picnic Bistro\, Ineu 1A\, 417295 Ineu\, Bihor
CATEGORIES:Concerte,Divertisment
ATTACH;FMTTYPE=image/jpeg:https://cdn.cluj.com/ghidlocalcom/sites/2/2018/07/Sunsets-by-the-Lake-%E2%80%93-Let%E2%80%99s-make-something-beautiful-together%E2%80%A6-1.jpg
END:VEVENT
END:VCALENDAR