BEGIN:VCALENDAR
VERSION:2.0
PRODID:-//Oradea - ECPv5.1.1//NONSGML v1.0//EN
CALSCALE:GREGORIAN
METHOD:PUBLISH
X-WR-CALNAME:Oradea
X-ORIGINAL-URL:https://ghidlocal.com/oradea
X-WR-CALDESC:Events for Oradea
BEGIN:VTIMEZONE
TZID:Europe/Bucharest
BEGIN:DAYLIGHT
TZOFFSETFROM:+0200
TZOFFSETTO:+0300
TZNAME:EEST
DTSTART:20180325T010000
END:DAYLIGHT
BEGIN:STANDARD
TZOFFSETFROM:+0300
TZOFFSETTO:+0200
TZNAME:EET
DTSTART:20181028T010000
END:STANDARD
END:VTIMEZONE
BEGIN:VEVENT
DTSTART;TZID=Europe/Bucharest:20180906T180000
DTEND;TZID=Europe/Bucharest:20180908T200000
DTSTAMP:20260423T144254
CREATED:20180904T081421Z
LAST-MODIFIED:20180904T081421Z
UID:23602-1536256800-1536436800@ghidlocal.com
SUMMARY:Sună clopoțelul la distracție la Lotus Center!
DESCRIPTION:Sună clopoțelul la distracție la Lotus Center!\n  \nÎncepe școala\, iar la Lotus Center „Sună clopoțelul la distracție!” pentru cei mici!?❤ \n?⏰Pentru perioada 6-8 septembrie orarul este deja pregătit\, iar băncuțele sunt aranjate în zona Pellini Top-Violet: \n✏În 6 septembrie\, începând cu ora 18:00\, ne vom delecta cu “Kids Fashion Show”\, o prezentare de modă pentru copii în cadrul căreia veți putea vedea cele mai noi colecții vestimentare pentru cei mici\, precum și noile tendințe în materie de accesorii pentru școală.\n✏În după-amiaza de 7 septembrie\, tot de la ora 18:00\, îi invităm pe cei mici la atelierul de dezvoltare social-emoțională “Cu emoțiile în ghiozdan“ împreună cu psiholog Ramona Popa. Atelierul se adresează copiilor cu vârsta cuprinsă între 7-12 ani. Înscrierile se fac la: 0728 992 490. Locurile sunt limitate.\n✏În 8 septembrie\, Lotus Center se transformă într-un tărâm al poveștilor și vă așteaptă la spectacolul de teatru „Jack și Vrejul de Fasole”\, care va avea loc începând cu ora 18:00. \nVă așteptăm în toate cele trei zile cu voie bună\, premii și muuulte surprize\, pentru un nou an școlar vesel și rodnic.?? \n
URL:https://ghidlocal.com/oradea/eveniment/suna-clopotelul-la-distractie-la-lotus-center/
LOCATION:Lotus Center\, Strada Nufărului\, numărul 30\, Oradea\, Bihor\, România
CATEGORIES:Activitati pentru copii
ATTACH;FMTTYPE=image/jpeg:https://cdn.cluj.com/ghidlocalcom/sites/2/2018/09/Sun%C4%83-clopo%C8%9Belul-la-distrac%C8%9Bie-la-Lotus-Center.jpg
END:VEVENT
END:VCALENDAR