BEGIN:VCALENDAR
VERSION:2.0
PRODID:-//Oradea - ECPv5.1.1//NONSGML v1.0//EN
CALSCALE:GREGORIAN
METHOD:PUBLISH
X-WR-CALNAME:Oradea
X-ORIGINAL-URL:https://ghidlocal.com/oradea
X-WR-CALDESC:Events for Oradea
BEGIN:VTIMEZONE
TZID:Europe/Bucharest
BEGIN:DAYLIGHT
TZOFFSETFROM:+0200
TZOFFSETTO:+0300
TZNAME:EEST
DTSTART:20160327T010000
END:DAYLIGHT
BEGIN:STANDARD
TZOFFSETFROM:+0300
TZOFFSETTO:+0200
TZNAME:EET
DTSTART:20161030T010000
END:STANDARD
END:VTIMEZONE
BEGIN:VEVENT
DTSTART;TZID=Europe/Bucharest:20160619T170000
DTEND;TZID=Europe/Bucharest:20160619T200000
DTSTAMP:20260420T104812
CREATED:20160615T043151Z
LAST-MODIFIED:20160615T051838Z
UID:1769-1466355600-1466366400@ghidlocal.com
SUMMARY:SPUMA Party la Hotel Internațional
DESCRIPTION:„Vino să te distrezi cât pentru o vară întreagă” la SPUMA Party.\nDuminică\, 19 iunie 2016\, Hotel Internațional organizează SPUMA Party. De asemenea\, pe lângă mulți „norișori” albi cei prezenți vor avea parte și de dans pe ritmurile unui DJ. \n  \n  \n  \n  \n
URL:https://ghidlocal.com/oradea/eveniment/spuma-party-la-hotel-international/
LOCATION:Hotel Internațional\, Str. Victoria\, nr. 22\, Băile Felix\, Oradea\, Bihor\, 417500\, România
CATEGORIES:Divertisment
ATTACH;FMTTYPE=image/jpeg:https://cdn.cluj.com/ghidlocalcom/sites/2/2016/06/Spuma_party_Hotel_Interna%C8%9Bional_Oradea.jpg
ORGANIZER;CN="Sc%20Turism%20Felix%20Sa":MAILTO:http://www.felixspa.com
END:VEVENT
END:VCALENDAR