BEGIN:VCALENDAR
VERSION:2.0
PRODID:-//Oradea - ECPv5.1.1//NONSGML v1.0//EN
CALSCALE:GREGORIAN
METHOD:PUBLISH
X-WR-CALNAME:Oradea
X-ORIGINAL-URL:https://ghidlocal.com/oradea
X-WR-CALDESC:Events for Oradea
BEGIN:VTIMEZONE
TZID:Europe/Bucharest
BEGIN:DAYLIGHT
TZOFFSETFROM:+0200
TZOFFSETTO:+0300
TZNAME:EEST
DTSTART:20170326T010000
END:DAYLIGHT
BEGIN:STANDARD
TZOFFSETFROM:+0300
TZOFFSETTO:+0200
TZNAME:EET
DTSTART:20171029T010000
END:STANDARD
END:VTIMEZONE
BEGIN:VEVENT
DTSTART;TZID=Europe/Bucharest:20170326T150000
DTEND;TZID=Europe/Bucharest:20170326T150000
DTSTAMP:20260424T084621
CREATED:20170326T201832Z
LAST-MODIFIED:20170326T201909Z
UID:8701-1490540400-1490540400@ghidlocal.com
SUMMARY:Spring Up! The art war continues...
DESCRIPTION:Îți era dor de evenimentele culturale orădene? Vrei să te exprimi din nou într-un mod creativ? Îți dorești să ai parte de momente inedite care îți promovează talentul? Ei bine\, clubul caritabil Leo Black Eagle Oradea știe exact de ce ai nevoie! Cu ocazia anotimpului renașterii\, am decis că trebuie să oragnizăm o nouă ediție ART UP\, de această dată cu tema PRIMĂVERII\, intitulându-se SPRING UP: The art war contiunes…\nVino să arăți ce poți\, nouă și juriului care va evalua lucrările\, la acest eveniment inedit\, în colaborare cu Moszkva Cafe\, DUMINICĂ\, 26 martie\, orele depinzând de categoria la care te înscrii. Exact! Din nou avem mai multe categorii\, la care poți participa trimițând un simplu SMS. Nu ezita\, te așteptăm pe tine și pe prietenii tăi\, în număr cât mai mare! \nCategorii: \nPICTURĂ \nhttps://m.facebook.com/events/2261462847413008 \nDESIGN VESTIMENTAR \nhttps://m.facebook.com/events/342764872787910?acontext=%7B%22ref%22%3A%223%22%2C%22action_history%22%3A%22null%22%7D&aref=3 \nCREAȚIE LITERARĂ \n https://m.facebook.com/events/401815193524298?acontext=%7B%22ref%22%3A%22104%22%2C%22action_history%22%3A%22null%22%7D&aref=104 \nFOTOGRAFIE \nhttps://m.facebook.com/events/1862185720717141?acontext=%7B%22ref%22%3A%22104%22%2C%22action_history%22%3A%22null%22%7D&aref=104 \nMulțumim sponsorilor: Crazy Donuts\, Moszkva Kavezo \, TehnoPrint\, West Market Distribution\, Due Fratelli\n*Se va percepe taxă de participare la concurs! Banii strânși în urma acestui eveniment vor fi utilizați în scopul ajutorului persoanelor defavorizate. \n
URL:https://ghidlocal.com/oradea/eveniment/spring-up-the-art-war-continues/
LOCATION:Moszkva Kávézó\, str. Moscovei no.8\, Oradea\, 410001\, Romania
ATTACH;FMTTYPE=image/jpeg:https://cdn.cluj.com/ghidlocalcom/sites/2/2017/03/ac6f409dee978009680b14c2e3ee9477.jpg
ORGANIZER;CN="LEO%20Black%20Eagle%20Oradea":MAILTO:leo.black_eagles@yahoo.com
END:VEVENT
END:VCALENDAR