BEGIN:VCALENDAR
VERSION:2.0
PRODID:-//Oradea - ECPv5.1.1//NONSGML v1.0//EN
CALSCALE:GREGORIAN
METHOD:PUBLISH
X-WR-CALNAME:Oradea
X-ORIGINAL-URL:https://ghidlocal.com/oradea
X-WR-CALDESC:Events for Oradea
BEGIN:VTIMEZONE
TZID:Europe/Bucharest
BEGIN:DAYLIGHT
TZOFFSETFROM:+0200
TZOFFSETTO:+0300
TZNAME:EEST
DTSTART:20170326T010000
END:DAYLIGHT
BEGIN:STANDARD
TZOFFSETFROM:+0300
TZOFFSETTO:+0200
TZNAME:EET
DTSTART:20171029T010000
END:STANDARD
END:VTIMEZONE
BEGIN:VEVENT
DTSTART;TZID=Europe/Bucharest:20170326T050000
DTEND;TZID=Europe/Bucharest:20170326T050000
DTSTAMP:20260422T005412
CREATED:20170326T201907Z
LAST-MODIFIED:20170326T201907Z
UID:8713-1490504400-1490504400@ghidlocal.com
SUMMARY:Spring Up! - Pictură
DESCRIPTION:PICTURĂ:\n– Înscrierea se face prin SMS la numărul de telefon 0742 309 851 cu textul “Pictură” + numele și prenumele participantului\n– Concurenții sunt rugați să se prezinte în intervalul orar 14.30-15.00\, 26 martie\, Moszkva Cafe\n– Concurenții iși pot aduce de acasă propriile materiale (pensule\,acuarele etc.) de care au nevoie.\n– Taxă de participare: 15 LEI\n** Noi vă vom pune la dispoziție anumite ustensile\, însă este permisă utilizarea propriilor materiale\, în funcție de preferințe și plăceri. \n
URL:https://ghidlocal.com/oradea/eveniment/spring-up-pictura/
LOCATION:Moszkva Kávézó\, str. Moscovei no.8\, Oradea\, 410001\, Romania
ATTACH;FMTTYPE=image/jpeg:https://cdn.cluj.com/ghidlocalcom/sites/2/2017/03/924cab3b9c9b72b4194493044718dc6a.jpg
ORGANIZER;CN="LEO%20Black%20Eagle%20Oradea":MAILTO:leo.black_eagles@yahoo.com
END:VEVENT
END:VCALENDAR