BEGIN:VCALENDAR
VERSION:2.0
PRODID:-//Oradea - ECPv5.1.1//NONSGML v1.0//EN
CALSCALE:GREGORIAN
METHOD:PUBLISH
X-WR-CALNAME:Oradea
X-ORIGINAL-URL:https://ghidlocal.com/oradea
X-WR-CALDESC:Events for Oradea
BEGIN:VTIMEZONE
TZID:Europe/Bucharest
BEGIN:DAYLIGHT
TZOFFSETFROM:+0200
TZOFFSETTO:+0300
TZNAME:EEST
DTSTART:20190331T010000
END:DAYLIGHT
BEGIN:STANDARD
TZOFFSETFROM:+0300
TZOFFSETTO:+0200
TZNAME:EET
DTSTART:20191027T010000
END:STANDARD
END:VTIMEZONE
BEGIN:VEVENT
DTSTART;TZID=Europe/Bucharest:20190124T160000
DTEND;TZID=Europe/Bucharest:20190124T173000
DTSTAMP:20260424T131744
CREATED:20190124T135645Z
LAST-MODIFIED:20190124T140713Z
UID:24325-1548345600-1548351000@ghidlocal.com
SUMMARY:Spiritualitatea trăită zi de zi - Seara de meditatie - 24 ian
DESCRIPTION:Vă invităm să participați la un ciclu de seri deschise de meditație\, urmate de discuții libere pe teme spirituale\, având următorul program: \n24.01 2019  joi  ora 18.00       Spiritualitatea trăită zi de zi07.02.2019  joi  ora 18.00       Cine sunt eu?21.02.2019  joi  ora 18.00       Glasul liniștii\, vocea maestrului interior07.03.2019  joi  ora 18.00       Vesmântul de lumină21.03.2019  joi  ora 18.00       Nunta alchimică \nLocația:  Oradea\, Strada Ady Endre nr. 19  ap 4 \nCentrul Școlii Rozacrucii de Aur \nIntrarea liberă! \nOrice timp petrecut  împreună\, într-un câmp astral pur\, în orientare unidirecționată către Lumină\,\, este un dar de suflet\, pentru noi înșine și pentru semenii noștri in procesul realizării Sinelui \nhttps://www.facebook.com/events/580744522338539/ \n
URL:https://ghidlocal.com/oradea/eveniment/spiritualitatea-traita-zi-de-zi-seara-de-meditatie-24-ian/
LOCATION:Oradea\, Str. Ady Endre\, Nr.19\, Oradea\, Str. Ady Endre\, Nr.19
CATEGORIES:Conferinte
ATTACH;FMTTYPE=image/jpeg:https://cdn.cluj.com/ghidlocalcom/sites/2/2019/01/Spiritualitatea-tra%CC%86ita%CC%86-zi-de-zi-Seara-de-meditatie-24-ian.jpg
END:VEVENT
END:VCALENDAR